BEGIN:VCALENDAR
VERSION:2.0
PRODID:-//Rosinka - ECPv6.15.20//NONSGML v1.0//EN
CALSCALE:GREGORIAN
METHOD:PUBLISH
X-ORIGINAL-URL:https://www.rosinka.at
X-WR-CALDESC:Мероприятия для Rosinka
REFRESH-INTERVAL;VALUE=DURATION:PT1H
X-Robots-Tag:noindex
X-PUBLISHED-TTL:PT1H
BEGIN:VTIMEZONE
TZID:Europe/Vienna
BEGIN:DAYLIGHT
TZOFFSETFROM:+0100
TZOFFSETTO:+0200
TZNAME:CEST
DTSTART:20250330T010000
END:DAYLIGHT
BEGIN:STANDARD
TZOFFSETFROM:+0200
TZOFFSETTO:+0100
TZNAME:CET
DTSTART:20251026T010000
END:STANDARD
BEGIN:DAYLIGHT
TZOFFSETFROM:+0100
TZOFFSETTO:+0200
TZNAME:CEST
DTSTART:20260329T010000
END:DAYLIGHT
BEGIN:STANDARD
TZOFFSETFROM:+0200
TZOFFSETTO:+0100
TZNAME:CET
DTSTART:20261025T010000
END:STANDARD
BEGIN:DAYLIGHT
TZOFFSETFROM:+0100
TZOFFSETTO:+0200
TZNAME:CEST
DTSTART:20270328T010000
END:DAYLIGHT
BEGIN:STANDARD
TZOFFSETFROM:+0200
TZOFFSETTO:+0100
TZNAME:CET
DTSTART:20271031T010000
END:STANDARD
END:VTIMEZONE
BEGIN:VEVENT
DTSTART;TZID=Europe/Vienna:20260422T164500
DTEND;TZID=Europe/Vienna:20260422T181500
DTSTAMP:20260419T155224
CREATED:20260222T165656Z
LAST-MODIFIED:20260222T165656Z
UID:11919-1776876300-1776881700@www.rosinka.at
SUMMARY:БУКВОЕЖКИ (10-11)
DESCRIPTION:
URL:https://www.rosinka.at/event/%d0%b1%d1%83%d0%ba%d0%b2%d0%be%d0%b5%d0%b6%d0%ba%d0%b8-10-11-2/2026-04-22/
END:VEVENT
BEGIN:VEVENT
DTSTART;TZID=Europe/Vienna:20260429T164500
DTEND;TZID=Europe/Vienna:20260429T181500
DTSTAMP:20260419T155224
CREATED:20260222T165656Z
LAST-MODIFIED:20260222T165656Z
UID:11920-1777481100-1777486500@www.rosinka.at
SUMMARY:БУКВОЕЖКИ (10-11)
DESCRIPTION:
URL:https://www.rosinka.at/event/%d0%b1%d1%83%d0%ba%d0%b2%d0%be%d0%b5%d0%b6%d0%ba%d0%b8-10-11-2/2026-04-29/
END:VEVENT
BEGIN:VEVENT
DTSTART;TZID=Europe/Vienna:20260506T164500
DTEND;TZID=Europe/Vienna:20260506T181500
DTSTAMP:20260419T155224
CREATED:20260222T165656Z
LAST-MODIFIED:20260222T165656Z
UID:11921-1778085900-1778091300@www.rosinka.at
SUMMARY:БУКВОЕЖКИ (10-11)
DESCRIPTION:
URL:https://www.rosinka.at/event/%d0%b1%d1%83%d0%ba%d0%b2%d0%be%d0%b5%d0%b6%d0%ba%d0%b8-10-11-2/2026-05-06/
END:VEVENT
BEGIN:VEVENT
DTSTART;TZID=Europe/Vienna:20260513T164500
DTEND;TZID=Europe/Vienna:20260513T181500
DTSTAMP:20260419T155224
CREATED:20260222T165656Z
LAST-MODIFIED:20260222T165656Z
UID:11922-1778690700-1778696100@www.rosinka.at
SUMMARY:БУКВОЕЖКИ (10-11)
DESCRIPTION:
URL:https://www.rosinka.at/event/%d0%b1%d1%83%d0%ba%d0%b2%d0%be%d0%b5%d0%b6%d0%ba%d0%b8-10-11-2/2026-05-13/
END:VEVENT
BEGIN:VEVENT
DTSTART;TZID=Europe/Vienna:20260520T164500
DTEND;TZID=Europe/Vienna:20260520T181500
DTSTAMP:20260419T155224
CREATED:20260222T165656Z
LAST-MODIFIED:20260222T165656Z
UID:11924-1779295500-1779300900@www.rosinka.at
SUMMARY:БУКВОЕЖКИ (10-11)
DESCRIPTION:
URL:https://www.rosinka.at/event/%d0%b1%d1%83%d0%ba%d0%b2%d0%be%d0%b5%d0%b6%d0%ba%d0%b8-10-11-2/2026-05-20/
END:VEVENT
BEGIN:VEVENT
DTSTART;TZID=Europe/Vienna:20260527T164500
DTEND;TZID=Europe/Vienna:20260527T181500
DTSTAMP:20260419T155224
CREATED:20260222T165656Z
LAST-MODIFIED:20260222T165656Z
UID:11925-1779900300-1779905700@www.rosinka.at
SUMMARY:БУКВОЕЖКИ (10-11)
DESCRIPTION:
URL:https://www.rosinka.at/event/%d0%b1%d1%83%d0%ba%d0%b2%d0%be%d0%b5%d0%b6%d0%ba%d0%b8-10-11-2/2026-05-27/
END:VEVENT
BEGIN:VEVENT
DTSTART;TZID=Europe/Vienna:20260603T164500
DTEND;TZID=Europe/Vienna:20260603T181500
DTSTAMP:20260419T155224
CREATED:20260222T165656Z
LAST-MODIFIED:20260222T165656Z
UID:11926-1780505100-1780510500@www.rosinka.at
SUMMARY:БУКВОЕЖКИ (10-11)
DESCRIPTION:
URL:https://www.rosinka.at/event/%d0%b1%d1%83%d0%ba%d0%b2%d0%be%d0%b5%d0%b6%d0%ba%d0%b8-10-11-2/2026-06-03/
END:VEVENT
BEGIN:VEVENT
DTSTART;TZID=Europe/Vienna:20260610T164500
DTEND;TZID=Europe/Vienna:20260610T181500
DTSTAMP:20260419T155224
CREATED:20260222T165656Z
LAST-MODIFIED:20260222T165656Z
UID:11927-1781109900-1781115300@www.rosinka.at
SUMMARY:БУКВОЕЖКИ (10-11)
DESCRIPTION:
URL:https://www.rosinka.at/event/%d0%b1%d1%83%d0%ba%d0%b2%d0%be%d0%b5%d0%b6%d0%ba%d0%b8-10-11-2/2026-06-10/
END:VEVENT
BEGIN:VEVENT
DTSTART;TZID=Europe/Vienna:20260617T164500
DTEND;TZID=Europe/Vienna:20260617T181500
DTSTAMP:20260419T155224
CREATED:20260222T165656Z
LAST-MODIFIED:20260222T165656Z
UID:11928-1781714700-1781720100@www.rosinka.at
SUMMARY:БУКВОЕЖКИ (10-11)
DESCRIPTION:
URL:https://www.rosinka.at/event/%d0%b1%d1%83%d0%ba%d0%b2%d0%be%d0%b5%d0%b6%d0%ba%d0%b8-10-11-2/2026-06-17/
END:VEVENT
BEGIN:VEVENT
DTSTART;TZID=Europe/Vienna:20260624T164500
DTEND;TZID=Europe/Vienna:20260624T181500
DTSTAMP:20260419T155224
CREATED:20260222T165656Z
LAST-MODIFIED:20260222T165656Z
UID:11929-1782319500-1782324900@www.rosinka.at
SUMMARY:БУКВОЕЖКИ (10-11)
DESCRIPTION:
URL:https://www.rosinka.at/event/%d0%b1%d1%83%d0%ba%d0%b2%d0%be%d0%b5%d0%b6%d0%ba%d0%b8-10-11-2/2026-06-24/
END:VEVENT
BEGIN:VEVENT
DTSTART;TZID=Europe/Vienna:20260701T164500
DTEND;TZID=Europe/Vienna:20260701T181500
DTSTAMP:20260419T155224
CREATED:20260222T165656Z
LAST-MODIFIED:20260222T165656Z
UID:11930-1782924300-1782929700@www.rosinka.at
SUMMARY:БУКВОЕЖКИ (10-11)
DESCRIPTION:
URL:https://www.rosinka.at/event/%d0%b1%d1%83%d0%ba%d0%b2%d0%be%d0%b5%d0%b6%d0%ba%d0%b8-10-11-2/2026-07-01/
END:VEVENT
END:VCALENDAR