BEGIN:VCALENDAR
VERSION:2.0
PRODID:-//Rosinka - ECPv6.15.20//NONSGML v1.0//EN
CALSCALE:GREGORIAN
METHOD:PUBLISH
X-ORIGINAL-URL:https://www.rosinka.at
X-WR-CALDESC:Мероприятия для Rosinka
REFRESH-INTERVAL;VALUE=DURATION:PT1H
X-Robots-Tag:noindex
X-PUBLISHED-TTL:PT1H
BEGIN:VTIMEZONE
TZID:Europe/Vienna
BEGIN:DAYLIGHT
TZOFFSETFROM:+0100
TZOFFSETTO:+0200
TZNAME:CEST
DTSTART:20240331T010000
END:DAYLIGHT
BEGIN:STANDARD
TZOFFSETFROM:+0200
TZOFFSETTO:+0100
TZNAME:CET
DTSTART:20241027T010000
END:STANDARD
BEGIN:DAYLIGHT
TZOFFSETFROM:+0100
TZOFFSETTO:+0200
TZNAME:CEST
DTSTART:20250330T010000
END:DAYLIGHT
BEGIN:STANDARD
TZOFFSETFROM:+0200
TZOFFSETTO:+0100
TZNAME:CET
DTSTART:20251026T010000
END:STANDARD
BEGIN:DAYLIGHT
TZOFFSETFROM:+0100
TZOFFSETTO:+0200
TZNAME:CEST
DTSTART:20260329T010000
END:DAYLIGHT
BEGIN:STANDARD
TZOFFSETFROM:+0200
TZOFFSETTO:+0100
TZNAME:CET
DTSTART:20261025T010000
END:STANDARD
BEGIN:DAYLIGHT
TZOFFSETFROM:+0100
TZOFFSETTO:+0200
TZNAME:CEST
DTSTART:20270328T010000
END:DAYLIGHT
BEGIN:STANDARD
TZOFFSETFROM:+0200
TZOFFSETTO:+0100
TZNAME:CET
DTSTART:20271031T010000
END:STANDARD
END:VTIMEZONE
BEGIN:VEVENT
DTSTART;TZID=Europe/Vienna:20260204T164500
DTEND;TZID=Europe/Vienna:20260204T181500
DTSTAMP:20260419T155331
CREATED:20250914T103353Z
LAST-MODIFIED:20250914T103353Z
UID:11420-1770223500-1770228900@www.rosinka.at
SUMMARY:БУКВОЕЖКИ (10-11)
DESCRIPTION:
URL:https://www.rosinka.at/event/%d0%b1%d1%83%d0%ba%d0%b2%d0%be%d0%b5%d0%b6%d0%ba%d0%b8-10-11/2026-02-04/
END:VEVENT
BEGIN:VEVENT
DTSTART;TZID=Europe/Vienna:20260128T164500
DTEND;TZID=Europe/Vienna:20260128T181500
DTSTAMP:20260419T155331
CREATED:20250914T103353Z
LAST-MODIFIED:20250914T103353Z
UID:11419-1769618700-1769624100@www.rosinka.at
SUMMARY:БУКВОЕЖКИ (10-11)
DESCRIPTION:
URL:https://www.rosinka.at/event/%d0%b1%d1%83%d0%ba%d0%b2%d0%be%d0%b5%d0%b6%d0%ba%d0%b8-10-11/2026-01-28/
END:VEVENT
BEGIN:VEVENT
DTSTART;TZID=Europe/Vienna:20260121T164500
DTEND;TZID=Europe/Vienna:20260121T181500
DTSTAMP:20260419T155332
CREATED:20250914T103353Z
LAST-MODIFIED:20250914T103353Z
UID:11418-1769013900-1769019300@www.rosinka.at
SUMMARY:БУКВОЕЖКИ (10-11)
DESCRIPTION:
URL:https://www.rosinka.at/event/%d0%b1%d1%83%d0%ba%d0%b2%d0%be%d0%b5%d0%b6%d0%ba%d0%b8-10-11/2026-01-21/
END:VEVENT
BEGIN:VEVENT
DTSTART;TZID=Europe/Vienna:20260114T164500
DTEND;TZID=Europe/Vienna:20260114T181500
DTSTAMP:20260419T155332
CREATED:20250914T103353Z
LAST-MODIFIED:20250914T103353Z
UID:11417-1768409100-1768414500@www.rosinka.at
SUMMARY:БУКВОЕЖКИ (10-11)
DESCRIPTION:
URL:https://www.rosinka.at/event/%d0%b1%d1%83%d0%ba%d0%b2%d0%be%d0%b5%d0%b6%d0%ba%d0%b8-10-11/2026-01-14/
END:VEVENT
BEGIN:VEVENT
DTSTART;TZID=Europe/Vienna:20260107T164500
DTEND;TZID=Europe/Vienna:20260107T181500
DTSTAMP:20260419T155332
CREATED:20250914T103353Z
LAST-MODIFIED:20250914T103353Z
UID:11416-1767804300-1767809700@www.rosinka.at
SUMMARY:БУКВОЕЖКИ (10-11)
DESCRIPTION:
URL:https://www.rosinka.at/event/%d0%b1%d1%83%d0%ba%d0%b2%d0%be%d0%b5%d0%b6%d0%ba%d0%b8-10-11/2026-01-07/
END:VEVENT
BEGIN:VEVENT
DTSTART;TZID=Europe/Vienna:20251217T164500
DTEND;TZID=Europe/Vienna:20251217T181500
DTSTAMP:20260419T155332
CREATED:20250914T103353Z
LAST-MODIFIED:20250914T103353Z
UID:11415-1765989900-1765995300@www.rosinka.at
SUMMARY:БУКВОЕЖКИ (10-11)
DESCRIPTION:
URL:https://www.rosinka.at/event/%d0%b1%d1%83%d0%ba%d0%b2%d0%be%d0%b5%d0%b6%d0%ba%d0%b8-10-11/2025-12-17/
END:VEVENT
BEGIN:VEVENT
DTSTART;TZID=Europe/Vienna:20251210T164500
DTEND;TZID=Europe/Vienna:20251210T181500
DTSTAMP:20260419T155332
CREATED:20250914T103353Z
LAST-MODIFIED:20250914T103353Z
UID:11413-1765385100-1765390500@www.rosinka.at
SUMMARY:БУКВОЕЖКИ (10-11)
DESCRIPTION:
URL:https://www.rosinka.at/event/%d0%b1%d1%83%d0%ba%d0%b2%d0%be%d0%b5%d0%b6%d0%ba%d0%b8-10-11/2025-12-10/
END:VEVENT
BEGIN:VEVENT
DTSTART;TZID=Europe/Vienna:20251203T164500
DTEND;TZID=Europe/Vienna:20251203T181500
DTSTAMP:20260419T155332
CREATED:20250914T103353Z
LAST-MODIFIED:20250914T103353Z
UID:11412-1764780300-1764785700@www.rosinka.at
SUMMARY:БУКВОЕЖКИ (10-11)
DESCRIPTION:
URL:https://www.rosinka.at/event/%d0%b1%d1%83%d0%ba%d0%b2%d0%be%d0%b5%d0%b6%d0%ba%d0%b8-10-11/2025-12-03/
END:VEVENT
BEGIN:VEVENT
DTSTART;TZID=Europe/Vienna:20251126T164500
DTEND;TZID=Europe/Vienna:20251126T181500
DTSTAMP:20260419T155332
CREATED:20250914T103353Z
LAST-MODIFIED:20250914T103353Z
UID:11411-1764175500-1764180900@www.rosinka.at
SUMMARY:БУКВОЕЖКИ (10-11)
DESCRIPTION:
URL:https://www.rosinka.at/event/%d0%b1%d1%83%d0%ba%d0%b2%d0%be%d0%b5%d0%b6%d0%ba%d0%b8-10-11/2025-11-26/
END:VEVENT
BEGIN:VEVENT
DTSTART;TZID=Europe/Vienna:20251119T164500
DTEND;TZID=Europe/Vienna:20251119T181500
DTSTAMP:20260419T155332
CREATED:20250914T103353Z
LAST-MODIFIED:20250914T103353Z
UID:11410-1763570700-1763576100@www.rosinka.at
SUMMARY:БУКВОЕЖКИ (10-11)
DESCRIPTION:
URL:https://www.rosinka.at/event/%d0%b1%d1%83%d0%ba%d0%b2%d0%be%d0%b5%d0%b6%d0%ba%d0%b8-10-11/2025-11-19/
END:VEVENT
BEGIN:VEVENT
DTSTART;TZID=Europe/Vienna:20251112T164500
DTEND;TZID=Europe/Vienna:20251112T181500
DTSTAMP:20260419T155332
CREATED:20250914T103353Z
LAST-MODIFIED:20250914T103353Z
UID:11409-1762965900-1762971300@www.rosinka.at
SUMMARY:БУКВОЕЖКИ (10-11)
DESCRIPTION:
URL:https://www.rosinka.at/event/%d0%b1%d1%83%d0%ba%d0%b2%d0%be%d0%b5%d0%b6%d0%ba%d0%b8-10-11/2025-11-12/
END:VEVENT
BEGIN:VEVENT
DTSTART;TZID=Europe/Vienna:20251022T164500
DTEND;TZID=Europe/Vienna:20251022T181500
DTSTAMP:20260419T155332
CREATED:20250914T103353Z
LAST-MODIFIED:20250914T103353Z
UID:11408-1761151500-1761156900@www.rosinka.at
SUMMARY:БУКВОЕЖКИ (10-11)
DESCRIPTION:
URL:https://www.rosinka.at/event/%d0%b1%d1%83%d0%ba%d0%b2%d0%be%d0%b5%d0%b6%d0%ba%d0%b8-10-11/2025-10-22/
END:VEVENT
BEGIN:VEVENT
DTSTART;TZID=Europe/Vienna:20251015T164500
DTEND;TZID=Europe/Vienna:20251015T181500
DTSTAMP:20260419T155332
CREATED:20250914T103353Z
LAST-MODIFIED:20250914T103353Z
UID:11407-1760546700-1760552100@www.rosinka.at
SUMMARY:БУКВОЕЖКИ (10-11)
DESCRIPTION:
URL:https://www.rosinka.at/event/%d0%b1%d1%83%d0%ba%d0%b2%d0%be%d0%b5%d0%b6%d0%ba%d0%b8-10-11/2025-10-15/
END:VEVENT
BEGIN:VEVENT
DTSTART;TZID=Europe/Vienna:20251008T164500
DTEND;TZID=Europe/Vienna:20251008T181500
DTSTAMP:20260419T155332
CREATED:20250914T103353Z
LAST-MODIFIED:20250914T103353Z
UID:11406-1759941900-1759947300@www.rosinka.at
SUMMARY:БУКВОЕЖКИ (10-11)
DESCRIPTION:
URL:https://www.rosinka.at/event/%d0%b1%d1%83%d0%ba%d0%b2%d0%be%d0%b5%d0%b6%d0%ba%d0%b8-10-11/2025-10-08/
END:VEVENT
BEGIN:VEVENT
DTSTART;TZID=Europe/Vienna:20251001T164500
DTEND;TZID=Europe/Vienna:20251001T181500
DTSTAMP:20260419T155332
CREATED:20250914T103353Z
LAST-MODIFIED:20250914T103353Z
UID:11405-1759337100-1759342500@www.rosinka.at
SUMMARY:БУКВОЕЖКИ (10-11)
DESCRIPTION:
URL:https://www.rosinka.at/event/%d0%b1%d1%83%d0%ba%d0%b2%d0%be%d0%b5%d0%b6%d0%ba%d0%b8-10-11/2025-10-01/
END:VEVENT
BEGIN:VEVENT
DTSTART;TZID=Europe/Vienna:20250924T164500
DTEND;TZID=Europe/Vienna:20250924T181500
DTSTAMP:20260419T155332
CREATED:20250914T103353Z
LAST-MODIFIED:20250914T103353Z
UID:11404-1758732300-1758737700@www.rosinka.at
SUMMARY:БУКВОЕЖКИ (10-11)
DESCRIPTION:
URL:https://www.rosinka.at/event/%d0%b1%d1%83%d0%ba%d0%b2%d0%be%d0%b5%d0%b6%d0%ba%d0%b8-10-11/2025-09-24/
END:VEVENT
BEGIN:VEVENT
DTSTART;TZID=Europe/Vienna:20250917T164500
DTEND;TZID=Europe/Vienna:20250917T181500
DTSTAMP:20260419T155332
CREATED:20250914T103353Z
LAST-MODIFIED:20250914T103353Z
UID:11403-1758127500-1758132900@www.rosinka.at
SUMMARY:БУКВОЕЖКИ (10-11)
DESCRIPTION:
URL:https://www.rosinka.at/event/%d0%b1%d1%83%d0%ba%d0%b2%d0%be%d0%b5%d0%b6%d0%ba%d0%b8-10-11/2025-09-17/
END:VEVENT
END:VCALENDAR