BEGIN:VCALENDAR
VERSION:2.0
PRODID:-//Rosinka - ECPv6.15.20//NONSGML v1.0//EN
CALSCALE:GREGORIAN
METHOD:PUBLISH
X-ORIGINAL-URL:https://www.rosinka.at
X-WR-CALDESC:Мероприятия для Rosinka
REFRESH-INTERVAL;VALUE=DURATION:PT1H
X-Robots-Tag:noindex
X-PUBLISHED-TTL:PT1H
BEGIN:VTIMEZONE
TZID:Europe/Vienna
BEGIN:DAYLIGHT
TZOFFSETFROM:+0100
TZOFFSETTO:+0200
TZNAME:CEST
DTSTART:20240331T010000
END:DAYLIGHT
BEGIN:STANDARD
TZOFFSETFROM:+0200
TZOFFSETTO:+0100
TZNAME:CET
DTSTART:20241027T010000
END:STANDARD
BEGIN:DAYLIGHT
TZOFFSETFROM:+0100
TZOFFSETTO:+0200
TZNAME:CEST
DTSTART:20250330T010000
END:DAYLIGHT
BEGIN:STANDARD
TZOFFSETFROM:+0200
TZOFFSETTO:+0100
TZNAME:CET
DTSTART:20251026T010000
END:STANDARD
BEGIN:DAYLIGHT
TZOFFSETFROM:+0100
TZOFFSETTO:+0200
TZNAME:CEST
DTSTART:20260329T010000
END:DAYLIGHT
BEGIN:STANDARD
TZOFFSETFROM:+0200
TZOFFSETTO:+0100
TZNAME:CET
DTSTART:20261025T010000
END:STANDARD
END:VTIMEZONE
BEGIN:VEVENT
DTSTART;TZID=Europe/Vienna:20250625T164500
DTEND;TZID=Europe/Vienna:20250625T181500
DTSTAMP:20260419T162834
CREATED:20250223T150052Z
LAST-MODIFIED:20250223T150731Z
UID:10938-1750869900-1750875300@www.rosinka.at
SUMMARY:БУКВОЕЖКИ (9-10)
DESCRIPTION:
URL:https://www.rosinka.at/event/%d0%b1%d1%83%d0%ba%d0%b2%d0%be%d0%b5%d0%b6%d0%ba%d0%b8-9-10-2/2025-06-25/
END:VEVENT
BEGIN:VEVENT
DTSTART;TZID=Europe/Vienna:20250611T164500
DTEND;TZID=Europe/Vienna:20250611T181500
DTSTAMP:20260419T162834
CREATED:20250223T150052Z
LAST-MODIFIED:20250223T150731Z
UID:10936-1749660300-1749665700@www.rosinka.at
SUMMARY:БУКВОЕЖКИ (9-10)
DESCRIPTION:
URL:https://www.rosinka.at/event/%d0%b1%d1%83%d0%ba%d0%b2%d0%be%d0%b5%d0%b6%d0%ba%d0%b8-9-10-2/2025-06-11/
END:VEVENT
BEGIN:VEVENT
DTSTART;TZID=Europe/Vienna:20250604T164500
DTEND;TZID=Europe/Vienna:20250604T181500
DTSTAMP:20260419T162834
CREATED:20250223T150052Z
LAST-MODIFIED:20250223T150731Z
UID:10935-1749055500-1749060900@www.rosinka.at
SUMMARY:БУКВОЕЖКИ (9-10)
DESCRIPTION:
URL:https://www.rosinka.at/event/%d0%b1%d1%83%d0%ba%d0%b2%d0%be%d0%b5%d0%b6%d0%ba%d0%b8-9-10-2/2025-06-04/
END:VEVENT
BEGIN:VEVENT
DTSTART;TZID=Europe/Vienna:20250521T164500
DTEND;TZID=Europe/Vienna:20250521T181500
DTSTAMP:20260419T162834
CREATED:20250223T150052Z
LAST-MODIFIED:20250223T150730Z
UID:10933-1747845900-1747851300@www.rosinka.at
SUMMARY:БУКВОЕЖКИ (9-10)
DESCRIPTION:
URL:https://www.rosinka.at/event/%d0%b1%d1%83%d0%ba%d0%b2%d0%be%d0%b5%d0%b6%d0%ba%d0%b8-9-10-2/2025-05-21/
END:VEVENT
BEGIN:VEVENT
DTSTART;TZID=Europe/Vienna:20250514T164500
DTEND;TZID=Europe/Vienna:20250514T181500
DTSTAMP:20260419T162834
CREATED:20250223T150052Z
LAST-MODIFIED:20250223T150728Z
UID:10931-1747241100-1747246500@www.rosinka.at
SUMMARY:БУКВОЕЖКИ (9-10)
DESCRIPTION:
URL:https://www.rosinka.at/event/%d0%b1%d1%83%d0%ba%d0%b2%d0%be%d0%b5%d0%b6%d0%ba%d0%b8-9-10-2/2025-05-14/
END:VEVENT
BEGIN:VEVENT
DTSTART;TZID=Europe/Vienna:20250430T164500
DTEND;TZID=Europe/Vienna:20250430T181500
DTSTAMP:20260419T162834
CREATED:20250223T150052Z
LAST-MODIFIED:20250223T150728Z
UID:10929-1746031500-1746036900@www.rosinka.at
SUMMARY:БУКВОЕЖКИ (9-10)
DESCRIPTION:
URL:https://www.rosinka.at/event/%d0%b1%d1%83%d0%ba%d0%b2%d0%be%d0%b5%d0%b6%d0%ba%d0%b8-9-10-2/2025-04-30/
END:VEVENT
BEGIN:VEVENT
DTSTART;TZID=Europe/Vienna:20250423T164500
DTEND;TZID=Europe/Vienna:20250423T181500
DTSTAMP:20260419T162834
CREATED:20250223T150052Z
LAST-MODIFIED:20250223T150727Z
UID:10928-1745426700-1745432100@www.rosinka.at
SUMMARY:БУКВОЕЖКИ (9-10)
DESCRIPTION:
URL:https://www.rosinka.at/event/%d0%b1%d1%83%d0%ba%d0%b2%d0%be%d0%b5%d0%b6%d0%ba%d0%b8-9-10-2/2025-04-23/
END:VEVENT
BEGIN:VEVENT
DTSTART;TZID=Europe/Vienna:20250409T164500
DTEND;TZID=Europe/Vienna:20250409T181500
DTSTAMP:20260419T162834
CREATED:20250223T150052Z
LAST-MODIFIED:20250223T150727Z
UID:10927-1744217100-1744222500@www.rosinka.at
SUMMARY:БУКВОЕЖКИ (9-10)
DESCRIPTION:
URL:https://www.rosinka.at/event/%d0%b1%d1%83%d0%ba%d0%b2%d0%be%d0%b5%d0%b6%d0%ba%d0%b8-9-10-2/2025-04-09/
END:VEVENT
BEGIN:VEVENT
DTSTART;TZID=Europe/Vienna:20250402T164500
DTEND;TZID=Europe/Vienna:20250402T181500
DTSTAMP:20260419T162834
CREATED:20250223T150052Z
LAST-MODIFIED:20250223T150727Z
UID:10926-1743612300-1743617700@www.rosinka.at
SUMMARY:БУКВОЕЖКИ (9-10)
DESCRIPTION:
URL:https://www.rosinka.at/event/%d0%b1%d1%83%d0%ba%d0%b2%d0%be%d0%b5%d0%b6%d0%ba%d0%b8-9-10-2/2025-04-02/
END:VEVENT
BEGIN:VEVENT
DTSTART;TZID=Europe/Vienna:20250326T164500
DTEND;TZID=Europe/Vienna:20250326T181500
DTSTAMP:20260419T162834
CREATED:20250223T150052Z
LAST-MODIFIED:20250223T150727Z
UID:10925-1743007500-1743012900@www.rosinka.at
SUMMARY:БУКВОЕЖКИ (9-10)
DESCRIPTION:
URL:https://www.rosinka.at/event/%d0%b1%d1%83%d0%ba%d0%b2%d0%be%d0%b5%d0%b6%d0%ba%d0%b8-9-10-2/2025-03-26/
END:VEVENT
BEGIN:VEVENT
DTSTART;TZID=Europe/Vienna:20250312T164500
DTEND;TZID=Europe/Vienna:20250312T181500
DTSTAMP:20260419T162834
CREATED:20250223T150052Z
LAST-MODIFIED:20250223T150726Z
UID:10923-1741797900-1741803300@www.rosinka.at
SUMMARY:БУКВОЕЖКИ (9-10)
DESCRIPTION:
URL:https://www.rosinka.at/event/%d0%b1%d1%83%d0%ba%d0%b2%d0%be%d0%b5%d0%b6%d0%ba%d0%b8-9-10-2/2025-03-12/
END:VEVENT
BEGIN:VEVENT
DTSTART;TZID=Europe/Vienna:20250305T164500
DTEND;TZID=Europe/Vienna:20250305T181500
DTSTAMP:20260419T162834
CREATED:20250223T150052Z
LAST-MODIFIED:20250223T150726Z
UID:10922-1741193100-1741198500@www.rosinka.at
SUMMARY:БУКВОЕЖКИ (9-10)
DESCRIPTION:
URL:https://www.rosinka.at/event/%d0%b1%d1%83%d0%ba%d0%b2%d0%be%d0%b5%d0%b6%d0%ba%d0%b8-9-10-2/2025-03-05/
END:VEVENT
BEGIN:VEVENT
DTSTART;TZID=Europe/Vienna:20250226T164500
DTEND;TZID=Europe/Vienna:20250226T181500
DTSTAMP:20260419T162834
CREATED:20250223T150052Z
LAST-MODIFIED:20250223T150726Z
UID:10921-1740588300-1740593700@www.rosinka.at
SUMMARY:БУКВОЕЖКИ (9-10)
DESCRIPTION:
URL:https://www.rosinka.at/event/%d0%b1%d1%83%d0%ba%d0%b2%d0%be%d0%b5%d0%b6%d0%ba%d0%b8-9-10-2/2025-02-26/
END:VEVENT
END:VCALENDAR