BEGIN:VCALENDAR
VERSION:2.0
PRODID:-//Rosinka - ECPv6.15.20//NONSGML v1.0//EN
CALSCALE:GREGORIAN
METHOD:PUBLISH
X-WR-CALNAME:Rosinka
X-ORIGINAL-URL:https://www.rosinka.at
X-WR-CALDESC:Мероприятия для Rosinka
REFRESH-INTERVAL;VALUE=DURATION:PT1H
X-Robots-Tag:noindex
X-PUBLISHED-TTL:PT1H
BEGIN:VTIMEZONE
TZID:Europe/Vienna
BEGIN:DAYLIGHT
TZOFFSETFROM:+0100
TZOFFSETTO:+0200
TZNAME:CEST
DTSTART:20240331T010000
END:DAYLIGHT
BEGIN:STANDARD
TZOFFSETFROM:+0200
TZOFFSETTO:+0100
TZNAME:CET
DTSTART:20241027T010000
END:STANDARD
BEGIN:DAYLIGHT
TZOFFSETFROM:+0100
TZOFFSETTO:+0200
TZNAME:CEST
DTSTART:20250330T010000
END:DAYLIGHT
BEGIN:STANDARD
TZOFFSETFROM:+0200
TZOFFSETTO:+0100
TZNAME:CET
DTSTART:20251026T010000
END:STANDARD
BEGIN:DAYLIGHT
TZOFFSETFROM:+0100
TZOFFSETTO:+0200
TZNAME:CEST
DTSTART:20260329T010000
END:DAYLIGHT
BEGIN:STANDARD
TZOFFSETFROM:+0200
TZOFFSETTO:+0100
TZNAME:CET
DTSTART:20261025T010000
END:STANDARD
END:VTIMEZONE
BEGIN:VEVENT
DTSTART;TZID=Europe/Vienna:20250624T173000
DTEND;TZID=Europe/Vienna:20250624T183000
DTSTAMP:20260419T162817
CREATED:20250310T083557Z
LAST-MODIFIED:20250310T083557Z
UID:11188-1750786200-1750789800@www.rosinka.at
SUMMARY:ЖИВОПИСЬ (4-6)
DESCRIPTION:
URL:https://www.rosinka.at/event/%d0%b6%d0%b8%d0%b2%d0%be%d0%bf%d0%b8%d1%81%d1%8c-4-6-33/2025-06-24/
END:VEVENT
BEGIN:VEVENT
DTSTART;TZID=Europe/Vienna:20250617T173000
DTEND;TZID=Europe/Vienna:20250617T183000
DTSTAMP:20260419T162817
CREATED:20250310T083557Z
LAST-MODIFIED:20250310T083557Z
UID:11187-1750181400-1750185000@www.rosinka.at
SUMMARY:ЖИВОПИСЬ (4-6)
DESCRIPTION:
URL:https://www.rosinka.at/event/%d0%b6%d0%b8%d0%b2%d0%be%d0%bf%d0%b8%d1%81%d1%8c-4-6-33/2025-06-17/
END:VEVENT
BEGIN:VEVENT
DTSTART;TZID=Europe/Vienna:20250610T173000
DTEND;TZID=Europe/Vienna:20250610T183000
DTSTAMP:20260419T162817
CREATED:20250310T083557Z
LAST-MODIFIED:20250310T083557Z
UID:11186-1749576600-1749580200@www.rosinka.at
SUMMARY:ЖИВОПИСЬ (4-6)
DESCRIPTION:
URL:https://www.rosinka.at/event/%d0%b6%d0%b8%d0%b2%d0%be%d0%bf%d0%b8%d1%81%d1%8c-4-6-33/2025-06-10/
END:VEVENT
BEGIN:VEVENT
DTSTART;TZID=Europe/Vienna:20250603T173000
DTEND;TZID=Europe/Vienna:20250603T183000
DTSTAMP:20260419T162817
CREATED:20250310T083557Z
LAST-MODIFIED:20250310T083557Z
UID:11185-1748971800-1748975400@www.rosinka.at
SUMMARY:ЖИВОПИСЬ (4-6)
DESCRIPTION:
URL:https://www.rosinka.at/event/%d0%b6%d0%b8%d0%b2%d0%be%d0%bf%d0%b8%d1%81%d1%8c-4-6-33/2025-06-03/
END:VEVENT
BEGIN:VEVENT
DTSTART;TZID=Europe/Vienna:20250513T173000
DTEND;TZID=Europe/Vienna:20250513T183000
DTSTAMP:20260419T162817
CREATED:20250310T083557Z
LAST-MODIFIED:20250310T083557Z
UID:11182-1747157400-1747161000@www.rosinka.at
SUMMARY:ЖИВОПИСЬ (4-6)
DESCRIPTION:
URL:https://www.rosinka.at/event/%d0%b6%d0%b8%d0%b2%d0%be%d0%bf%d0%b8%d1%81%d1%8c-4-6-33/2025-05-13/
END:VEVENT
BEGIN:VEVENT
DTSTART;TZID=Europe/Vienna:20250506T173000
DTEND;TZID=Europe/Vienna:20250506T183000
DTSTAMP:20260419T162817
CREATED:20250310T083557Z
LAST-MODIFIED:20250310T083557Z
UID:11181-1746552600-1746556200@www.rosinka.at
SUMMARY:ЖИВОПИСЬ (4-6)
DESCRIPTION:
URL:https://www.rosinka.at/event/%d0%b6%d0%b8%d0%b2%d0%be%d0%bf%d0%b8%d1%81%d1%8c-4-6-33/2025-05-06/
END:VEVENT
BEGIN:VEVENT
DTSTART;TZID=Europe/Vienna:20250429T173000
DTEND;TZID=Europe/Vienna:20250429T183000
DTSTAMP:20260419T162817
CREATED:20250310T083557Z
LAST-MODIFIED:20250310T083557Z
UID:11180-1745947800-1745951400@www.rosinka.at
SUMMARY:ЖИВОПИСЬ (4-6)
DESCRIPTION:
URL:https://www.rosinka.at/event/%d0%b6%d0%b8%d0%b2%d0%be%d0%bf%d0%b8%d1%81%d1%8c-4-6-33/2025-04-29/
END:VEVENT
BEGIN:VEVENT
DTSTART;TZID=Europe/Vienna:20250422T173000
DTEND;TZID=Europe/Vienna:20250422T183000
DTSTAMP:20260419T162817
CREATED:20250310T083557Z
LAST-MODIFIED:20250310T083557Z
UID:11179-1745343000-1745346600@www.rosinka.at
SUMMARY:ЖИВОПИСЬ (4-6)
DESCRIPTION:
URL:https://www.rosinka.at/event/%d0%b6%d0%b8%d0%b2%d0%be%d0%bf%d0%b8%d1%81%d1%8c-4-6-33/2025-04-22/
END:VEVENT
BEGIN:VEVENT
DTSTART;TZID=Europe/Vienna:20250408T173000
DTEND;TZID=Europe/Vienna:20250408T183000
DTSTAMP:20260419T162817
CREATED:20250310T083557Z
LAST-MODIFIED:20250310T083557Z
UID:11178-1744133400-1744137000@www.rosinka.at
SUMMARY:ЖИВОПИСЬ (4-6)
DESCRIPTION:
URL:https://www.rosinka.at/event/%d0%b6%d0%b8%d0%b2%d0%be%d0%bf%d0%b8%d1%81%d1%8c-4-6-33/2025-04-08/
END:VEVENT
BEGIN:VEVENT
DTSTART;TZID=Europe/Vienna:20250401T173000
DTEND;TZID=Europe/Vienna:20250401T183000
DTSTAMP:20260419T162817
CREATED:20250310T083557Z
LAST-MODIFIED:20250310T083557Z
UID:11177-1743528600-1743532200@www.rosinka.at
SUMMARY:ЖИВОПИСЬ (4-6)
DESCRIPTION:
URL:https://www.rosinka.at/event/%d0%b6%d0%b8%d0%b2%d0%be%d0%bf%d0%b8%d1%81%d1%8c-4-6-33/2025-04-01/
END:VEVENT
BEGIN:VEVENT
DTSTART;TZID=Europe/Vienna:20250325T173000
DTEND;TZID=Europe/Vienna:20250325T183000
DTSTAMP:20260419T162817
CREATED:20250310T083557Z
LAST-MODIFIED:20250310T083557Z
UID:11176-1742923800-1742927400@www.rosinka.at
SUMMARY:ЖИВОПИСЬ (4-6)
DESCRIPTION:
URL:https://www.rosinka.at/event/%d0%b6%d0%b8%d0%b2%d0%be%d0%bf%d0%b8%d1%81%d1%8c-4-6-33/2025-03-25/
END:VEVENT
BEGIN:VEVENT
DTSTART;TZID=Europe/Vienna:20250318T173000
DTEND;TZID=Europe/Vienna:20250318T183000
DTSTAMP:20260419T162817
CREATED:20250310T083557Z
LAST-MODIFIED:20250310T083557Z
UID:11175-1742319000-1742322600@www.rosinka.at
SUMMARY:ЖИВОПИСЬ (4-6)
DESCRIPTION:
URL:https://www.rosinka.at/event/%d0%b6%d0%b8%d0%b2%d0%be%d0%bf%d0%b8%d1%81%d1%8c-4-6-33/2025-03-18/
END:VEVENT
BEGIN:VEVENT
DTSTART;TZID=Europe/Vienna:20250311T173000
DTEND;TZID=Europe/Vienna:20250311T183000
DTSTAMP:20260419T162817
CREATED:20250310T083557Z
LAST-MODIFIED:20250313T183355Z
UID:11155-1741714200-1741717800@www.rosinka.at
SUMMARY:ЖИВОПИСЬ (4-6)
DESCRIPTION:
URL:https://www.rosinka.at/event/%d0%b6%d0%b8%d0%b2%d0%be%d0%bf%d0%b8%d1%81%d1%8c-4-6-33/2025-03-11/
END:VEVENT
END:VCALENDAR