BEGIN:VCALENDAR
VERSION:2.0
PRODID:-//Rosinka - ECPv6.15.20//NONSGML v1.0//EN
CALSCALE:GREGORIAN
METHOD:PUBLISH
X-ORIGINAL-URL:https://www.rosinka.at
X-WR-CALDESC:Мероприятия для Rosinka
REFRESH-INTERVAL;VALUE=DURATION:PT1H
X-Robots-Tag:noindex
X-PUBLISHED-TTL:PT1H
BEGIN:VTIMEZONE
TZID:Europe/Vienna
BEGIN:DAYLIGHT
TZOFFSETFROM:+0100
TZOFFSETTO:+0200
TZNAME:CEST
DTSTART:20240331T010000
END:DAYLIGHT
BEGIN:STANDARD
TZOFFSETFROM:+0200
TZOFFSETTO:+0100
TZNAME:CET
DTSTART:20241027T010000
END:STANDARD
BEGIN:DAYLIGHT
TZOFFSETFROM:+0100
TZOFFSETTO:+0200
TZNAME:CEST
DTSTART:20250330T010000
END:DAYLIGHT
BEGIN:STANDARD
TZOFFSETFROM:+0200
TZOFFSETTO:+0100
TZNAME:CET
DTSTART:20251026T010000
END:STANDARD
BEGIN:DAYLIGHT
TZOFFSETFROM:+0100
TZOFFSETTO:+0200
TZNAME:CEST
DTSTART:20260329T010000
END:DAYLIGHT
BEGIN:STANDARD
TZOFFSETFROM:+0200
TZOFFSETTO:+0100
TZNAME:CET
DTSTART:20261025T010000
END:STANDARD
END:VTIMEZONE
BEGIN:VEVENT
DTSTART;TZID=Europe/Vienna:20250623T171500
DTEND;TZID=Europe/Vienna:20250623T184500
DTSTAMP:20260419T161749
CREATED:20250223T145628Z
LAST-MODIFIED:20250223T145628Z
UID:10884-1750698900-1750704300@www.rosinka.at
SUMMARY:ЖИВОПИСЬ (7-10+)
DESCRIPTION:
URL:https://www.rosinka.at/event/%d0%b6%d0%b8%d0%b2%d0%be%d0%bf%d0%b8%d1%81%d1%8c-7-10-6/2025-06-23/
END:VEVENT
BEGIN:VEVENT
DTSTART;TZID=Europe/Vienna:20250616T171500
DTEND;TZID=Europe/Vienna:20250616T184500
DTSTAMP:20260419T161749
CREATED:20250223T145628Z
LAST-MODIFIED:20250223T145628Z
UID:10883-1750094100-1750099500@www.rosinka.at
SUMMARY:ЖИВОПИСЬ (7-10+)
DESCRIPTION:
URL:https://www.rosinka.at/event/%d0%b6%d0%b8%d0%b2%d0%be%d0%bf%d0%b8%d1%81%d1%8c-7-10-6/2025-06-16/
END:VEVENT
BEGIN:VEVENT
DTSTART;TZID=Europe/Vienna:20250602T171500
DTEND;TZID=Europe/Vienna:20250602T184500
DTSTAMP:20260419T161749
CREATED:20250223T145628Z
LAST-MODIFIED:20250223T145628Z
UID:10882-1748884500-1748889900@www.rosinka.at
SUMMARY:ЖИВОПИСЬ (7-10+)
DESCRIPTION:
URL:https://www.rosinka.at/event/%d0%b6%d0%b8%d0%b2%d0%be%d0%bf%d0%b8%d1%81%d1%8c-7-10-6/2025-06-02/
END:VEVENT
BEGIN:VEVENT
DTSTART;TZID=Europe/Vienna:20250519T171500
DTEND;TZID=Europe/Vienna:20250519T184500
DTSTAMP:20260419T161749
CREATED:20250223T145628Z
LAST-MODIFIED:20250223T145628Z
UID:10879-1747674900-1747680300@www.rosinka.at
SUMMARY:ЖИВОПИСЬ (7-10+)
DESCRIPTION:
URL:https://www.rosinka.at/event/%d0%b6%d0%b8%d0%b2%d0%be%d0%bf%d0%b8%d1%81%d1%8c-7-10-6/2025-05-19/
END:VEVENT
BEGIN:VEVENT
DTSTART;TZID=Europe/Vienna:20250512T171500
DTEND;TZID=Europe/Vienna:20250512T184500
DTSTAMP:20260419T161749
CREATED:20250223T145628Z
LAST-MODIFIED:20250223T145628Z
UID:10878-1747070100-1747075500@www.rosinka.at
SUMMARY:ЖИВОПИСЬ (7-10+)
DESCRIPTION:
URL:https://www.rosinka.at/event/%d0%b6%d0%b8%d0%b2%d0%be%d0%bf%d0%b8%d1%81%d1%8c-7-10-6/2025-05-12/
END:VEVENT
BEGIN:VEVENT
DTSTART;TZID=Europe/Vienna:20250505T171500
DTEND;TZID=Europe/Vienna:20250505T184500
DTSTAMP:20260419T161749
CREATED:20250223T145628Z
LAST-MODIFIED:20250223T145628Z
UID:10877-1746465300-1746470700@www.rosinka.at
SUMMARY:ЖИВОПИСЬ (7-10+)
DESCRIPTION:
URL:https://www.rosinka.at/event/%d0%b6%d0%b8%d0%b2%d0%be%d0%bf%d0%b8%d1%81%d1%8c-7-10-6/2025-05-05/
END:VEVENT
BEGIN:VEVENT
DTSTART;TZID=Europe/Vienna:20250428T171500
DTEND;TZID=Europe/Vienna:20250428T184500
DTSTAMP:20260419T161749
CREATED:20250223T145628Z
LAST-MODIFIED:20250223T145628Z
UID:10876-1745860500-1745865900@www.rosinka.at
SUMMARY:ЖИВОПИСЬ (7-10+)
DESCRIPTION:
URL:https://www.rosinka.at/event/%d0%b6%d0%b8%d0%b2%d0%be%d0%bf%d0%b8%d1%81%d1%8c-7-10-6/2025-04-28/
END:VEVENT
BEGIN:VEVENT
DTSTART;TZID=Europe/Vienna:20250407T171500
DTEND;TZID=Europe/Vienna:20250407T184500
DTSTAMP:20260419T161749
CREATED:20250223T145628Z
LAST-MODIFIED:20250223T145628Z
UID:10875-1744046100-1744051500@www.rosinka.at
SUMMARY:ЖИВОПИСЬ (7-10+)
DESCRIPTION:
URL:https://www.rosinka.at/event/%d0%b6%d0%b8%d0%b2%d0%be%d0%bf%d0%b8%d1%81%d1%8c-7-10-6/2025-04-07/
END:VEVENT
BEGIN:VEVENT
DTSTART;TZID=Europe/Vienna:20250331T171500
DTEND;TZID=Europe/Vienna:20250331T184500
DTSTAMP:20260419T161749
CREATED:20250223T145628Z
LAST-MODIFIED:20250223T145628Z
UID:10874-1743441300-1743446700@www.rosinka.at
SUMMARY:ЖИВОПИСЬ (7-10+)
DESCRIPTION:
URL:https://www.rosinka.at/event/%d0%b6%d0%b8%d0%b2%d0%be%d0%bf%d0%b8%d1%81%d1%8c-7-10-6/2025-03-31/
END:VEVENT
BEGIN:VEVENT
DTSTART;TZID=Europe/Vienna:20250324T171500
DTEND;TZID=Europe/Vienna:20250324T184500
DTSTAMP:20260419T161749
CREATED:20250223T145628Z
LAST-MODIFIED:20250223T145628Z
UID:10873-1742836500-1742841900@www.rosinka.at
SUMMARY:ЖИВОПИСЬ (7-10+)
DESCRIPTION:
URL:https://www.rosinka.at/event/%d0%b6%d0%b8%d0%b2%d0%be%d0%bf%d0%b8%d1%81%d1%8c-7-10-6/2025-03-24/
END:VEVENT
BEGIN:VEVENT
DTSTART;TZID=Europe/Vienna:20250317T171500
DTEND;TZID=Europe/Vienna:20250317T184500
DTSTAMP:20260419T161749
CREATED:20250223T145628Z
LAST-MODIFIED:20250223T145628Z
UID:10872-1742231700-1742237100@www.rosinka.at
SUMMARY:ЖИВОПИСЬ (7-10+)
DESCRIPTION:
URL:https://www.rosinka.at/event/%d0%b6%d0%b8%d0%b2%d0%be%d0%bf%d0%b8%d1%81%d1%8c-7-10-6/2025-03-17/
END:VEVENT
BEGIN:VEVENT
DTSTART;TZID=Europe/Vienna:20250310T171500
DTEND;TZID=Europe/Vienna:20250310T184500
DTSTAMP:20260419T161749
CREATED:20250223T145628Z
LAST-MODIFIED:20250223T145628Z
UID:10871-1741626900-1741632300@www.rosinka.at
SUMMARY:ЖИВОПИСЬ (7-10+)
DESCRIPTION:
URL:https://www.rosinka.at/event/%d0%b6%d0%b8%d0%b2%d0%be%d0%bf%d0%b8%d1%81%d1%8c-7-10-6/2025-03-10/
END:VEVENT
BEGIN:VEVENT
DTSTART;TZID=Europe/Vienna:20250303T171500
DTEND;TZID=Europe/Vienna:20250303T184500
DTSTAMP:20260419T161749
CREATED:20250223T145628Z
LAST-MODIFIED:20250223T145628Z
UID:10870-1741022100-1741027500@www.rosinka.at
SUMMARY:ЖИВОПИСЬ (7-10+)
DESCRIPTION:
URL:https://www.rosinka.at/event/%d0%b6%d0%b8%d0%b2%d0%be%d0%bf%d0%b8%d1%81%d1%8c-7-10-6/2025-03-03/
END:VEVENT
BEGIN:VEVENT
DTSTART;TZID=Europe/Vienna:20250224T171500
DTEND;TZID=Europe/Vienna:20250224T184500
DTSTAMP:20260419T161749
CREATED:20250223T145628Z
LAST-MODIFIED:20250223T145628Z
UID:10869-1740417300-1740422700@www.rosinka.at
SUMMARY:ЖИВОПИСЬ (7-10+)
DESCRIPTION:
URL:https://www.rosinka.at/event/%d0%b6%d0%b8%d0%b2%d0%be%d0%bf%d0%b8%d1%81%d1%8c-7-10-6/2025-02-24/
END:VEVENT
END:VCALENDAR