BEGIN:VCALENDAR
VERSION:2.0
PRODID:-//Rosinka - ECPv6.15.20//NONSGML v1.0//EN
CALSCALE:GREGORIAN
METHOD:PUBLISH
X-ORIGINAL-URL:https://www.rosinka.at
X-WR-CALDESC:Мероприятия для Rosinka
REFRESH-INTERVAL;VALUE=DURATION:PT1H
X-Robots-Tag:noindex
X-PUBLISHED-TTL:PT1H
BEGIN:VTIMEZONE
TZID:Europe/Vienna
BEGIN:DAYLIGHT
TZOFFSETFROM:+0100
TZOFFSETTO:+0200
TZNAME:CEST
DTSTART:20250330T010000
END:DAYLIGHT
BEGIN:STANDARD
TZOFFSETFROM:+0200
TZOFFSETTO:+0100
TZNAME:CET
DTSTART:20251026T010000
END:STANDARD
BEGIN:DAYLIGHT
TZOFFSETFROM:+0100
TZOFFSETTO:+0200
TZNAME:CEST
DTSTART:20260329T010000
END:DAYLIGHT
BEGIN:STANDARD
TZOFFSETFROM:+0200
TZOFFSETTO:+0100
TZNAME:CET
DTSTART:20261025T010000
END:STANDARD
BEGIN:DAYLIGHT
TZOFFSETFROM:+0100
TZOFFSETTO:+0200
TZNAME:CEST
DTSTART:20270328T010000
END:DAYLIGHT
BEGIN:STANDARD
TZOFFSETFROM:+0200
TZOFFSETTO:+0100
TZNAME:CET
DTSTART:20271031T010000
END:STANDARD
END:VTIMEZONE
BEGIN:VEVENT
DTSTART;TZID=Europe/Vienna:20260413T171500
DTEND;TZID=Europe/Vienna:20260413T184500
DTSTAMP:20260419T173549
CREATED:20260222T164625Z
LAST-MODIFIED:20260223T124851Z
UID:11843-1776100500-1776105900@www.rosinka.at
SUMMARY:ЖИВОПИСЬ (7-10+)
DESCRIPTION:
URL:https://www.rosinka.at/event/%d0%b6%d0%b8%d0%b2%d0%be%d0%bf%d0%b8%d1%81%d1%8c-7-10-9/2026-04-13/
END:VEVENT
BEGIN:VEVENT
DTSTART;TZID=Europe/Vienna:20260309T171500
DTEND;TZID=Europe/Vienna:20260309T184500
DTSTAMP:20260419T173549
CREATED:20260222T164625Z
LAST-MODIFIED:20260223T124850Z
UID:11840-1773076500-1773081900@www.rosinka.at
SUMMARY:ЖИВОПИСЬ (7-10+)
DESCRIPTION:
URL:https://www.rosinka.at/event/%d0%b6%d0%b8%d0%b2%d0%be%d0%bf%d0%b8%d1%81%d1%8c-7-10-9/2026-03-09/
END:VEVENT
BEGIN:VEVENT
DTSTART;TZID=Europe/Vienna:20260302T171500
DTEND;TZID=Europe/Vienna:20260302T184500
DTSTAMP:20260419T173549
CREATED:20260222T164625Z
LAST-MODIFIED:20260223T124850Z
UID:11839-1772471700-1772477100@www.rosinka.at
SUMMARY:ЖИВОПИСЬ (7-10+)
DESCRIPTION:
URL:https://www.rosinka.at/event/%d0%b6%d0%b8%d0%b2%d0%be%d0%bf%d0%b8%d1%81%d1%8c-7-10-9/2026-03-02/
END:VEVENT
BEGIN:VEVENT
DTSTART;TZID=Europe/Vienna:20260223T171500
DTEND;TZID=Europe/Vienna:20260223T184500
DTSTAMP:20260419T173549
CREATED:20260222T164625Z
LAST-MODIFIED:20260223T124849Z
UID:11838-1771866900-1771872300@www.rosinka.at
SUMMARY:ЖИВОПИСЬ (7-10+)
DESCRIPTION:
URL:https://www.rosinka.at/event/%d0%b6%d0%b8%d0%b2%d0%be%d0%bf%d0%b8%d1%81%d1%8c-7-10-9/2026-02-23/
END:VEVENT
END:VCALENDAR