BEGIN:VCALENDAR
VERSION:2.0
PRODID:-//Rosinka - ECPv6.15.20//NONSGML v1.0//EN
CALSCALE:GREGORIAN
METHOD:PUBLISH
X-ORIGINAL-URL:https://www.rosinka.at
X-WR-CALDESC:Мероприятия для Rosinka
REFRESH-INTERVAL;VALUE=DURATION:PT1H
X-Robots-Tag:noindex
X-PUBLISHED-TTL:PT1H
BEGIN:VTIMEZONE
TZID:Europe/Vienna
BEGIN:DAYLIGHT
TZOFFSETFROM:+0100
TZOFFSETTO:+0200
TZNAME:CEST
DTSTART:20250330T010000
END:DAYLIGHT
BEGIN:STANDARD
TZOFFSETFROM:+0200
TZOFFSETTO:+0100
TZNAME:CET
DTSTART:20251026T010000
END:STANDARD
BEGIN:DAYLIGHT
TZOFFSETFROM:+0100
TZOFFSETTO:+0200
TZNAME:CEST
DTSTART:20260329T010000
END:DAYLIGHT
BEGIN:STANDARD
TZOFFSETFROM:+0200
TZOFFSETTO:+0100
TZNAME:CET
DTSTART:20261025T010000
END:STANDARD
BEGIN:DAYLIGHT
TZOFFSETFROM:+0100
TZOFFSETTO:+0200
TZNAME:CEST
DTSTART:20270328T010000
END:DAYLIGHT
BEGIN:STANDARD
TZOFFSETFROM:+0200
TZOFFSETTO:+0100
TZNAME:CET
DTSTART:20271031T010000
END:STANDARD
END:VTIMEZONE
BEGIN:VEVENT
DTSTART;TZID=Europe/Vienna:20260420T171500
DTEND;TZID=Europe/Vienna:20260420T184500
DTSTAMP:20260419T155226
CREATED:20260222T164625Z
LAST-MODIFIED:20260223T124851Z
UID:11844-1776705300-1776710700@www.rosinka.at
SUMMARY:ЖИВОПИСЬ (7-10+)
DESCRIPTION:
URL:https://www.rosinka.at/event/%d0%b6%d0%b8%d0%b2%d0%be%d0%bf%d0%b8%d1%81%d1%8c-7-10-9/2026-04-20/
END:VEVENT
BEGIN:VEVENT
DTSTART;TZID=Europe/Vienna:20260427T171500
DTEND;TZID=Europe/Vienna:20260427T184500
DTSTAMP:20260419T155226
CREATED:20260222T164625Z
LAST-MODIFIED:20260223T124851Z
UID:11845-1777310100-1777315500@www.rosinka.at
SUMMARY:ЖИВОПИСЬ (7-10+)
DESCRIPTION:
URL:https://www.rosinka.at/event/%d0%b6%d0%b8%d0%b2%d0%be%d0%bf%d0%b8%d1%81%d1%8c-7-10-9/2026-04-27/
END:VEVENT
BEGIN:VEVENT
DTSTART;TZID=Europe/Vienna:20260504T171500
DTEND;TZID=Europe/Vienna:20260504T184500
DTSTAMP:20260419T155226
CREATED:20260222T164625Z
LAST-MODIFIED:20260223T124851Z
UID:11846-1777914900-1777920300@www.rosinka.at
SUMMARY:ЖИВОПИСЬ (7-10+)
DESCRIPTION:
URL:https://www.rosinka.at/event/%d0%b6%d0%b8%d0%b2%d0%be%d0%bf%d0%b8%d1%81%d1%8c-7-10-9/2026-05-04/
END:VEVENT
BEGIN:VEVENT
DTSTART;TZID=Europe/Vienna:20260511T171500
DTEND;TZID=Europe/Vienna:20260511T184500
DTSTAMP:20260419T155226
CREATED:20260222T164625Z
LAST-MODIFIED:20260223T124851Z
UID:11847-1778519700-1778525100@www.rosinka.at
SUMMARY:ЖИВОПИСЬ (7-10+)
DESCRIPTION:
URL:https://www.rosinka.at/event/%d0%b6%d0%b8%d0%b2%d0%be%d0%bf%d0%b8%d1%81%d1%8c-7-10-9/2026-05-11/
END:VEVENT
BEGIN:VEVENT
DTSTART;TZID=Europe/Vienna:20260518T171500
DTEND;TZID=Europe/Vienna:20260518T184500
DTSTAMP:20260419T155226
CREATED:20260222T164625Z
LAST-MODIFIED:20260223T124852Z
UID:11848-1779124500-1779129900@www.rosinka.at
SUMMARY:ЖИВОПИСЬ (7-10+)
DESCRIPTION:
URL:https://www.rosinka.at/event/%d0%b6%d0%b8%d0%b2%d0%be%d0%bf%d0%b8%d1%81%d1%8c-7-10-9/2026-05-18/
END:VEVENT
BEGIN:VEVENT
DTSTART;TZID=Europe/Vienna:20260601T171500
DTEND;TZID=Europe/Vienna:20260601T184500
DTSTAMP:20260419T155226
CREATED:20260222T164625Z
LAST-MODIFIED:20260223T124855Z
UID:11850-1780334100-1780339500@www.rosinka.at
SUMMARY:ЖИВОПИСЬ (7-10+)
DESCRIPTION:
URL:https://www.rosinka.at/event/%d0%b6%d0%b8%d0%b2%d0%be%d0%bf%d0%b8%d1%81%d1%8c-7-10-9/2026-06-01/
END:VEVENT
BEGIN:VEVENT
DTSTART;TZID=Europe/Vienna:20260608T171500
DTEND;TZID=Europe/Vienna:20260608T184500
DTSTAMP:20260419T155226
CREATED:20260222T164625Z
LAST-MODIFIED:20260223T124855Z
UID:11851-1780938900-1780944300@www.rosinka.at
SUMMARY:ЖИВОПИСЬ (7-10+)
DESCRIPTION:
URL:https://www.rosinka.at/event/%d0%b6%d0%b8%d0%b2%d0%be%d0%bf%d0%b8%d1%81%d1%8c-7-10-9/2026-06-08/
END:VEVENT
BEGIN:VEVENT
DTSTART;TZID=Europe/Vienna:20260615T171500
DTEND;TZID=Europe/Vienna:20260615T184500
DTSTAMP:20260419T155226
CREATED:20260222T164625Z
LAST-MODIFIED:20260223T124856Z
UID:11852-1781543700-1781549100@www.rosinka.at
SUMMARY:ЖИВОПИСЬ (7-10+)
DESCRIPTION:
URL:https://www.rosinka.at/event/%d0%b6%d0%b8%d0%b2%d0%be%d0%bf%d0%b8%d1%81%d1%8c-7-10-9/2026-06-15/
END:VEVENT
BEGIN:VEVENT
DTSTART;TZID=Europe/Vienna:20260622T171500
DTEND;TZID=Europe/Vienna:20260622T184500
DTSTAMP:20260419T155226
CREATED:20260222T164625Z
LAST-MODIFIED:20260223T124856Z
UID:11853-1782148500-1782153900@www.rosinka.at
SUMMARY:ЖИВОПИСЬ (7-10+)
DESCRIPTION:
URL:https://www.rosinka.at/event/%d0%b6%d0%b8%d0%b2%d0%be%d0%bf%d0%b8%d1%81%d1%8c-7-10-9/2026-06-22/
END:VEVENT
BEGIN:VEVENT
DTSTART;TZID=Europe/Vienna:20260629T171500
DTEND;TZID=Europe/Vienna:20260629T184500
DTSTAMP:20260419T155226
CREATED:20260222T164625Z
LAST-MODIFIED:20260223T124856Z
UID:11854-1782753300-1782758700@www.rosinka.at
SUMMARY:ЖИВОПИСЬ (7-10+)
DESCRIPTION:
URL:https://www.rosinka.at/event/%d0%b6%d0%b8%d0%b2%d0%be%d0%bf%d0%b8%d1%81%d1%8c-7-10-9/2026-06-29/
END:VEVENT
END:VCALENDAR