BEGIN:VCALENDAR
VERSION:2.0
PRODID:-//Rosinka - ECPv6.15.20//NONSGML v1.0//EN
CALSCALE:GREGORIAN
METHOD:PUBLISH
X-WR-CALNAME:Rosinka
X-ORIGINAL-URL:https://www.rosinka.at
X-WR-CALDESC:Мероприятия для Rosinka
REFRESH-INTERVAL;VALUE=DURATION:PT1H
X-Robots-Tag:noindex
X-PUBLISHED-TTL:PT1H
BEGIN:VTIMEZONE
TZID:Europe/Vienna
BEGIN:DAYLIGHT
TZOFFSETFROM:+0100
TZOFFSETTO:+0200
TZNAME:CEST
DTSTART:20230326T010000
END:DAYLIGHT
BEGIN:STANDARD
TZOFFSETFROM:+0200
TZOFFSETTO:+0100
TZNAME:CET
DTSTART:20231029T010000
END:STANDARD
BEGIN:DAYLIGHT
TZOFFSETFROM:+0100
TZOFFSETTO:+0200
TZNAME:CEST
DTSTART:20240331T010000
END:DAYLIGHT
BEGIN:STANDARD
TZOFFSETFROM:+0200
TZOFFSETTO:+0100
TZNAME:CET
DTSTART:20241027T010000
END:STANDARD
BEGIN:DAYLIGHT
TZOFFSETFROM:+0100
TZOFFSETTO:+0200
TZNAME:CEST
DTSTART:20250330T010000
END:DAYLIGHT
BEGIN:STANDARD
TZOFFSETFROM:+0200
TZOFFSETTO:+0100
TZNAME:CET
DTSTART:20251026T010000
END:STANDARD
END:VTIMEZONE
BEGIN:VEVENT
DTSTART;TZID=Europe/Vienna:20240626T150000
DTEND;TZID=Europe/Vienna:20240626T163000
DTSTAMP:20260419T161616
CREATED:20240216T151334Z
LAST-MODIFIED:20240216T151334Z
UID:9959-1719414000-1719419400@www.rosinka.at
SUMMARY:ЗНАЙЧИКИ (7-8)
DESCRIPTION:
URL:https://www.rosinka.at/event/%d0%b7%d0%bd%d0%b0%d0%b9%d1%87%d0%b8%d0%ba%d0%b8-7-8-2/2024-06-26/
END:VEVENT
BEGIN:VEVENT
DTSTART;TZID=Europe/Vienna:20240619T150000
DTEND;TZID=Europe/Vienna:20240619T163000
DTSTAMP:20260419T161616
CREATED:20240216T151334Z
LAST-MODIFIED:20240216T151334Z
UID:9958-1718809200-1718814600@www.rosinka.at
SUMMARY:ЗНАЙЧИКИ (7-8)
DESCRIPTION:
URL:https://www.rosinka.at/event/%d0%b7%d0%bd%d0%b0%d0%b9%d1%87%d0%b8%d0%ba%d0%b8-7-8-2/2024-06-19/
END:VEVENT
BEGIN:VEVENT
DTSTART;TZID=Europe/Vienna:20240612T150000
DTEND;TZID=Europe/Vienna:20240612T163000
DTSTAMP:20260419T161616
CREATED:20240216T151334Z
LAST-MODIFIED:20240216T151334Z
UID:9957-1718204400-1718209800@www.rosinka.at
SUMMARY:ЗНАЙЧИКИ (7-8)
DESCRIPTION:
URL:https://www.rosinka.at/event/%d0%b7%d0%bd%d0%b0%d0%b9%d1%87%d0%b8%d0%ba%d0%b8-7-8-2/2024-06-12/
END:VEVENT
BEGIN:VEVENT
DTSTART;TZID=Europe/Vienna:20240605T150000
DTEND;TZID=Europe/Vienna:20240605T163000
DTSTAMP:20260419T161616
CREATED:20240216T151334Z
LAST-MODIFIED:20240216T151334Z
UID:9956-1717599600-1717605000@www.rosinka.at
SUMMARY:ЗНАЙЧИКИ (7-8)
DESCRIPTION:
URL:https://www.rosinka.at/event/%d0%b7%d0%bd%d0%b0%d0%b9%d1%87%d0%b8%d0%ba%d0%b8-7-8-2/2024-06-05/
END:VEVENT
BEGIN:VEVENT
DTSTART;TZID=Europe/Vienna:20240529T150000
DTEND;TZID=Europe/Vienna:20240529T163000
DTSTAMP:20260419T161616
CREATED:20240216T151334Z
LAST-MODIFIED:20240216T151334Z
UID:9955-1716994800-1717000200@www.rosinka.at
SUMMARY:ЗНАЙЧИКИ (7-8)
DESCRIPTION:
URL:https://www.rosinka.at/event/%d0%b7%d0%bd%d0%b0%d0%b9%d1%87%d0%b8%d0%ba%d0%b8-7-8-2/2024-05-29/
END:VEVENT
BEGIN:VEVENT
DTSTART;TZID=Europe/Vienna:20240522T150000
DTEND;TZID=Europe/Vienna:20240522T163000
DTSTAMP:20260419T161616
CREATED:20240216T151334Z
LAST-MODIFIED:20240216T151334Z
UID:9953-1716390000-1716395400@www.rosinka.at
SUMMARY:ЗНАЙЧИКИ (7-8)
DESCRIPTION:
URL:https://www.rosinka.at/event/%d0%b7%d0%bd%d0%b0%d0%b9%d1%87%d0%b8%d0%ba%d0%b8-7-8-2/2024-05-22/
END:VEVENT
BEGIN:VEVENT
DTSTART;TZID=Europe/Vienna:20240515T150000
DTEND;TZID=Europe/Vienna:20240515T163000
DTSTAMP:20260419T161616
CREATED:20240216T151334Z
LAST-MODIFIED:20240216T151334Z
UID:9952-1715785200-1715790600@www.rosinka.at
SUMMARY:ЗНАЙЧИКИ (7-8)
DESCRIPTION:
URL:https://www.rosinka.at/event/%d0%b7%d0%bd%d0%b0%d0%b9%d1%87%d0%b8%d0%ba%d0%b8-7-8-2/2024-05-15/
END:VEVENT
BEGIN:VEVENT
DTSTART;TZID=Europe/Vienna:20240508T150000
DTEND;TZID=Europe/Vienna:20240508T163000
DTSTAMP:20260419T161616
CREATED:20240216T151334Z
LAST-MODIFIED:20240216T151334Z
UID:9951-1715180400-1715185800@www.rosinka.at
SUMMARY:ЗНАЙЧИКИ (7-8)
DESCRIPTION:
URL:https://www.rosinka.at/event/%d0%b7%d0%bd%d0%b0%d0%b9%d1%87%d0%b8%d0%ba%d0%b8-7-8-2/2024-05-08/
END:VEVENT
BEGIN:VEVENT
DTSTART;TZID=Europe/Vienna:20240424T150000
DTEND;TZID=Europe/Vienna:20240424T163000
DTSTAMP:20260419T161616
CREATED:20240216T151334Z
LAST-MODIFIED:20240216T151334Z
UID:9950-1713970800-1713976200@www.rosinka.at
SUMMARY:ЗНАЙЧИКИ (7-8)
DESCRIPTION:
URL:https://www.rosinka.at/event/%d0%b7%d0%bd%d0%b0%d0%b9%d1%87%d0%b8%d0%ba%d0%b8-7-8-2/2024-04-24/
END:VEVENT
BEGIN:VEVENT
DTSTART;TZID=Europe/Vienna:20240228T150000
DTEND;TZID=Europe/Vienna:20240228T163000
DTSTAMP:20260419T161616
CREATED:20240216T151334Z
LAST-MODIFIED:20240216T151334Z
UID:9943-1709132400-1709137800@www.rosinka.at
SUMMARY:ЗНАЙЧИКИ (7-8)
DESCRIPTION:
URL:https://www.rosinka.at/event/%d0%b7%d0%bd%d0%b0%d0%b9%d1%87%d0%b8%d0%ba%d0%b8-7-8-2/2024-02-28/
END:VEVENT
END:VCALENDAR