BEGIN:VCALENDAR
VERSION:2.0
PRODID:-//Rosinka - ECPv6.15.20//NONSGML v1.0//EN
CALSCALE:GREGORIAN
METHOD:PUBLISH
X-WR-CALNAME:Rosinka
X-ORIGINAL-URL:https://www.rosinka.at
X-WR-CALDESC:Мероприятия для Rosinka
REFRESH-INTERVAL;VALUE=DURATION:PT1H
X-Robots-Tag:noindex
X-PUBLISHED-TTL:PT1H
BEGIN:VTIMEZONE
TZID:Europe/Vienna
BEGIN:DAYLIGHT
TZOFFSETFROM:+0100
TZOFFSETTO:+0200
TZNAME:CEST
DTSTART:20250330T010000
END:DAYLIGHT
BEGIN:STANDARD
TZOFFSETFROM:+0200
TZOFFSETTO:+0100
TZNAME:CET
DTSTART:20251026T010000
END:STANDARD
BEGIN:DAYLIGHT
TZOFFSETFROM:+0100
TZOFFSETTO:+0200
TZNAME:CEST
DTSTART:20260329T010000
END:DAYLIGHT
BEGIN:STANDARD
TZOFFSETFROM:+0200
TZOFFSETTO:+0100
TZNAME:CET
DTSTART:20261025T010000
END:STANDARD
BEGIN:DAYLIGHT
TZOFFSETFROM:+0100
TZOFFSETTO:+0200
TZNAME:CEST
DTSTART:20270328T010000
END:DAYLIGHT
BEGIN:STANDARD
TZOFFSETFROM:+0200
TZOFFSETTO:+0100
TZNAME:CET
DTSTART:20271031T010000
END:STANDARD
END:VTIMEZONE
BEGIN:VEVENT
DTSTART;TZID=Europe/Vienna:20260422T150000
DTEND;TZID=Europe/Vienna:20260422T163000
DTSTAMP:20260419T155141
CREATED:20260222T165555Z
LAST-MODIFIED:20260222T165555Z
UID:11900-1776870000-1776875400@www.rosinka.at
SUMMARY:ЗНАЙЧИКИ (9-10)
DESCRIPTION:
URL:https://www.rosinka.at/event/%d0%b7%d0%bd%d0%b0%d0%b9%d1%87%d0%b8%d0%ba%d0%b8-9-10-2/2026-04-22/
END:VEVENT
BEGIN:VEVENT
DTSTART;TZID=Europe/Vienna:20260429T150000
DTEND;TZID=Europe/Vienna:20260429T163000
DTSTAMP:20260419T155141
CREATED:20260222T165555Z
LAST-MODIFIED:20260222T165555Z
UID:11901-1777474800-1777480200@www.rosinka.at
SUMMARY:ЗНАЙЧИКИ (9-10)
DESCRIPTION:
URL:https://www.rosinka.at/event/%d0%b7%d0%bd%d0%b0%d0%b9%d1%87%d0%b8%d0%ba%d0%b8-9-10-2/2026-04-29/
END:VEVENT
BEGIN:VEVENT
DTSTART;TZID=Europe/Vienna:20260506T150000
DTEND;TZID=Europe/Vienna:20260506T163000
DTSTAMP:20260419T155141
CREATED:20260222T165555Z
LAST-MODIFIED:20260222T165555Z
UID:11902-1778079600-1778085000@www.rosinka.at
SUMMARY:ЗНАЙЧИКИ (9-10)
DESCRIPTION:
URL:https://www.rosinka.at/event/%d0%b7%d0%bd%d0%b0%d0%b9%d1%87%d0%b8%d0%ba%d0%b8-9-10-2/2026-05-06/
END:VEVENT
BEGIN:VEVENT
DTSTART;TZID=Europe/Vienna:20260513T150000
DTEND;TZID=Europe/Vienna:20260513T163000
DTSTAMP:20260419T155141
CREATED:20260222T165555Z
LAST-MODIFIED:20260222T165555Z
UID:11903-1778684400-1778689800@www.rosinka.at
SUMMARY:ЗНАЙЧИКИ (9-10)
DESCRIPTION:
URL:https://www.rosinka.at/event/%d0%b7%d0%bd%d0%b0%d0%b9%d1%87%d0%b8%d0%ba%d0%b8-9-10-2/2026-05-13/
END:VEVENT
BEGIN:VEVENT
DTSTART;TZID=Europe/Vienna:20260520T150000
DTEND;TZID=Europe/Vienna:20260520T163000
DTSTAMP:20260419T155141
CREATED:20260222T165555Z
LAST-MODIFIED:20260222T165555Z
UID:11905-1779289200-1779294600@www.rosinka.at
SUMMARY:ЗНАЙЧИКИ (9-10)
DESCRIPTION:
URL:https://www.rosinka.at/event/%d0%b7%d0%bd%d0%b0%d0%b9%d1%87%d0%b8%d0%ba%d0%b8-9-10-2/2026-05-20/
END:VEVENT
BEGIN:VEVENT
DTSTART;TZID=Europe/Vienna:20260527T150000
DTEND;TZID=Europe/Vienna:20260527T163000
DTSTAMP:20260419T155141
CREATED:20260222T165555Z
LAST-MODIFIED:20260222T165555Z
UID:11906-1779894000-1779899400@www.rosinka.at
SUMMARY:ЗНАЙЧИКИ (9-10)
DESCRIPTION:
URL:https://www.rosinka.at/event/%d0%b7%d0%bd%d0%b0%d0%b9%d1%87%d0%b8%d0%ba%d0%b8-9-10-2/2026-05-27/
END:VEVENT
BEGIN:VEVENT
DTSTART;TZID=Europe/Vienna:20260603T150000
DTEND;TZID=Europe/Vienna:20260603T163000
DTSTAMP:20260419T155141
CREATED:20260222T165555Z
LAST-MODIFIED:20260222T165555Z
UID:11907-1780498800-1780504200@www.rosinka.at
SUMMARY:ЗНАЙЧИКИ (9-10)
DESCRIPTION:
URL:https://www.rosinka.at/event/%d0%b7%d0%bd%d0%b0%d0%b9%d1%87%d0%b8%d0%ba%d0%b8-9-10-2/2026-06-03/
END:VEVENT
BEGIN:VEVENT
DTSTART;TZID=Europe/Vienna:20260610T150000
DTEND;TZID=Europe/Vienna:20260610T163000
DTSTAMP:20260419T155141
CREATED:20260222T165555Z
LAST-MODIFIED:20260222T165555Z
UID:11908-1781103600-1781109000@www.rosinka.at
SUMMARY:ЗНАЙЧИКИ (9-10)
DESCRIPTION:
URL:https://www.rosinka.at/event/%d0%b7%d0%bd%d0%b0%d0%b9%d1%87%d0%b8%d0%ba%d0%b8-9-10-2/2026-06-10/
END:VEVENT
BEGIN:VEVENT
DTSTART;TZID=Europe/Vienna:20260617T150000
DTEND;TZID=Europe/Vienna:20260617T163000
DTSTAMP:20260419T155141
CREATED:20260222T165555Z
LAST-MODIFIED:20260222T165555Z
UID:11909-1781708400-1781713800@www.rosinka.at
SUMMARY:ЗНАЙЧИКИ (9-10)
DESCRIPTION:
URL:https://www.rosinka.at/event/%d0%b7%d0%bd%d0%b0%d0%b9%d1%87%d0%b8%d0%ba%d0%b8-9-10-2/2026-06-17/
END:VEVENT
BEGIN:VEVENT
DTSTART;TZID=Europe/Vienna:20260624T150000
DTEND;TZID=Europe/Vienna:20260624T163000
DTSTAMP:20260419T155141
CREATED:20260222T165555Z
LAST-MODIFIED:20260222T165555Z
UID:11910-1782313200-1782318600@www.rosinka.at
SUMMARY:ЗНАЙЧИКИ (9-10)
DESCRIPTION:
URL:https://www.rosinka.at/event/%d0%b7%d0%bd%d0%b0%d0%b9%d1%87%d0%b8%d0%ba%d0%b8-9-10-2/2026-06-24/
END:VEVENT
BEGIN:VEVENT
DTSTART;TZID=Europe/Vienna:20260701T150000
DTEND;TZID=Europe/Vienna:20260701T163000
DTSTAMP:20260419T155141
CREATED:20260222T165555Z
LAST-MODIFIED:20260222T165555Z
UID:11911-1782918000-1782923400@www.rosinka.at
SUMMARY:ЗНАЙЧИКИ (9-10)
DESCRIPTION:
URL:https://www.rosinka.at/event/%d0%b7%d0%bd%d0%b0%d0%b9%d1%87%d0%b8%d0%ba%d0%b8-9-10-2/2026-07-01/
END:VEVENT
END:VCALENDAR