BEGIN:VCALENDAR
VERSION:2.0
PRODID:-//Rosinka - ECPv6.15.20//NONSGML v1.0//EN
CALSCALE:GREGORIAN
METHOD:PUBLISH
X-WR-CALNAME:Rosinka
X-ORIGINAL-URL:https://www.rosinka.at
X-WR-CALDESC:Мероприятия для Rosinka
REFRESH-INTERVAL;VALUE=DURATION:PT1H
X-Robots-Tag:noindex
X-PUBLISHED-TTL:PT1H
BEGIN:VTIMEZONE
TZID:Europe/Vienna
BEGIN:DAYLIGHT
TZOFFSETFROM:+0100
TZOFFSETTO:+0200
TZNAME:CEST
DTSTART:20240331T010000
END:DAYLIGHT
BEGIN:STANDARD
TZOFFSETFROM:+0200
TZOFFSETTO:+0100
TZNAME:CET
DTSTART:20241027T010000
END:STANDARD
BEGIN:DAYLIGHT
TZOFFSETFROM:+0100
TZOFFSETTO:+0200
TZNAME:CEST
DTSTART:20250330T010000
END:DAYLIGHT
BEGIN:STANDARD
TZOFFSETFROM:+0200
TZOFFSETTO:+0100
TZNAME:CET
DTSTART:20251026T010000
END:STANDARD
BEGIN:DAYLIGHT
TZOFFSETFROM:+0100
TZOFFSETTO:+0200
TZNAME:CEST
DTSTART:20260329T010000
END:DAYLIGHT
BEGIN:STANDARD
TZOFFSETFROM:+0200
TZOFFSETTO:+0100
TZNAME:CET
DTSTART:20261025T010000
END:STANDARD
END:VTIMEZONE
BEGIN:VEVENT
DTSTART;TZID=Europe/Vienna:20250613T160000
DTEND;TZID=Europe/Vienna:20250613T173000
DTSTAMP:20260419T161617
CREATED:20250223T151508Z
LAST-MODIFIED:20250223T151508Z
UID:11059-1749830400-1749835800@www.rosinka.at
SUMMARY:ЛУЧИКИ (5-6)
DESCRIPTION:
URL:https://www.rosinka.at/event/%d0%bb%d1%83%d1%87%d0%b8%d0%ba%d0%b8-5-6-2/2025-06-13/
END:VEVENT
BEGIN:VEVENT
DTSTART;TZID=Europe/Vienna:20250606T160000
DTEND;TZID=Europe/Vienna:20250606T173000
DTSTAMP:20260419T161617
CREATED:20250223T151508Z
LAST-MODIFIED:20250223T151508Z
UID:11058-1749225600-1749231000@www.rosinka.at
SUMMARY:ЛУЧИКИ (5-6)
DESCRIPTION:
URL:https://www.rosinka.at/event/%d0%bb%d1%83%d1%87%d0%b8%d0%ba%d0%b8-5-6-2/2025-06-06/
END:VEVENT
BEGIN:VEVENT
DTSTART;TZID=Europe/Vienna:20250523T160000
DTEND;TZID=Europe/Vienna:20250523T173000
DTSTAMP:20260419T161617
CREATED:20250223T151508Z
LAST-MODIFIED:20250223T151508Z
UID:11056-1748016000-1748021400@www.rosinka.at
SUMMARY:ЛУЧИКИ (5-6)
DESCRIPTION:
URL:https://www.rosinka.at/event/%d0%bb%d1%83%d1%87%d0%b8%d0%ba%d0%b8-5-6-2/2025-05-23/
END:VEVENT
BEGIN:VEVENT
DTSTART;TZID=Europe/Vienna:20250516T160000
DTEND;TZID=Europe/Vienna:20250516T173000
DTSTAMP:20260419T161617
CREATED:20250223T151508Z
LAST-MODIFIED:20250223T151508Z
UID:11055-1747411200-1747416600@www.rosinka.at
SUMMARY:ЛУЧИКИ (5-6)
DESCRIPTION:
URL:https://www.rosinka.at/event/%d0%bb%d1%83%d1%87%d0%b8%d0%ba%d0%b8-5-6-2/2025-05-16/
END:VEVENT
BEGIN:VEVENT
DTSTART;TZID=Europe/Vienna:20250509T160000
DTEND;TZID=Europe/Vienna:20250509T173000
DTSTAMP:20260419T161617
CREATED:20250223T151508Z
LAST-MODIFIED:20250223T151508Z
UID:11054-1746806400-1746811800@www.rosinka.at
SUMMARY:ЛУЧИКИ (5-6)
DESCRIPTION:
URL:https://www.rosinka.at/event/%d0%bb%d1%83%d1%87%d0%b8%d0%ba%d0%b8-5-6-2/2025-05-09/
END:VEVENT
BEGIN:VEVENT
DTSTART;TZID=Europe/Vienna:20250425T160000
DTEND;TZID=Europe/Vienna:20250425T173000
DTSTAMP:20260419T161617
CREATED:20250223T151508Z
LAST-MODIFIED:20250223T151508Z
UID:11053-1745596800-1745602200@www.rosinka.at
SUMMARY:ЛУЧИКИ (5-6)
DESCRIPTION:
URL:https://www.rosinka.at/event/%d0%bb%d1%83%d1%87%d0%b8%d0%ba%d0%b8-5-6-2/2025-04-25/
END:VEVENT
BEGIN:VEVENT
DTSTART;TZID=Europe/Vienna:20250411T160000
DTEND;TZID=Europe/Vienna:20250411T173000
DTSTAMP:20260419T161617
CREATED:20250223T151508Z
LAST-MODIFIED:20250223T151508Z
UID:11052-1744387200-1744392600@www.rosinka.at
SUMMARY:ЛУЧИКИ (5-6)
DESCRIPTION:
URL:https://www.rosinka.at/event/%d0%bb%d1%83%d1%87%d0%b8%d0%ba%d0%b8-5-6-2/2025-04-11/
END:VEVENT
BEGIN:VEVENT
DTSTART;TZID=Europe/Vienna:20250404T160000
DTEND;TZID=Europe/Vienna:20250404T173000
DTSTAMP:20260419T161617
CREATED:20250223T151508Z
LAST-MODIFIED:20250223T151508Z
UID:11051-1743782400-1743787800@www.rosinka.at
SUMMARY:ЛУЧИКИ (5-6)
DESCRIPTION:
URL:https://www.rosinka.at/event/%d0%bb%d1%83%d1%87%d0%b8%d0%ba%d0%b8-5-6-2/2025-04-04/
END:VEVENT
BEGIN:VEVENT
DTSTART;TZID=Europe/Vienna:20250321T160000
DTEND;TZID=Europe/Vienna:20250321T173000
DTSTAMP:20260419T161617
CREATED:20250223T151508Z
LAST-MODIFIED:20250223T151508Z
UID:11049-1742572800-1742578200@www.rosinka.at
SUMMARY:ЛУЧИКИ (5-6)
DESCRIPTION:
URL:https://www.rosinka.at/event/%d0%bb%d1%83%d1%87%d0%b8%d0%ba%d0%b8-5-6-2/2025-03-21/
END:VEVENT
BEGIN:VEVENT
DTSTART;TZID=Europe/Vienna:20250307T160000
DTEND;TZID=Europe/Vienna:20250307T173000
DTSTAMP:20260419T161617
CREATED:20250223T151508Z
LAST-MODIFIED:20250223T151508Z
UID:11047-1741363200-1741368600@www.rosinka.at
SUMMARY:ЛУЧИКИ (5-6)
DESCRIPTION:
URL:https://www.rosinka.at/event/%d0%bb%d1%83%d1%87%d0%b8%d0%ba%d0%b8-5-6-2/2025-03-07/
END:VEVENT
BEGIN:VEVENT
DTSTART;TZID=Europe/Vienna:20250228T160000
DTEND;TZID=Europe/Vienna:20250228T173000
DTSTAMP:20260419T161617
CREATED:20250223T151508Z
LAST-MODIFIED:20250223T151508Z
UID:11046-1740758400-1740763800@www.rosinka.at
SUMMARY:ЛУЧИКИ (5-6)
DESCRIPTION:
URL:https://www.rosinka.at/event/%d0%bb%d1%83%d1%87%d0%b8%d0%ba%d0%b8-5-6-2/2025-02-28/
END:VEVENT
END:VCALENDAR