BEGIN:VCALENDAR
VERSION:2.0
PRODID:-//Rosinka - ECPv6.15.20//NONSGML v1.0//EN
CALSCALE:GREGORIAN
METHOD:PUBLISH
X-ORIGINAL-URL:https://www.rosinka.at
X-WR-CALDESC:Мероприятия для Rosinka
REFRESH-INTERVAL;VALUE=DURATION:PT1H
X-Robots-Tag:noindex
X-PUBLISHED-TTL:PT1H
BEGIN:VTIMEZONE
TZID:Europe/Vienna
BEGIN:DAYLIGHT
TZOFFSETFROM:+0100
TZOFFSETTO:+0200
TZNAME:CEST
DTSTART:20250330T010000
END:DAYLIGHT
BEGIN:STANDARD
TZOFFSETFROM:+0200
TZOFFSETTO:+0100
TZNAME:CET
DTSTART:20251026T010000
END:STANDARD
BEGIN:DAYLIGHT
TZOFFSETFROM:+0100
TZOFFSETTO:+0200
TZNAME:CEST
DTSTART:20260329T010000
END:DAYLIGHT
BEGIN:STANDARD
TZOFFSETFROM:+0200
TZOFFSETTO:+0100
TZNAME:CET
DTSTART:20261025T010000
END:STANDARD
BEGIN:DAYLIGHT
TZOFFSETFROM:+0100
TZOFFSETTO:+0200
TZNAME:CEST
DTSTART:20270328T010000
END:DAYLIGHT
BEGIN:STANDARD
TZOFFSETFROM:+0200
TZOFFSETTO:+0100
TZNAME:CET
DTSTART:20271031T010000
END:STANDARD
END:VTIMEZONE
BEGIN:VEVENT
DTSTART;TZID=Europe/Vienna:20260424T145000
DTEND;TZID=Europe/Vienna:20260424T162000
DTSTAMP:20260419T155226
CREATED:20260222T172352Z
LAST-MODIFIED:20260222T172352Z
UID:12071-1777042200-1777047600@www.rosinka.at
SUMMARY:ЛУЧИКИ (6-7)
DESCRIPTION:
URL:https://www.rosinka.at/event/%d0%bb%d1%83%d1%87%d0%b8%d0%ba%d0%b8-6-7-4/2026-04-24/
END:VEVENT
BEGIN:VEVENT
DTSTART;TZID=Europe/Vienna:20260508T145000
DTEND;TZID=Europe/Vienna:20260508T162000
DTSTAMP:20260419T155226
CREATED:20260222T172352Z
LAST-MODIFIED:20260222T172352Z
UID:12072-1778251800-1778257200@www.rosinka.at
SUMMARY:ЛУЧИКИ (6-7)
DESCRIPTION:
URL:https://www.rosinka.at/event/%d0%bb%d1%83%d1%87%d0%b8%d0%ba%d0%b8-6-7-4/2026-05-08/
END:VEVENT
BEGIN:VEVENT
DTSTART;TZID=Europe/Vienna:20260515T145000
DTEND;TZID=Europe/Vienna:20260515T162000
DTSTAMP:20260419T155226
CREATED:20260222T172352Z
LAST-MODIFIED:20260222T172352Z
UID:12073-1778856600-1778862000@www.rosinka.at
SUMMARY:ЛУЧИКИ (6-7)
DESCRIPTION:
URL:https://www.rosinka.at/event/%d0%bb%d1%83%d1%87%d0%b8%d0%ba%d0%b8-6-7-4/2026-05-15/
END:VEVENT
BEGIN:VEVENT
DTSTART;TZID=Europe/Vienna:20260522T145000
DTEND;TZID=Europe/Vienna:20260522T162000
DTSTAMP:20260419T155226
CREATED:20260222T172352Z
LAST-MODIFIED:20260222T172352Z
UID:12074-1779461400-1779466800@www.rosinka.at
SUMMARY:ЛУЧИКИ (6-7)
DESCRIPTION:
URL:https://www.rosinka.at/event/%d0%bb%d1%83%d1%87%d0%b8%d0%ba%d0%b8-6-7-4/2026-05-22/
END:VEVENT
BEGIN:VEVENT
DTSTART;TZID=Europe/Vienna:20260529T145000
DTEND;TZID=Europe/Vienna:20260529T162000
DTSTAMP:20260419T155226
CREATED:20260222T172352Z
LAST-MODIFIED:20260222T172352Z
UID:12076-1780066200-1780071600@www.rosinka.at
SUMMARY:ЛУЧИКИ (6-7)
DESCRIPTION:
URL:https://www.rosinka.at/event/%d0%bb%d1%83%d1%87%d0%b8%d0%ba%d0%b8-6-7-4/2026-05-29/
END:VEVENT
BEGIN:VEVENT
DTSTART;TZID=Europe/Vienna:20260605T145000
DTEND;TZID=Europe/Vienna:20260605T162000
DTSTAMP:20260419T155226
CREATED:20260222T172352Z
LAST-MODIFIED:20260222T172352Z
UID:12077-1780671000-1780676400@www.rosinka.at
SUMMARY:ЛУЧИКИ (6-7)
DESCRIPTION:
URL:https://www.rosinka.at/event/%d0%bb%d1%83%d1%87%d0%b8%d0%ba%d0%b8-6-7-4/2026-06-05/
END:VEVENT
BEGIN:VEVENT
DTSTART;TZID=Europe/Vienna:20260612T145000
DTEND;TZID=Europe/Vienna:20260612T162000
DTSTAMP:20260419T155226
CREATED:20260222T172352Z
LAST-MODIFIED:20260222T172352Z
UID:12078-1781275800-1781281200@www.rosinka.at
SUMMARY:ЛУЧИКИ (6-7)
DESCRIPTION:
URL:https://www.rosinka.at/event/%d0%bb%d1%83%d1%87%d0%b8%d0%ba%d0%b8-6-7-4/2026-06-12/
END:VEVENT
BEGIN:VEVENT
DTSTART;TZID=Europe/Vienna:20260619T145000
DTEND;TZID=Europe/Vienna:20260619T162000
DTSTAMP:20260419T155226
CREATED:20260222T172352Z
LAST-MODIFIED:20260222T172352Z
UID:12079-1781880600-1781886000@www.rosinka.at
SUMMARY:ЛУЧИКИ (6-7)
DESCRIPTION:
URL:https://www.rosinka.at/event/%d0%bb%d1%83%d1%87%d0%b8%d0%ba%d0%b8-6-7-4/2026-06-19/
END:VEVENT
BEGIN:VEVENT
DTSTART;TZID=Europe/Vienna:20260626T145000
DTEND;TZID=Europe/Vienna:20260626T162000
DTSTAMP:20260419T155226
CREATED:20260222T172352Z
LAST-MODIFIED:20260222T172352Z
UID:12080-1782485400-1782490800@www.rosinka.at
SUMMARY:ЛУЧИКИ (6-7)
DESCRIPTION:
URL:https://www.rosinka.at/event/%d0%bb%d1%83%d1%87%d0%b8%d0%ba%d0%b8-6-7-4/2026-06-26/
END:VEVENT
BEGIN:VEVENT
DTSTART;TZID=Europe/Vienna:20260703T145000
DTEND;TZID=Europe/Vienna:20260703T162000
DTSTAMP:20260419T155226
CREATED:20260222T172352Z
LAST-MODIFIED:20260222T172352Z
UID:12081-1783090200-1783095600@www.rosinka.at
SUMMARY:ЛУЧИКИ (6-7)
DESCRIPTION:
URL:https://www.rosinka.at/event/%d0%bb%d1%83%d1%87%d0%b8%d0%ba%d0%b8-6-7-4/2026-07-03/
END:VEVENT
END:VCALENDAR