BEGIN:VCALENDAR
VERSION:2.0
PRODID:-//Rosinka - ECPv6.15.20//NONSGML v1.0//EN
CALSCALE:GREGORIAN
METHOD:PUBLISH
X-ORIGINAL-URL:https://www.rosinka.at
X-WR-CALDESC:Мероприятия для Rosinka
REFRESH-INTERVAL;VALUE=DURATION:PT1H
X-Robots-Tag:noindex
X-PUBLISHED-TTL:PT1H
BEGIN:VTIMEZONE
TZID:Europe/Vienna
BEGIN:DAYLIGHT
TZOFFSETFROM:+0100
TZOFFSETTO:+0200
TZNAME:CEST
DTSTART:20240331T010000
END:DAYLIGHT
BEGIN:STANDARD
TZOFFSETFROM:+0200
TZOFFSETTO:+0100
TZNAME:CET
DTSTART:20241027T010000
END:STANDARD
BEGIN:DAYLIGHT
TZOFFSETFROM:+0100
TZOFFSETTO:+0200
TZNAME:CEST
DTSTART:20250330T010000
END:DAYLIGHT
BEGIN:STANDARD
TZOFFSETFROM:+0200
TZOFFSETTO:+0100
TZNAME:CET
DTSTART:20251026T010000
END:STANDARD
BEGIN:DAYLIGHT
TZOFFSETFROM:+0100
TZOFFSETTO:+0200
TZNAME:CEST
DTSTART:20260329T010000
END:DAYLIGHT
BEGIN:STANDARD
TZOFFSETFROM:+0200
TZOFFSETTO:+0100
TZNAME:CET
DTSTART:20261025T010000
END:STANDARD
BEGIN:DAYLIGHT
TZOFFSETFROM:+0100
TZOFFSETTO:+0200
TZNAME:CEST
DTSTART:20270328T010000
END:DAYLIGHT
BEGIN:STANDARD
TZOFFSETFROM:+0200
TZOFFSETTO:+0100
TZNAME:CET
DTSTART:20271031T010000
END:STANDARD
END:VTIMEZONE
BEGIN:VEVENT
DTSTART;TZID=Europe/Vienna:20260213T143000
DTEND;TZID=Europe/Vienna:20260213T160000
DTSTAMP:20260419T155333
CREATED:20250917T110103Z
LAST-MODIFIED:20250917T110103Z
UID:11563-1770993000-1770998400@www.rosinka.at
SUMMARY:ЛУЧИКИ (6-7)
DESCRIPTION:
URL:https://www.rosinka.at/event/%d0%bb%d1%83%d1%87%d0%b8%d0%ba%d0%b8-6-7/2026-02-13/
END:VEVENT
BEGIN:VEVENT
DTSTART;TZID=Europe/Vienna:20260206T143000
DTEND;TZID=Europe/Vienna:20260206T160000
DTSTAMP:20260419T155333
CREATED:20250917T110103Z
LAST-MODIFIED:20250917T110103Z
UID:11562-1770388200-1770393600@www.rosinka.at
SUMMARY:ЛУЧИКИ (6-7)
DESCRIPTION:
URL:https://www.rosinka.at/event/%d0%bb%d1%83%d1%87%d0%b8%d0%ba%d0%b8-6-7/2026-02-06/
END:VEVENT
BEGIN:VEVENT
DTSTART;TZID=Europe/Vienna:20260130T143000
DTEND;TZID=Europe/Vienna:20260130T160000
DTSTAMP:20260419T155333
CREATED:20250917T110103Z
LAST-MODIFIED:20250917T110103Z
UID:11561-1769783400-1769788800@www.rosinka.at
SUMMARY:ЛУЧИКИ (6-7)
DESCRIPTION:
URL:https://www.rosinka.at/event/%d0%bb%d1%83%d1%87%d0%b8%d0%ba%d0%b8-6-7/2026-01-30/
END:VEVENT
BEGIN:VEVENT
DTSTART;TZID=Europe/Vienna:20260123T143000
DTEND;TZID=Europe/Vienna:20260123T160000
DTSTAMP:20260419T155333
CREATED:20250917T110103Z
LAST-MODIFIED:20250917T110103Z
UID:11560-1769178600-1769184000@www.rosinka.at
SUMMARY:ЛУЧИКИ (6-7)
DESCRIPTION:
URL:https://www.rosinka.at/event/%d0%bb%d1%83%d1%87%d0%b8%d0%ba%d0%b8-6-7/2026-01-23/
END:VEVENT
BEGIN:VEVENT
DTSTART;TZID=Europe/Vienna:20260116T143000
DTEND;TZID=Europe/Vienna:20260116T160000
DTSTAMP:20260419T155333
CREATED:20250917T110103Z
LAST-MODIFIED:20250917T110103Z
UID:11559-1768573800-1768579200@www.rosinka.at
SUMMARY:ЛУЧИКИ (6-7)
DESCRIPTION:
URL:https://www.rosinka.at/event/%d0%bb%d1%83%d1%87%d0%b8%d0%ba%d0%b8-6-7/2026-01-16/
END:VEVENT
BEGIN:VEVENT
DTSTART;TZID=Europe/Vienna:20251212T143000
DTEND;TZID=Europe/Vienna:20251212T160000
DTSTAMP:20260419T155333
CREATED:20250917T110103Z
LAST-MODIFIED:20250917T110103Z
UID:11556-1765549800-1765555200@www.rosinka.at
SUMMARY:ЛУЧИКИ (6-7)
DESCRIPTION:
URL:https://www.rosinka.at/event/%d0%bb%d1%83%d1%87%d0%b8%d0%ba%d0%b8-6-7/2025-12-12/
END:VEVENT
BEGIN:VEVENT
DTSTART;TZID=Europe/Vienna:20251205T143000
DTEND;TZID=Europe/Vienna:20251205T160000
DTSTAMP:20260419T155333
CREATED:20250917T110103Z
LAST-MODIFIED:20250917T110103Z
UID:11555-1764945000-1764950400@www.rosinka.at
SUMMARY:ЛУЧИКИ (6-7)
DESCRIPTION:
URL:https://www.rosinka.at/event/%d0%bb%d1%83%d1%87%d0%b8%d0%ba%d0%b8-6-7/2025-12-05/
END:VEVENT
BEGIN:VEVENT
DTSTART;TZID=Europe/Vienna:20251128T143000
DTEND;TZID=Europe/Vienna:20251128T160000
DTSTAMP:20260419T155333
CREATED:20250917T110103Z
LAST-MODIFIED:20250917T110103Z
UID:11554-1764340200-1764345600@www.rosinka.at
SUMMARY:ЛУЧИКИ (6-7)
DESCRIPTION:
URL:https://www.rosinka.at/event/%d0%bb%d1%83%d1%87%d0%b8%d0%ba%d0%b8-6-7/2025-11-28/
END:VEVENT
BEGIN:VEVENT
DTSTART;TZID=Europe/Vienna:20251121T143000
DTEND;TZID=Europe/Vienna:20251121T160000
DTSTAMP:20260419T155333
CREATED:20250917T110103Z
LAST-MODIFIED:20250917T110103Z
UID:11553-1763735400-1763740800@www.rosinka.at
SUMMARY:ЛУЧИКИ (6-7)
DESCRIPTION:
URL:https://www.rosinka.at/event/%d0%bb%d1%83%d1%87%d0%b8%d0%ba%d0%b8-6-7/2025-11-21/
END:VEVENT
BEGIN:VEVENT
DTSTART;TZID=Europe/Vienna:20251114T143000
DTEND;TZID=Europe/Vienna:20251114T160000
DTSTAMP:20260419T155333
CREATED:20250917T110103Z
LAST-MODIFIED:20250917T110103Z
UID:11552-1763130600-1763136000@www.rosinka.at
SUMMARY:ЛУЧИКИ (6-7)
DESCRIPTION:
URL:https://www.rosinka.at/event/%d0%bb%d1%83%d1%87%d0%b8%d0%ba%d0%b8-6-7/2025-11-14/
END:VEVENT
BEGIN:VEVENT
DTSTART;TZID=Europe/Vienna:20251107T143000
DTEND;TZID=Europe/Vienna:20251107T160000
DTSTAMP:20260419T155333
CREATED:20250917T110103Z
LAST-MODIFIED:20250917T110103Z
UID:11551-1762525800-1762531200@www.rosinka.at
SUMMARY:ЛУЧИКИ (6-7)
DESCRIPTION:
URL:https://www.rosinka.at/event/%d0%bb%d1%83%d1%87%d0%b8%d0%ba%d0%b8-6-7/2025-11-07/
END:VEVENT
BEGIN:VEVENT
DTSTART;TZID=Europe/Vienna:20251024T143000
DTEND;TZID=Europe/Vienna:20251024T160000
DTSTAMP:20260419T155333
CREATED:20250917T110103Z
LAST-MODIFIED:20250917T110103Z
UID:11550-1761316200-1761321600@www.rosinka.at
SUMMARY:ЛУЧИКИ (6-7)
DESCRIPTION:
URL:https://www.rosinka.at/event/%d0%bb%d1%83%d1%87%d0%b8%d0%ba%d0%b8-6-7/2025-10-24/
END:VEVENT
BEGIN:VEVENT
DTSTART;TZID=Europe/Vienna:20251017T143000
DTEND;TZID=Europe/Vienna:20251017T160000
DTSTAMP:20260419T155333
CREATED:20250917T110103Z
LAST-MODIFIED:20250917T110103Z
UID:11549-1760711400-1760716800@www.rosinka.at
SUMMARY:ЛУЧИКИ (6-7)
DESCRIPTION:
URL:https://www.rosinka.at/event/%d0%bb%d1%83%d1%87%d0%b8%d0%ba%d0%b8-6-7/2025-10-17/
END:VEVENT
BEGIN:VEVENT
DTSTART;TZID=Europe/Vienna:20251010T143000
DTEND;TZID=Europe/Vienna:20251010T160000
DTSTAMP:20260419T155333
CREATED:20250917T110103Z
LAST-MODIFIED:20250917T110103Z
UID:11548-1760106600-1760112000@www.rosinka.at
SUMMARY:ЛУЧИКИ (6-7)
DESCRIPTION:
URL:https://www.rosinka.at/event/%d0%bb%d1%83%d1%87%d0%b8%d0%ba%d0%b8-6-7/2025-10-10/
END:VEVENT
BEGIN:VEVENT
DTSTART;TZID=Europe/Vienna:20251003T143000
DTEND;TZID=Europe/Vienna:20251003T160000
DTSTAMP:20260419T155333
CREATED:20250917T110103Z
LAST-MODIFIED:20250917T110103Z
UID:11547-1759501800-1759507200@www.rosinka.at
SUMMARY:ЛУЧИКИ (6-7)
DESCRIPTION:
URL:https://www.rosinka.at/event/%d0%bb%d1%83%d1%87%d0%b8%d0%ba%d0%b8-6-7/2025-10-03/
END:VEVENT
BEGIN:VEVENT
DTSTART;TZID=Europe/Vienna:20250919T143000
DTEND;TZID=Europe/Vienna:20250919T160000
DTSTAMP:20260419T155333
CREATED:20250917T110103Z
LAST-MODIFIED:20250922T133845Z
UID:11519-1758292200-1758297600@www.rosinka.at
SUMMARY:ЛУЧИКИ (6-7)
DESCRIPTION:
URL:https://www.rosinka.at/event/%d0%bb%d1%83%d1%87%d0%b8%d0%ba%d0%b8-6-7/2025-09-19/
END:VEVENT
END:VCALENDAR