BEGIN:VCALENDAR
VERSION:2.0
PRODID:-//Rosinka - ECPv6.15.20//NONSGML v1.0//EN
CALSCALE:GREGORIAN
METHOD:PUBLISH
X-WR-CALNAME:Rosinka
X-ORIGINAL-URL:https://www.rosinka.at
X-WR-CALDESC:Мероприятия для Rosinka
REFRESH-INTERVAL;VALUE=DURATION:PT1H
X-Robots-Tag:noindex
X-PUBLISHED-TTL:PT1H
BEGIN:VTIMEZONE
TZID:Europe/Vienna
BEGIN:DAYLIGHT
TZOFFSETFROM:+0100
TZOFFSETTO:+0200
TZNAME:CEST
DTSTART:20250330T010000
END:DAYLIGHT
BEGIN:STANDARD
TZOFFSETFROM:+0200
TZOFFSETTO:+0100
TZNAME:CET
DTSTART:20251026T010000
END:STANDARD
BEGIN:DAYLIGHT
TZOFFSETFROM:+0100
TZOFFSETTO:+0200
TZNAME:CEST
DTSTART:20260329T010000
END:DAYLIGHT
BEGIN:STANDARD
TZOFFSETFROM:+0200
TZOFFSETTO:+0100
TZNAME:CET
DTSTART:20261025T010000
END:STANDARD
BEGIN:DAYLIGHT
TZOFFSETFROM:+0100
TZOFFSETTO:+0200
TZNAME:CEST
DTSTART:20270328T010000
END:DAYLIGHT
BEGIN:STANDARD
TZOFFSETFROM:+0200
TZOFFSETTO:+0100
TZNAME:CET
DTSTART:20271031T010000
END:STANDARD
END:VTIMEZONE
BEGIN:VEVENT
DTSTART;TZID=Europe/Vienna:20260424T164500
DTEND;TZID=Europe/Vienna:20260424T174500
DTSTAMP:20260419T155131
CREATED:20260222T170313Z
LAST-MODIFIED:20260222T170313Z
UID:11975-1777049100-1777052700@www.rosinka.at
SUMMARY:МАЛЫШАРИКИ (3-4)
DESCRIPTION:
URL:https://www.rosinka.at/event/%d0%bc%d0%b0%d0%bb%d1%8b%d1%88%d0%b0%d1%80%d0%b8%d0%ba%d0%b8-3-4-4/2026-04-24/
END:VEVENT
BEGIN:VEVENT
DTSTART;TZID=Europe/Vienna:20260508T164500
DTEND;TZID=Europe/Vienna:20260508T174500
DTSTAMP:20260419T155131
CREATED:20260222T170313Z
LAST-MODIFIED:20260222T170313Z
UID:11976-1778258700-1778262300@www.rosinka.at
SUMMARY:МАЛЫШАРИКИ (3-4)
DESCRIPTION:
URL:https://www.rosinka.at/event/%d0%bc%d0%b0%d0%bb%d1%8b%d1%88%d0%b0%d1%80%d0%b8%d0%ba%d0%b8-3-4-4/2026-05-08/
END:VEVENT
BEGIN:VEVENT
DTSTART;TZID=Europe/Vienna:20260515T164500
DTEND;TZID=Europe/Vienna:20260515T174500
DTSTAMP:20260419T155131
CREATED:20260222T170313Z
LAST-MODIFIED:20260222T170313Z
UID:11977-1778863500-1778867100@www.rosinka.at
SUMMARY:МАЛЫШАРИКИ (3-4)
DESCRIPTION:
URL:https://www.rosinka.at/event/%d0%bc%d0%b0%d0%bb%d1%8b%d1%88%d0%b0%d1%80%d0%b8%d0%ba%d0%b8-3-4-4/2026-05-15/
END:VEVENT
BEGIN:VEVENT
DTSTART;TZID=Europe/Vienna:20260522T164500
DTEND;TZID=Europe/Vienna:20260522T174500
DTSTAMP:20260419T155131
CREATED:20260222T170313Z
LAST-MODIFIED:20260222T170313Z
UID:11978-1779468300-1779471900@www.rosinka.at
SUMMARY:МАЛЫШАРИКИ (3-4)
DESCRIPTION:
URL:https://www.rosinka.at/event/%d0%bc%d0%b0%d0%bb%d1%8b%d1%88%d0%b0%d1%80%d0%b8%d0%ba%d0%b8-3-4-4/2026-05-22/
END:VEVENT
BEGIN:VEVENT
DTSTART;TZID=Europe/Vienna:20260529T164500
DTEND;TZID=Europe/Vienna:20260529T174500
DTSTAMP:20260419T155131
CREATED:20260222T170313Z
LAST-MODIFIED:20260222T170313Z
UID:11980-1780073100-1780076700@www.rosinka.at
SUMMARY:МАЛЫШАРИКИ (3-4)
DESCRIPTION:
URL:https://www.rosinka.at/event/%d0%bc%d0%b0%d0%bb%d1%8b%d1%88%d0%b0%d1%80%d0%b8%d0%ba%d0%b8-3-4-4/2026-05-29/
END:VEVENT
BEGIN:VEVENT
DTSTART;TZID=Europe/Vienna:20260605T164500
DTEND;TZID=Europe/Vienna:20260605T174500
DTSTAMP:20260419T155131
CREATED:20260222T170313Z
LAST-MODIFIED:20260222T170313Z
UID:11981-1780677900-1780681500@www.rosinka.at
SUMMARY:МАЛЫШАРИКИ (3-4)
DESCRIPTION:
URL:https://www.rosinka.at/event/%d0%bc%d0%b0%d0%bb%d1%8b%d1%88%d0%b0%d1%80%d0%b8%d0%ba%d0%b8-3-4-4/2026-06-05/
END:VEVENT
BEGIN:VEVENT
DTSTART;TZID=Europe/Vienna:20260612T164500
DTEND;TZID=Europe/Vienna:20260612T174500
DTSTAMP:20260419T155131
CREATED:20260222T170313Z
LAST-MODIFIED:20260222T170313Z
UID:11982-1781282700-1781286300@www.rosinka.at
SUMMARY:МАЛЫШАРИКИ (3-4)
DESCRIPTION:
URL:https://www.rosinka.at/event/%d0%bc%d0%b0%d0%bb%d1%8b%d1%88%d0%b0%d1%80%d0%b8%d0%ba%d0%b8-3-4-4/2026-06-12/
END:VEVENT
BEGIN:VEVENT
DTSTART;TZID=Europe/Vienna:20260619T164500
DTEND;TZID=Europe/Vienna:20260619T174500
DTSTAMP:20260419T155131
CREATED:20260222T170313Z
LAST-MODIFIED:20260222T170313Z
UID:11983-1781887500-1781891100@www.rosinka.at
SUMMARY:МАЛЫШАРИКИ (3-4)
DESCRIPTION:
URL:https://www.rosinka.at/event/%d0%bc%d0%b0%d0%bb%d1%8b%d1%88%d0%b0%d1%80%d0%b8%d0%ba%d0%b8-3-4-4/2026-06-19/
END:VEVENT
BEGIN:VEVENT
DTSTART;TZID=Europe/Vienna:20260626T164500
DTEND;TZID=Europe/Vienna:20260626T174500
DTSTAMP:20260419T155131
CREATED:20260222T170313Z
LAST-MODIFIED:20260222T170313Z
UID:11984-1782492300-1782495900@www.rosinka.at
SUMMARY:МАЛЫШАРИКИ (3-4)
DESCRIPTION:
URL:https://www.rosinka.at/event/%d0%bc%d0%b0%d0%bb%d1%8b%d1%88%d0%b0%d1%80%d0%b8%d0%ba%d0%b8-3-4-4/2026-06-26/
END:VEVENT
BEGIN:VEVENT
DTSTART;TZID=Europe/Vienna:20260703T164500
DTEND;TZID=Europe/Vienna:20260703T174500
DTSTAMP:20260419T155131
CREATED:20260222T170313Z
LAST-MODIFIED:20260222T170313Z
UID:11985-1783097100-1783100700@www.rosinka.at
SUMMARY:МАЛЫШАРИКИ (3-4)
DESCRIPTION:
URL:https://www.rosinka.at/event/%d0%bc%d0%b0%d0%bb%d1%8b%d1%88%d0%b0%d1%80%d0%b8%d0%ba%d0%b8-3-4-4/2026-07-03/
END:VEVENT
END:VCALENDAR