BEGIN:VCALENDAR
VERSION:2.0
PRODID:-//Rosinka - ECPv6.15.20//NONSGML v1.0//EN
CALSCALE:GREGORIAN
METHOD:PUBLISH
X-WR-CALNAME:Rosinka
X-ORIGINAL-URL:https://www.rosinka.at
X-WR-CALDESC:Мероприятия для Rosinka
REFRESH-INTERVAL;VALUE=DURATION:PT1H
X-Robots-Tag:noindex
X-PUBLISHED-TTL:PT1H
BEGIN:VTIMEZONE
TZID:Europe/Vienna
BEGIN:DAYLIGHT
TZOFFSETFROM:+0100
TZOFFSETTO:+0200
TZNAME:CEST
DTSTART:20240331T010000
END:DAYLIGHT
BEGIN:STANDARD
TZOFFSETFROM:+0200
TZOFFSETTO:+0100
TZNAME:CET
DTSTART:20241027T010000
END:STANDARD
BEGIN:DAYLIGHT
TZOFFSETFROM:+0100
TZOFFSETTO:+0200
TZNAME:CEST
DTSTART:20250330T010000
END:DAYLIGHT
BEGIN:STANDARD
TZOFFSETFROM:+0200
TZOFFSETTO:+0100
TZNAME:CET
DTSTART:20251026T010000
END:STANDARD
BEGIN:DAYLIGHT
TZOFFSETFROM:+0100
TZOFFSETTO:+0200
TZNAME:CEST
DTSTART:20260329T010000
END:DAYLIGHT
BEGIN:STANDARD
TZOFFSETFROM:+0200
TZOFFSETTO:+0100
TZNAME:CET
DTSTART:20261025T010000
END:STANDARD
BEGIN:DAYLIGHT
TZOFFSETFROM:+0100
TZOFFSETTO:+0200
TZNAME:CEST
DTSTART:20270328T010000
END:DAYLIGHT
BEGIN:STANDARD
TZOFFSETFROM:+0200
TZOFFSETTO:+0100
TZNAME:CET
DTSTART:20271031T010000
END:STANDARD
END:VTIMEZONE
BEGIN:VEVENT
DTSTART;TZID=Europe/Vienna:20260131T093000
DTEND;TZID=Europe/Vienna:20260131T103000
DTSTAMP:20260419T155225
CREATED:20251015T071052Z
LAST-MODIFIED:20251022T105308Z
UID:11708-1769851800-1769855400@www.rosinka.at
SUMMARY:МУЗЫКАЛЬНАЯ МАСТЕРСКАЯ
DESCRIPTION:
URL:https://www.rosinka.at/event/%d0%bc%d1%83%d0%b7%d1%8b%d0%ba%d0%b0%d0%bb%d1%8c%d0%bd%d0%b0%d1%8f-%d0%bc%d0%b0%d1%81%d1%82%d0%b5%d1%80%d1%81%d0%ba%d0%b0%d1%8f/2026-01-31/
END:VEVENT
BEGIN:VEVENT
DTSTART;TZID=Europe/Vienna:20260124T093000
DTEND;TZID=Europe/Vienna:20260124T103000
DTSTAMP:20260419T155225
CREATED:20251015T071052Z
LAST-MODIFIED:20251022T105308Z
UID:11707-1769247000-1769250600@www.rosinka.at
SUMMARY:МУЗЫКАЛЬНАЯ МАСТЕРСКАЯ
DESCRIPTION:
URL:https://www.rosinka.at/event/%d0%bc%d1%83%d0%b7%d1%8b%d0%ba%d0%b0%d0%bb%d1%8c%d0%bd%d0%b0%d1%8f-%d0%bc%d0%b0%d1%81%d1%82%d0%b5%d1%80%d1%81%d0%ba%d0%b0%d1%8f/2026-01-24/
END:VEVENT
BEGIN:VEVENT
DTSTART;TZID=Europe/Vienna:20260117T093000
DTEND;TZID=Europe/Vienna:20260117T103000
DTSTAMP:20260419T155225
CREATED:20251015T071052Z
LAST-MODIFIED:20251022T105308Z
UID:11705-1768642200-1768645800@www.rosinka.at
SUMMARY:МУЗЫКАЛЬНАЯ МАСТЕРСКАЯ
DESCRIPTION:
URL:https://www.rosinka.at/event/%d0%bc%d1%83%d0%b7%d1%8b%d0%ba%d0%b0%d0%bb%d1%8c%d0%bd%d0%b0%d1%8f-%d0%bc%d0%b0%d1%81%d1%82%d0%b5%d1%80%d1%81%d0%ba%d0%b0%d1%8f/2026-01-17/
END:VEVENT
BEGIN:VEVENT
DTSTART;TZID=Europe/Vienna:20260110T093000
DTEND;TZID=Europe/Vienna:20260110T103000
DTSTAMP:20260419T155225
CREATED:20251015T071052Z
LAST-MODIFIED:20251022T105304Z
UID:11704-1768037400-1768041000@www.rosinka.at
SUMMARY:МУЗЫКАЛЬНАЯ МАСТЕРСКАЯ
DESCRIPTION:
URL:https://www.rosinka.at/event/%d0%bc%d1%83%d0%b7%d1%8b%d0%ba%d0%b0%d0%bb%d1%8c%d0%bd%d0%b0%d1%8f-%d0%bc%d0%b0%d1%81%d1%82%d0%b5%d1%80%d1%81%d0%ba%d0%b0%d1%8f/2026-01-10/
END:VEVENT
BEGIN:VEVENT
DTSTART;TZID=Europe/Vienna:20251220T093000
DTEND;TZID=Europe/Vienna:20251220T103000
DTSTAMP:20260419T155225
CREATED:20251015T071052Z
LAST-MODIFIED:20251022T105304Z
UID:11703-1766223000-1766226600@www.rosinka.at
SUMMARY:МУЗЫКАЛЬНАЯ МАСТЕРСКАЯ
DESCRIPTION:
URL:https://www.rosinka.at/event/%d0%bc%d1%83%d0%b7%d1%8b%d0%ba%d0%b0%d0%bb%d1%8c%d0%bd%d0%b0%d1%8f-%d0%bc%d0%b0%d1%81%d1%82%d0%b5%d1%80%d1%81%d0%ba%d0%b0%d1%8f/2025-12-20/
END:VEVENT
BEGIN:VEVENT
DTSTART;TZID=Europe/Vienna:20251213T093000
DTEND;TZID=Europe/Vienna:20251213T103000
DTSTAMP:20260419T155225
CREATED:20251015T071052Z
LAST-MODIFIED:20251022T105304Z
UID:11702-1765618200-1765621800@www.rosinka.at
SUMMARY:МУЗЫКАЛЬНАЯ МАСТЕРСКАЯ
DESCRIPTION:
URL:https://www.rosinka.at/event/%d0%bc%d1%83%d0%b7%d1%8b%d0%ba%d0%b0%d0%bb%d1%8c%d0%bd%d0%b0%d1%8f-%d0%bc%d0%b0%d1%81%d1%82%d0%b5%d1%80%d1%81%d0%ba%d0%b0%d1%8f/2025-12-13/
END:VEVENT
BEGIN:VEVENT
DTSTART;TZID=Europe/Vienna:20251206T093000
DTEND;TZID=Europe/Vienna:20251206T103000
DTSTAMP:20260419T155225
CREATED:20251015T071052Z
LAST-MODIFIED:20251022T105303Z
UID:11701-1765013400-1765017000@www.rosinka.at
SUMMARY:МУЗЫКАЛЬНАЯ МАСТЕРСКАЯ
DESCRIPTION:
URL:https://www.rosinka.at/event/%d0%bc%d1%83%d0%b7%d1%8b%d0%ba%d0%b0%d0%bb%d1%8c%d0%bd%d0%b0%d1%8f-%d0%bc%d0%b0%d1%81%d1%82%d0%b5%d1%80%d1%81%d0%ba%d0%b0%d1%8f/2025-12-06/
END:VEVENT
BEGIN:VEVENT
DTSTART;TZID=Europe/Vienna:20251129T093000
DTEND;TZID=Europe/Vienna:20251129T103000
DTSTAMP:20260419T155225
CREATED:20251015T071052Z
LAST-MODIFIED:20251022T105303Z
UID:11700-1764408600-1764412200@www.rosinka.at
SUMMARY:МУЗЫКАЛЬНАЯ МАСТЕРСКАЯ
DESCRIPTION:
URL:https://www.rosinka.at/event/%d0%bc%d1%83%d0%b7%d1%8b%d0%ba%d0%b0%d0%bb%d1%8c%d0%bd%d0%b0%d1%8f-%d0%bc%d0%b0%d1%81%d1%82%d0%b5%d1%80%d1%81%d0%ba%d0%b0%d1%8f/2025-11-29/
END:VEVENT
BEGIN:VEVENT
DTSTART;TZID=Europe/Vienna:20251122T093000
DTEND;TZID=Europe/Vienna:20251122T103000
DTSTAMP:20260419T155225
CREATED:20251015T071052Z
LAST-MODIFIED:20251022T105303Z
UID:11699-1763803800-1763807400@www.rosinka.at
SUMMARY:МУЗЫКАЛЬНАЯ МАСТЕРСКАЯ
DESCRIPTION:
URL:https://www.rosinka.at/event/%d0%bc%d1%83%d0%b7%d1%8b%d0%ba%d0%b0%d0%bb%d1%8c%d0%bd%d0%b0%d1%8f-%d0%bc%d0%b0%d1%81%d1%82%d0%b5%d1%80%d1%81%d0%ba%d0%b0%d1%8f/2025-11-22/
END:VEVENT
BEGIN:VEVENT
DTSTART;TZID=Europe/Vienna:20251115T093000
DTEND;TZID=Europe/Vienna:20251115T103000
DTSTAMP:20260419T155225
CREATED:20251015T071052Z
LAST-MODIFIED:20251022T105303Z
UID:11698-1763199000-1763202600@www.rosinka.at
SUMMARY:МУЗЫКАЛЬНАЯ МАСТЕРСКАЯ
DESCRIPTION:
URL:https://www.rosinka.at/event/%d0%bc%d1%83%d0%b7%d1%8b%d0%ba%d0%b0%d0%bb%d1%8c%d0%bd%d0%b0%d1%8f-%d0%bc%d0%b0%d1%81%d1%82%d0%b5%d1%80%d1%81%d0%ba%d0%b0%d1%8f/2025-11-15/
END:VEVENT
BEGIN:VEVENT
DTSTART;TZID=Europe/Vienna:20251108T093000
DTEND;TZID=Europe/Vienna:20251108T103000
DTSTAMP:20260419T155225
CREATED:20251015T071052Z
LAST-MODIFIED:20251022T105303Z
UID:11697-1762594200-1762597800@www.rosinka.at
SUMMARY:МУЗЫКАЛЬНАЯ МАСТЕРСКАЯ
DESCRIPTION:
URL:https://www.rosinka.at/event/%d0%bc%d1%83%d0%b7%d1%8b%d0%ba%d0%b0%d0%bb%d1%8c%d0%bd%d0%b0%d1%8f-%d0%bc%d0%b0%d1%81%d1%82%d0%b5%d1%80%d1%81%d0%ba%d0%b0%d1%8f/2025-11-08/
END:VEVENT
BEGIN:VEVENT
DTSTART;TZID=Europe/Vienna:20251025T093000
DTEND;TZID=Europe/Vienna:20251025T103000
DTSTAMP:20260419T155225
CREATED:20251015T071052Z
LAST-MODIFIED:20251015T071052Z
UID:11728-1761384600-1761388200@www.rosinka.at
SUMMARY:МУЗЫКАЛЬНАЯ МАСТЕРСКАЯ
DESCRIPTION:
URL:https://www.rosinka.at/event/%d0%bc%d1%83%d0%b7%d1%8b%d0%ba%d0%b0%d0%bb%d1%8c%d0%bd%d0%b0%d1%8f-%d0%bc%d0%b0%d1%81%d1%82%d0%b5%d1%80%d1%81%d0%ba%d0%b0%d1%8f/2025-10-25/
END:VEVENT
BEGIN:VEVENT
DTSTART;TZID=Europe/Vienna:20251018T093000
DTEND;TZID=Europe/Vienna:20251018T103000
DTSTAMP:20260419T155225
CREATED:20251015T071052Z
LAST-MODIFIED:20251022T105302Z
UID:11696-1760779800-1760783400@www.rosinka.at
SUMMARY:МУЗЫКАЛЬНАЯ МАСТЕРСКАЯ
DESCRIPTION:
URL:https://www.rosinka.at/event/%d0%bc%d1%83%d0%b7%d1%8b%d0%ba%d0%b0%d0%bb%d1%8c%d0%bd%d0%b0%d1%8f-%d0%bc%d0%b0%d1%81%d1%82%d0%b5%d1%80%d1%81%d0%ba%d0%b0%d1%8f/2025-10-18/
END:VEVENT
BEGIN:VEVENT
DTSTART;TZID=Europe/Vienna:20251011T093000
DTEND;TZID=Europe/Vienna:20251011T103000
DTSTAMP:20260419T155225
CREATED:20251015T071052Z
LAST-MODIFIED:20251022T105302Z
UID:11695-1760175000-1760178600@www.rosinka.at
SUMMARY:МУЗЫКАЛЬНАЯ МАСТЕРСКАЯ
DESCRIPTION:
URL:https://www.rosinka.at/event/%d0%bc%d1%83%d0%b7%d1%8b%d0%ba%d0%b0%d0%bb%d1%8c%d0%bd%d0%b0%d1%8f-%d0%bc%d0%b0%d1%81%d1%82%d0%b5%d1%80%d1%81%d0%ba%d0%b0%d1%8f/2025-10-11/
END:VEVENT
END:VCALENDAR