BEGIN:VCALENDAR
VERSION:2.0
PRODID:-//Rosinka - ECPv6.15.20//NONSGML v1.0//EN
CALSCALE:GREGORIAN
METHOD:PUBLISH
X-ORIGINAL-URL:https://www.rosinka.at
X-WR-CALDESC:Мероприятия для Rosinka
REFRESH-INTERVAL;VALUE=DURATION:PT1H
X-Robots-Tag:noindex
X-PUBLISHED-TTL:PT1H
BEGIN:VTIMEZONE
TZID:Europe/Vienna
BEGIN:DAYLIGHT
TZOFFSETFROM:+0100
TZOFFSETTO:+0200
TZNAME:CEST
DTSTART:20230326T010000
END:DAYLIGHT
BEGIN:STANDARD
TZOFFSETFROM:+0200
TZOFFSETTO:+0100
TZNAME:CET
DTSTART:20231029T010000
END:STANDARD
BEGIN:DAYLIGHT
TZOFFSETFROM:+0100
TZOFFSETTO:+0200
TZNAME:CEST
DTSTART:20240331T010000
END:DAYLIGHT
BEGIN:STANDARD
TZOFFSETFROM:+0200
TZOFFSETTO:+0100
TZNAME:CET
DTSTART:20241027T010000
END:STANDARD
BEGIN:DAYLIGHT
TZOFFSETFROM:+0100
TZOFFSETTO:+0200
TZNAME:CEST
DTSTART:20250330T010000
END:DAYLIGHT
BEGIN:STANDARD
TZOFFSETFROM:+0200
TZOFFSETTO:+0100
TZNAME:CET
DTSTART:20251026T010000
END:STANDARD
END:VTIMEZONE
BEGIN:VEVENT
DTSTART;TZID=Europe/Vienna:20240624T153000
DTEND;TZID=Europe/Vienna:20240624T170000
DTSTAMP:20260419T161743
CREATED:20240216T150540Z
LAST-MODIFIED:20240304T101635Z
UID:9894-1719243000-1719248400@www.rosinka.at
SUMMARY:НЕПОСЕДЫ (6-7)
DESCRIPTION:
URL:https://www.rosinka.at/event/%d0%bd%d0%b5%d0%bf%d0%be%d1%81%d0%b5%d0%b4%d1%8b-6-7-2-2024-03-11/2024-06-24/
END:VEVENT
BEGIN:VEVENT
DTSTART;TZID=Europe/Vienna:20240617T153000
DTEND;TZID=Europe/Vienna:20240617T170000
DTSTAMP:20260419T161743
CREATED:20240216T150540Z
LAST-MODIFIED:20240304T101635Z
UID:9893-1718638200-1718643600@www.rosinka.at
SUMMARY:НЕПОСЕДЫ (6-7)
DESCRIPTION:
URL:https://www.rosinka.at/event/%d0%bd%d0%b5%d0%bf%d0%be%d1%81%d0%b5%d0%b4%d1%8b-6-7-2-2024-03-11/2024-06-17/
END:VEVENT
BEGIN:VEVENT
DTSTART;TZID=Europe/Vienna:20240610T153000
DTEND;TZID=Europe/Vienna:20240610T170000
DTSTAMP:20260419T161743
CREATED:20240216T150540Z
LAST-MODIFIED:20240304T101635Z
UID:9892-1718033400-1718038800@www.rosinka.at
SUMMARY:НЕПОСЕДЫ (6-7)
DESCRIPTION:
URL:https://www.rosinka.at/event/%d0%bd%d0%b5%d0%bf%d0%be%d1%81%d0%b5%d0%b4%d1%8b-6-7-2-2024-03-11/2024-06-10/
END:VEVENT
BEGIN:VEVENT
DTSTART;TZID=Europe/Vienna:20240603T153000
DTEND;TZID=Europe/Vienna:20240603T170000
DTSTAMP:20260419T161743
CREATED:20240216T150540Z
LAST-MODIFIED:20240304T101635Z
UID:9891-1717428600-1717434000@www.rosinka.at
SUMMARY:НЕПОСЕДЫ (6-7)
DESCRIPTION:
URL:https://www.rosinka.at/event/%d0%bd%d0%b5%d0%bf%d0%be%d1%81%d0%b5%d0%b4%d1%8b-6-7-2-2024-03-11/2024-06-03/
END:VEVENT
BEGIN:VEVENT
DTSTART;TZID=Europe/Vienna:20240527T153000
DTEND;TZID=Europe/Vienna:20240527T170000
DTSTAMP:20260419T161743
CREATED:20240216T150540Z
LAST-MODIFIED:20240304T101635Z
UID:9889-1716823800-1716829200@www.rosinka.at
SUMMARY:НЕПОСЕДЫ (6-7)
DESCRIPTION:
URL:https://www.rosinka.at/event/%d0%bd%d0%b5%d0%bf%d0%be%d1%81%d0%b5%d0%b4%d1%8b-6-7-2-2024-03-11/2024-05-27/
END:VEVENT
BEGIN:VEVENT
DTSTART;TZID=Europe/Vienna:20240513T153000
DTEND;TZID=Europe/Vienna:20240513T170000
DTSTAMP:20260419T161743
CREATED:20240216T150540Z
LAST-MODIFIED:20240304T101635Z
UID:9888-1715614200-1715619600@www.rosinka.at
SUMMARY:НЕПОСЕДЫ (6-7)
DESCRIPTION:
URL:https://www.rosinka.at/event/%d0%bd%d0%b5%d0%bf%d0%be%d1%81%d0%b5%d0%b4%d1%8b-6-7-2-2024-03-11/2024-05-13/
END:VEVENT
BEGIN:VEVENT
DTSTART;TZID=Europe/Vienna:20240506T153000
DTEND;TZID=Europe/Vienna:20240506T170000
DTSTAMP:20260419T161743
CREATED:20240216T150540Z
LAST-MODIFIED:20240304T101635Z
UID:9887-1715009400-1715014800@www.rosinka.at
SUMMARY:НЕПОСЕДЫ (6-7)
DESCRIPTION:
URL:https://www.rosinka.at/event/%d0%bd%d0%b5%d0%bf%d0%be%d1%81%d0%b5%d0%b4%d1%8b-6-7-2-2024-03-11/2024-05-06/
END:VEVENT
BEGIN:VEVENT
DTSTART;TZID=Europe/Vienna:20240429T153000
DTEND;TZID=Europe/Vienna:20240429T170000
DTSTAMP:20260419T161743
CREATED:20240216T150540Z
LAST-MODIFIED:20240304T101635Z
UID:9886-1714404600-1714410000@www.rosinka.at
SUMMARY:НЕПОСЕДЫ (6-7)
DESCRIPTION:
URL:https://www.rosinka.at/event/%d0%bd%d0%b5%d0%bf%d0%be%d1%81%d0%b5%d0%b4%d1%8b-6-7-2-2024-03-11/2024-04-29/
END:VEVENT
BEGIN:VEVENT
DTSTART;TZID=Europe/Vienna:20240311T153000
DTEND;TZID=Europe/Vienna:20240311T170000
DTSTAMP:20260419T161743
CREATED:20240216T150540Z
LAST-MODIFIED:20240304T101634Z
UID:9881-1710171000-1710176400@www.rosinka.at
SUMMARY:НЕПОСЕДЫ (6-7)
DESCRIPTION:
URL:https://www.rosinka.at/event/%d0%bd%d0%b5%d0%bf%d0%be%d1%81%d0%b5%d0%b4%d1%8b-6-7-2-2024-03-11/2024-03-11/
END:VEVENT
END:VCALENDAR