BEGIN:VCALENDAR
VERSION:2.0
PRODID:-//Rosinka - ECPv6.15.20//NONSGML v1.0//EN
CALSCALE:GREGORIAN
METHOD:PUBLISH
X-WR-CALNAME:Rosinka
X-ORIGINAL-URL:https://www.rosinka.at
X-WR-CALDESC:Мероприятия для Rosinka
REFRESH-INTERVAL;VALUE=DURATION:PT1H
X-Robots-Tag:noindex
X-PUBLISHED-TTL:PT1H
BEGIN:VTIMEZONE
TZID:Europe/Vienna
BEGIN:DAYLIGHT
TZOFFSETFROM:+0100
TZOFFSETTO:+0200
TZNAME:CEST
DTSTART:20240331T010000
END:DAYLIGHT
BEGIN:STANDARD
TZOFFSETFROM:+0200
TZOFFSETTO:+0100
TZNAME:CET
DTSTART:20241027T010000
END:STANDARD
BEGIN:DAYLIGHT
TZOFFSETFROM:+0100
TZOFFSETTO:+0200
TZNAME:CEST
DTSTART:20250330T010000
END:DAYLIGHT
BEGIN:STANDARD
TZOFFSETFROM:+0200
TZOFFSETTO:+0100
TZNAME:CET
DTSTART:20251026T010000
END:STANDARD
BEGIN:DAYLIGHT
TZOFFSETFROM:+0100
TZOFFSETTO:+0200
TZNAME:CEST
DTSTART:20260329T010000
END:DAYLIGHT
BEGIN:STANDARD
TZOFFSETFROM:+0200
TZOFFSETTO:+0100
TZNAME:CET
DTSTART:20261025T010000
END:STANDARD
END:VTIMEZONE
BEGIN:VEVENT
DTSTART;TZID=Europe/Vienna:20250628T110000
DTEND;TZID=Europe/Vienna:20250628T120000
DTSTAMP:20260419T161617
CREATED:20250223T151734Z
LAST-MODIFIED:20250223T155251Z
UID:11074-1751108400-1751112000@www.rosinka.at
SUMMARY:РОБОТОТЕХНИКА
DESCRIPTION:
URL:https://www.rosinka.at/event/%d1%80%d0%be%d0%b1%d0%be%d1%82%d0%be%d1%82%d0%b5%d1%85%d0%bd%d0%b8%d0%ba%d0%b0-14/2025-06-28/
END:VEVENT
BEGIN:VEVENT
DTSTART;TZID=Europe/Vienna:20250614T110000
DTEND;TZID=Europe/Vienna:20250614T120000
DTSTAMP:20260419T161617
CREATED:20250223T151734Z
LAST-MODIFIED:20250223T155251Z
UID:11073-1749898800-1749902400@www.rosinka.at
SUMMARY:РОБОТОТЕХНИКА
DESCRIPTION:
URL:https://www.rosinka.at/event/%d1%80%d0%be%d0%b1%d0%be%d1%82%d0%be%d1%82%d0%b5%d1%85%d0%bd%d0%b8%d0%ba%d0%b0-14/2025-06-14/
END:VEVENT
BEGIN:VEVENT
DTSTART;TZID=Europe/Vienna:20250524T110000
DTEND;TZID=Europe/Vienna:20250524T130000
DTSTAMP:20260419T161617
CREATED:20250223T151734Z
LAST-MODIFIED:20250523T143722Z
UID:11071-1748084400-1748091600@www.rosinka.at
SUMMARY:РОБОТОТЕХНИКА
DESCRIPTION:
URL:https://www.rosinka.at/event/%d1%80%d0%be%d0%b1%d0%be%d1%82%d0%be%d1%82%d0%b5%d1%85%d0%bd%d0%b8%d0%ba%d0%b0-14/2025-05-24/
END:VEVENT
BEGIN:VEVENT
DTSTART;TZID=Europe/Vienna:20250510T110000
DTEND;TZID=Europe/Vienna:20250510T120000
DTSTAMP:20260419T161617
CREATED:20250223T151734Z
LAST-MODIFIED:20250223T155247Z
UID:11069-1746874800-1746878400@www.rosinka.at
SUMMARY:РОБОТОТЕХНИКА
DESCRIPTION:
URL:https://www.rosinka.at/event/%d1%80%d0%be%d0%b1%d0%be%d1%82%d0%be%d1%82%d0%b5%d1%85%d0%bd%d0%b8%d0%ba%d0%b0-14/2025-05-10/
END:VEVENT
BEGIN:VEVENT
DTSTART;TZID=Europe/Vienna:20250426T110000
DTEND;TZID=Europe/Vienna:20250426T120000
DTSTAMP:20260419T161617
CREATED:20250223T151734Z
LAST-MODIFIED:20250223T155247Z
UID:11068-1745665200-1745668800@www.rosinka.at
SUMMARY:РОБОТОТЕХНИКА
DESCRIPTION:
URL:https://www.rosinka.at/event/%d1%80%d0%be%d0%b1%d0%be%d1%82%d0%be%d1%82%d0%b5%d1%85%d0%bd%d0%b8%d0%ba%d0%b0-14/2025-04-26/
END:VEVENT
BEGIN:VEVENT
DTSTART;TZID=Europe/Vienna:20250405T110000
DTEND;TZID=Europe/Vienna:20250405T120000
DTSTAMP:20260419T161617
CREATED:20250223T151734Z
LAST-MODIFIED:20250223T155247Z
UID:11066-1743850800-1743854400@www.rosinka.at
SUMMARY:РОБОТОТЕХНИКА
DESCRIPTION:
URL:https://www.rosinka.at/event/%d1%80%d0%be%d0%b1%d0%be%d1%82%d0%be%d1%82%d0%b5%d1%85%d0%bd%d0%b8%d0%ba%d0%b0-14/2025-04-05/
END:VEVENT
BEGIN:VEVENT
DTSTART;TZID=Europe/Vienna:20250329T110000
DTEND;TZID=Europe/Vienna:20250329T120000
DTSTAMP:20260419T161617
CREATED:20250223T151734Z
LAST-MODIFIED:20250223T155247Z
UID:11065-1743246000-1743249600@www.rosinka.at
SUMMARY:РОБОТОТЕХНИКА
DESCRIPTION:
URL:https://www.rosinka.at/event/%d1%80%d0%be%d0%b1%d0%be%d1%82%d0%be%d1%82%d0%b5%d1%85%d0%bd%d0%b8%d0%ba%d0%b0-14/2025-03-29/
END:VEVENT
BEGIN:VEVENT
DTSTART;TZID=Europe/Vienna:20250322T110000
DTEND;TZID=Europe/Vienna:20250322T120000
DTSTAMP:20260419T161617
CREATED:20250223T151734Z
LAST-MODIFIED:20250223T155247Z
UID:11064-1742641200-1742644800@www.rosinka.at
SUMMARY:РОБОТОТЕХНИКА
DESCRIPTION:
URL:https://www.rosinka.at/event/%d1%80%d0%be%d0%b1%d0%be%d1%82%d0%be%d1%82%d0%b5%d1%85%d0%bd%d0%b8%d0%ba%d0%b0-14/2025-03-22/
END:VEVENT
BEGIN:VEVENT
DTSTART;TZID=Europe/Vienna:20250315T110000
DTEND;TZID=Europe/Vienna:20250315T120000
DTSTAMP:20260419T161617
CREATED:20250223T151734Z
LAST-MODIFIED:20250223T155246Z
UID:11063-1742036400-1742040000@www.rosinka.at
SUMMARY:РОБОТОТЕХНИКА
DESCRIPTION:
URL:https://www.rosinka.at/event/%d1%80%d0%be%d0%b1%d0%be%d1%82%d0%be%d1%82%d0%b5%d1%85%d0%bd%d0%b8%d0%ba%d0%b0-14/2025-03-15/
END:VEVENT
BEGIN:VEVENT
DTSTART;TZID=Europe/Vienna:20250308T110000
DTEND;TZID=Europe/Vienna:20250308T120000
DTSTAMP:20260419T161617
CREATED:20250223T151734Z
LAST-MODIFIED:20250223T155246Z
UID:11062-1741431600-1741435200@www.rosinka.at
SUMMARY:РОБОТОТЕХНИКА
DESCRIPTION:
URL:https://www.rosinka.at/event/%d1%80%d0%be%d0%b1%d0%be%d1%82%d0%be%d1%82%d0%b5%d1%85%d0%bd%d0%b8%d0%ba%d0%b0-14/2025-03-08/
END:VEVENT
BEGIN:VEVENT
DTSTART;TZID=Europe/Vienna:20250301T110000
DTEND;TZID=Europe/Vienna:20250301T120000
DTSTAMP:20260419T161617
CREATED:20250223T151734Z
LAST-MODIFIED:20250223T155246Z
UID:11061-1740826800-1740830400@www.rosinka.at
SUMMARY:РОБОТОТЕХНИКА
DESCRIPTION:
URL:https://www.rosinka.at/event/%d1%80%d0%be%d0%b1%d0%be%d1%82%d0%be%d1%82%d0%b5%d1%85%d0%bd%d0%b8%d0%ba%d0%b0-14/2025-03-01/
END:VEVENT
END:VCALENDAR