BEGIN:VCALENDAR
VERSION:2.0
PRODID:-//Rosinka - ECPv6.15.20//NONSGML v1.0//EN
CALSCALE:GREGORIAN
METHOD:PUBLISH
X-ORIGINAL-URL:https://www.rosinka.at
X-WR-CALDESC:Мероприятия для Rosinka
REFRESH-INTERVAL;VALUE=DURATION:PT1H
X-Robots-Tag:noindex
X-PUBLISHED-TTL:PT1H
BEGIN:VTIMEZONE
TZID:Europe/Vienna
BEGIN:DAYLIGHT
TZOFFSETFROM:+0100
TZOFFSETTO:+0200
TZNAME:CEST
DTSTART:20240331T010000
END:DAYLIGHT
BEGIN:STANDARD
TZOFFSETFROM:+0200
TZOFFSETTO:+0100
TZNAME:CET
DTSTART:20241027T010000
END:STANDARD
BEGIN:DAYLIGHT
TZOFFSETFROM:+0100
TZOFFSETTO:+0200
TZNAME:CEST
DTSTART:20250330T010000
END:DAYLIGHT
BEGIN:STANDARD
TZOFFSETFROM:+0200
TZOFFSETTO:+0100
TZNAME:CET
DTSTART:20251026T010000
END:STANDARD
BEGIN:DAYLIGHT
TZOFFSETFROM:+0100
TZOFFSETTO:+0200
TZNAME:CEST
DTSTART:20260329T010000
END:DAYLIGHT
BEGIN:STANDARD
TZOFFSETFROM:+0200
TZOFFSETTO:+0100
TZNAME:CET
DTSTART:20261025T010000
END:STANDARD
END:VTIMEZONE
BEGIN:VEVENT
DTSTART;TZID=Europe/Vienna:20250623T171500
DTEND;TZID=Europe/Vienna:20250623T181500
DTSTAMP:20260419T163049
CREATED:20250223T145507Z
LAST-MODIFIED:20250224T180041Z
UID:10868-1750698900-1750702500@www.rosinka.at
SUMMARY:СВЕТЛЯЧКИ (4-5)
DESCRIPTION:
URL:https://www.rosinka.at/event/%d1%81%d0%b2%d0%b5%d1%82%d0%bb%d1%8f%d1%87%d0%ba%d0%b8-4-5-2-2025-03-03/2025-06-23/
END:VEVENT
BEGIN:VEVENT
DTSTART;TZID=Europe/Vienna:20250616T171500
DTEND;TZID=Europe/Vienna:20250616T181500
DTSTAMP:20260419T163049
CREATED:20250223T145507Z
LAST-MODIFIED:20250224T180041Z
UID:10867-1750094100-1750097700@www.rosinka.at
SUMMARY:СВЕТЛЯЧКИ (4-5)
DESCRIPTION:
URL:https://www.rosinka.at/event/%d1%81%d0%b2%d0%b5%d1%82%d0%bb%d1%8f%d1%87%d0%ba%d0%b8-4-5-2-2025-03-03/2025-06-16/
END:VEVENT
BEGIN:VEVENT
DTSTART;TZID=Europe/Vienna:20250602T171500
DTEND;TZID=Europe/Vienna:20250602T181500
DTSTAMP:20260419T163049
CREATED:20250223T145507Z
LAST-MODIFIED:20250224T180041Z
UID:10866-1748884500-1748888100@www.rosinka.at
SUMMARY:СВЕТЛЯЧКИ (4-5)
DESCRIPTION:
URL:https://www.rosinka.at/event/%d1%81%d0%b2%d0%b5%d1%82%d0%bb%d1%8f%d1%87%d0%ba%d0%b8-4-5-2-2025-03-03/2025-06-02/
END:VEVENT
BEGIN:VEVENT
DTSTART;TZID=Europe/Vienna:20250526T171500
DTEND;TZID=Europe/Vienna:20250526T181500
DTSTAMP:20260419T163049
CREATED:20250223T145507Z
LAST-MODIFIED:20250224T180041Z
UID:10865-1748279700-1748283300@www.rosinka.at
SUMMARY:СВЕТЛЯЧКИ (4-5)
DESCRIPTION:
URL:https://www.rosinka.at/event/%d1%81%d0%b2%d0%b5%d1%82%d0%bb%d1%8f%d1%87%d0%ba%d0%b8-4-5-2-2025-03-03/2025-05-26/
END:VEVENT
BEGIN:VEVENT
DTSTART;TZID=Europe/Vienna:20250519T171500
DTEND;TZID=Europe/Vienna:20250519T181500
DTSTAMP:20260419T163049
CREATED:20250223T145507Z
LAST-MODIFIED:20250224T180041Z
UID:10863-1747674900-1747678500@www.rosinka.at
SUMMARY:СВЕТЛЯЧКИ (4-5)
DESCRIPTION:
URL:https://www.rosinka.at/event/%d1%81%d0%b2%d0%b5%d1%82%d0%bb%d1%8f%d1%87%d0%ba%d0%b8-4-5-2-2025-03-03/2025-05-19/
END:VEVENT
BEGIN:VEVENT
DTSTART;TZID=Europe/Vienna:20250505T171500
DTEND;TZID=Europe/Vienna:20250505T181500
DTSTAMP:20260419T163049
CREATED:20250223T145507Z
LAST-MODIFIED:20250224T180041Z
UID:10861-1746465300-1746468900@www.rosinka.at
SUMMARY:СВЕТЛЯЧКИ (4-5)
DESCRIPTION:
URL:https://www.rosinka.at/event/%d1%81%d0%b2%d0%b5%d1%82%d0%bb%d1%8f%d1%87%d0%ba%d0%b8-4-5-2-2025-03-03/2025-05-05/
END:VEVENT
BEGIN:VEVENT
DTSTART;TZID=Europe/Vienna:20250428T171500
DTEND;TZID=Europe/Vienna:20250428T181500
DTSTAMP:20260419T163049
CREATED:20250223T145507Z
LAST-MODIFIED:20250224T180041Z
UID:10860-1745860500-1745864100@www.rosinka.at
SUMMARY:СВЕТЛЯЧКИ (4-5)
DESCRIPTION:
URL:https://www.rosinka.at/event/%d1%81%d0%b2%d0%b5%d1%82%d0%bb%d1%8f%d1%87%d0%ba%d0%b8-4-5-2-2025-03-03/2025-04-28/
END:VEVENT
BEGIN:VEVENT
DTSTART;TZID=Europe/Vienna:20250407T171500
DTEND;TZID=Europe/Vienna:20250407T181500
DTSTAMP:20260419T163049
CREATED:20250223T145507Z
LAST-MODIFIED:20250224T180041Z
UID:10859-1744046100-1744049700@www.rosinka.at
SUMMARY:СВЕТЛЯЧКИ (4-5)
DESCRIPTION:
URL:https://www.rosinka.at/event/%d1%81%d0%b2%d0%b5%d1%82%d0%bb%d1%8f%d1%87%d0%ba%d0%b8-4-5-2-2025-03-03/2025-04-07/
END:VEVENT
BEGIN:VEVENT
DTSTART;TZID=Europe/Vienna:20250331T171500
DTEND;TZID=Europe/Vienna:20250331T181500
DTSTAMP:20260419T163049
CREATED:20250223T145507Z
LAST-MODIFIED:20250224T180041Z
UID:10858-1743441300-1743444900@www.rosinka.at
SUMMARY:СВЕТЛЯЧКИ (4-5)
DESCRIPTION:
URL:https://www.rosinka.at/event/%d1%81%d0%b2%d0%b5%d1%82%d0%bb%d1%8f%d1%87%d0%ba%d0%b8-4-5-2-2025-03-03/2025-03-31/
END:VEVENT
BEGIN:VEVENT
DTSTART;TZID=Europe/Vienna:20250324T171500
DTEND;TZID=Europe/Vienna:20250324T181500
DTSTAMP:20260419T163049
CREATED:20250223T145507Z
LAST-MODIFIED:20250224T180040Z
UID:10857-1742836500-1742840100@www.rosinka.at
SUMMARY:СВЕТЛЯЧКИ (4-5)
DESCRIPTION:
URL:https://www.rosinka.at/event/%d1%81%d0%b2%d0%b5%d1%82%d0%bb%d1%8f%d1%87%d0%ba%d0%b8-4-5-2-2025-03-03/2025-03-24/
END:VEVENT
BEGIN:VEVENT
DTSTART;TZID=Europe/Vienna:20250317T171500
DTEND;TZID=Europe/Vienna:20250317T181500
DTSTAMP:20260419T163049
CREATED:20250223T145507Z
LAST-MODIFIED:20250224T180040Z
UID:10856-1742231700-1742235300@www.rosinka.at
SUMMARY:СВЕТЛЯЧКИ (4-5)
DESCRIPTION:
URL:https://www.rosinka.at/event/%d1%81%d0%b2%d0%b5%d1%82%d0%bb%d1%8f%d1%87%d0%ba%d0%b8-4-5-2-2025-03-03/2025-03-17/
END:VEVENT
BEGIN:VEVENT
DTSTART;TZID=Europe/Vienna:20250310T171500
DTEND;TZID=Europe/Vienna:20250310T181500
DTSTAMP:20260419T163049
CREATED:20250223T145507Z
LAST-MODIFIED:20250224T180040Z
UID:10855-1741626900-1741630500@www.rosinka.at
SUMMARY:СВЕТЛЯЧКИ (4-5)
DESCRIPTION:
URL:https://www.rosinka.at/event/%d1%81%d0%b2%d0%b5%d1%82%d0%bb%d1%8f%d1%87%d0%ba%d0%b8-4-5-2-2025-03-03/2025-03-10/
END:VEVENT
BEGIN:VEVENT
DTSTART;TZID=Europe/Vienna:20250303T171500
DTEND;TZID=Europe/Vienna:20250303T181500
DTSTAMP:20260419T163049
CREATED:20250223T145507Z
LAST-MODIFIED:20250224T180040Z
UID:10854-1741022100-1741025700@www.rosinka.at
SUMMARY:СВЕТЛЯЧКИ (4-5)
DESCRIPTION:
URL:https://www.rosinka.at/event/%d1%81%d0%b2%d0%b5%d1%82%d0%bb%d1%8f%d1%87%d0%ba%d0%b8-4-5-2-2025-03-03/2025-03-03/
END:VEVENT
END:VCALENDAR