BEGIN:VCALENDAR
VERSION:2.0
PRODID:-//Rosinka - ECPv6.15.20//NONSGML v1.0//EN
CALSCALE:GREGORIAN
METHOD:PUBLISH
X-ORIGINAL-URL:https://www.rosinka.at
X-WR-CALDESC:Мероприятия для Rosinka
REFRESH-INTERVAL;VALUE=DURATION:PT1H
X-Robots-Tag:noindex
X-PUBLISHED-TTL:PT1H
BEGIN:VTIMEZONE
TZID:Europe/Vienna
BEGIN:DAYLIGHT
TZOFFSETFROM:+0100
TZOFFSETTO:+0200
TZNAME:CEST
DTSTART:20250330T010000
END:DAYLIGHT
BEGIN:STANDARD
TZOFFSETFROM:+0200
TZOFFSETTO:+0100
TZNAME:CET
DTSTART:20251026T010000
END:STANDARD
BEGIN:DAYLIGHT
TZOFFSETFROM:+0100
TZOFFSETTO:+0200
TZNAME:CEST
DTSTART:20260329T010000
END:DAYLIGHT
BEGIN:STANDARD
TZOFFSETFROM:+0200
TZOFFSETTO:+0100
TZNAME:CET
DTSTART:20261025T010000
END:STANDARD
BEGIN:DAYLIGHT
TZOFFSETFROM:+0100
TZOFFSETTO:+0200
TZNAME:CEST
DTSTART:20270328T010000
END:DAYLIGHT
BEGIN:STANDARD
TZOFFSETFROM:+0200
TZOFFSETTO:+0100
TZNAME:CET
DTSTART:20271031T010000
END:STANDARD
END:VTIMEZONE
BEGIN:VEVENT
DTSTART;TZID=Europe/Vienna:20260420T165500
DTEND;TZID=Europe/Vienna:20260420T182500
DTSTAMP:20260419T155225
CREATED:20260222T164441Z
LAST-MODIFIED:20260222T164441Z
UID:11827-1776704100-1776709500@www.rosinka.at
SUMMARY:СВЕТЛЯЧКИ (5-6)
DESCRIPTION:
URL:https://www.rosinka.at/event/%d1%81%d0%b2%d0%b5%d1%82%d0%bb%d1%8f%d1%87%d0%ba%d0%b8-5-6-3/2026-04-20/
END:VEVENT
BEGIN:VEVENT
DTSTART;TZID=Europe/Vienna:20260427T165500
DTEND;TZID=Europe/Vienna:20260427T182500
DTSTAMP:20260419T155225
CREATED:20260222T164441Z
LAST-MODIFIED:20260222T164441Z
UID:11828-1777308900-1777314300@www.rosinka.at
SUMMARY:СВЕТЛЯЧКИ (5-6)
DESCRIPTION:
URL:https://www.rosinka.at/event/%d1%81%d0%b2%d0%b5%d1%82%d0%bb%d1%8f%d1%87%d0%ba%d0%b8-5-6-3/2026-04-27/
END:VEVENT
BEGIN:VEVENT
DTSTART;TZID=Europe/Vienna:20260504T165500
DTEND;TZID=Europe/Vienna:20260504T182500
DTSTAMP:20260419T155225
CREATED:20260222T164441Z
LAST-MODIFIED:20260222T164441Z
UID:11829-1777913700-1777919100@www.rosinka.at
SUMMARY:СВЕТЛЯЧКИ (5-6)
DESCRIPTION:
URL:https://www.rosinka.at/event/%d1%81%d0%b2%d0%b5%d1%82%d0%bb%d1%8f%d1%87%d0%ba%d0%b8-5-6-3/2026-05-04/
END:VEVENT
BEGIN:VEVENT
DTSTART;TZID=Europe/Vienna:20260511T165500
DTEND;TZID=Europe/Vienna:20260511T182500
DTSTAMP:20260419T155225
CREATED:20260222T164441Z
LAST-MODIFIED:20260222T164441Z
UID:11830-1778518500-1778523900@www.rosinka.at
SUMMARY:СВЕТЛЯЧКИ (5-6)
DESCRIPTION:
URL:https://www.rosinka.at/event/%d1%81%d0%b2%d0%b5%d1%82%d0%bb%d1%8f%d1%87%d0%ba%d0%b8-5-6-3/2026-05-11/
END:VEVENT
BEGIN:VEVENT
DTSTART;TZID=Europe/Vienna:20260518T165500
DTEND;TZID=Europe/Vienna:20260518T182500
DTSTAMP:20260419T155225
CREATED:20260222T164441Z
LAST-MODIFIED:20260222T164441Z
UID:11831-1779123300-1779128700@www.rosinka.at
SUMMARY:СВЕТЛЯЧКИ (5-6)
DESCRIPTION:
URL:https://www.rosinka.at/event/%d1%81%d0%b2%d0%b5%d1%82%d0%bb%d1%8f%d1%87%d0%ba%d0%b8-5-6-3/2026-05-18/
END:VEVENT
BEGIN:VEVENT
DTSTART;TZID=Europe/Vienna:20260601T165500
DTEND;TZID=Europe/Vienna:20260601T182500
DTSTAMP:20260419T155225
CREATED:20260222T164441Z
LAST-MODIFIED:20260222T164441Z
UID:11833-1780332900-1780338300@www.rosinka.at
SUMMARY:СВЕТЛЯЧКИ (5-6)
DESCRIPTION:
URL:https://www.rosinka.at/event/%d1%81%d0%b2%d0%b5%d1%82%d0%bb%d1%8f%d1%87%d0%ba%d0%b8-5-6-3/2026-06-01/
END:VEVENT
BEGIN:VEVENT
DTSTART;TZID=Europe/Vienna:20260608T165500
DTEND;TZID=Europe/Vienna:20260608T182500
DTSTAMP:20260419T155225
CREATED:20260222T164441Z
LAST-MODIFIED:20260222T164441Z
UID:11834-1780937700-1780943100@www.rosinka.at
SUMMARY:СВЕТЛЯЧКИ (5-6)
DESCRIPTION:
URL:https://www.rosinka.at/event/%d1%81%d0%b2%d0%b5%d1%82%d0%bb%d1%8f%d1%87%d0%ba%d0%b8-5-6-3/2026-06-08/
END:VEVENT
BEGIN:VEVENT
DTSTART;TZID=Europe/Vienna:20260615T165500
DTEND;TZID=Europe/Vienna:20260615T182500
DTSTAMP:20260419T155225
CREATED:20260222T164441Z
LAST-MODIFIED:20260222T164441Z
UID:11835-1781542500-1781547900@www.rosinka.at
SUMMARY:СВЕТЛЯЧКИ (5-6)
DESCRIPTION:
URL:https://www.rosinka.at/event/%d1%81%d0%b2%d0%b5%d1%82%d0%bb%d1%8f%d1%87%d0%ba%d0%b8-5-6-3/2026-06-15/
END:VEVENT
BEGIN:VEVENT
DTSTART;TZID=Europe/Vienna:20260622T165500
DTEND;TZID=Europe/Vienna:20260622T182500
DTSTAMP:20260419T155225
CREATED:20260222T164441Z
LAST-MODIFIED:20260222T164441Z
UID:11836-1782147300-1782152700@www.rosinka.at
SUMMARY:СВЕТЛЯЧКИ (5-6)
DESCRIPTION:
URL:https://www.rosinka.at/event/%d1%81%d0%b2%d0%b5%d1%82%d0%bb%d1%8f%d1%87%d0%ba%d0%b8-5-6-3/2026-06-22/
END:VEVENT
BEGIN:VEVENT
DTSTART;TZID=Europe/Vienna:20260629T165500
DTEND;TZID=Europe/Vienna:20260629T182500
DTSTAMP:20260419T155225
CREATED:20260222T164441Z
LAST-MODIFIED:20260222T164441Z
UID:11837-1782752100-1782757500@www.rosinka.at
SUMMARY:СВЕТЛЯЧКИ (5-6)
DESCRIPTION:
URL:https://www.rosinka.at/event/%d1%81%d0%b2%d0%b5%d1%82%d0%bb%d1%8f%d1%87%d0%ba%d0%b8-5-6-3/2026-06-29/
END:VEVENT
END:VCALENDAR