BEGIN:VCALENDAR
VERSION:2.0
PRODID:-//Rosinka - ECPv6.15.20//NONSGML v1.0//EN
CALSCALE:GREGORIAN
METHOD:PUBLISH
X-WR-CALNAME:Rosinka
X-ORIGINAL-URL:https://www.rosinka.at
X-WR-CALDESC:Мероприятия для Rosinka
REFRESH-INTERVAL;VALUE=DURATION:PT1H
X-Robots-Tag:noindex
X-PUBLISHED-TTL:PT1H
BEGIN:VTIMEZONE
TZID:Europe/Vienna
BEGIN:DAYLIGHT
TZOFFSETFROM:+0100
TZOFFSETTO:+0200
TZNAME:CEST
DTSTART:20240331T010000
END:DAYLIGHT
BEGIN:STANDARD
TZOFFSETFROM:+0200
TZOFFSETTO:+0100
TZNAME:CET
DTSTART:20241027T010000
END:STANDARD
BEGIN:DAYLIGHT
TZOFFSETFROM:+0100
TZOFFSETTO:+0200
TZNAME:CEST
DTSTART:20250330T010000
END:DAYLIGHT
BEGIN:STANDARD
TZOFFSETFROM:+0200
TZOFFSETTO:+0100
TZNAME:CET
DTSTART:20251026T010000
END:STANDARD
BEGIN:DAYLIGHT
TZOFFSETFROM:+0100
TZOFFSETTO:+0200
TZNAME:CEST
DTSTART:20260329T010000
END:DAYLIGHT
BEGIN:STANDARD
TZOFFSETFROM:+0200
TZOFFSETTO:+0100
TZNAME:CET
DTSTART:20261025T010000
END:STANDARD
END:VTIMEZONE
BEGIN:VEVENT
DTSTART;TZID=Europe/Vienna:20250626T164500
DTEND;TZID=Europe/Vienna:20250626T181500
DTSTAMP:20260419T161600
CREATED:20250223T151001Z
LAST-MODIFIED:20250223T151001Z
UID:11030-1750956300-1750961700@www.rosinka.at
SUMMARY:СОЛНЫШКИ (5-6)
DESCRIPTION:
URL:https://www.rosinka.at/event/%d1%81%d0%be%d0%bb%d0%bd%d1%8b%d1%88%d0%ba%d0%b8-5-6-2/2025-06-26/
END:VEVENT
BEGIN:VEVENT
DTSTART;TZID=Europe/Vienna:20250612T164500
DTEND;TZID=Europe/Vienna:20250612T181500
DTSTAMP:20260419T161600
CREATED:20250223T151001Z
LAST-MODIFIED:20250223T151001Z
UID:11029-1749746700-1749752100@www.rosinka.at
SUMMARY:СОЛНЫШКИ (5-6)
DESCRIPTION:
URL:https://www.rosinka.at/event/%d1%81%d0%be%d0%bb%d0%bd%d1%8b%d1%88%d0%ba%d0%b8-5-6-2/2025-06-12/
END:VEVENT
BEGIN:VEVENT
DTSTART;TZID=Europe/Vienna:20250605T164500
DTEND;TZID=Europe/Vienna:20250605T181500
DTSTAMP:20260419T161600
CREATED:20250223T151001Z
LAST-MODIFIED:20250223T151001Z
UID:11028-1749141900-1749147300@www.rosinka.at
SUMMARY:СОЛНЫШКИ (5-6)
DESCRIPTION:
URL:https://www.rosinka.at/event/%d1%81%d0%be%d0%bb%d0%bd%d1%8b%d1%88%d0%ba%d0%b8-5-6-2/2025-06-05/
END:VEVENT
BEGIN:VEVENT
DTSTART;TZID=Europe/Vienna:20250522T164500
DTEND;TZID=Europe/Vienna:20250522T181500
DTSTAMP:20260419T161600
CREATED:20250223T151001Z
LAST-MODIFIED:20250223T151001Z
UID:11026-1747932300-1747937700@www.rosinka.at
SUMMARY:СОЛНЫШКИ (5-6)
DESCRIPTION:
URL:https://www.rosinka.at/event/%d1%81%d0%be%d0%bb%d0%bd%d1%8b%d1%88%d0%ba%d0%b8-5-6-2/2025-05-22/
END:VEVENT
BEGIN:VEVENT
DTSTART;TZID=Europe/Vienna:20250515T164500
DTEND;TZID=Europe/Vienna:20250515T181500
DTSTAMP:20260419T161600
CREATED:20250223T151001Z
LAST-MODIFIED:20250223T151001Z
UID:11025-1747327500-1747332900@www.rosinka.at
SUMMARY:СОЛНЫШКИ (5-6)
DESCRIPTION:
URL:https://www.rosinka.at/event/%d1%81%d0%be%d0%bb%d0%bd%d1%8b%d1%88%d0%ba%d0%b8-5-6-2/2025-05-15/
END:VEVENT
BEGIN:VEVENT
DTSTART;TZID=Europe/Vienna:20250508T164500
DTEND;TZID=Europe/Vienna:20250508T181500
DTSTAMP:20260419T161600
CREATED:20250223T151001Z
LAST-MODIFIED:20250223T151001Z
UID:11024-1746722700-1746728100@www.rosinka.at
SUMMARY:СОЛНЫШКИ (5-6)
DESCRIPTION:
URL:https://www.rosinka.at/event/%d1%81%d0%be%d0%bb%d0%bd%d1%8b%d1%88%d0%ba%d0%b8-5-6-2/2025-05-08/
END:VEVENT
BEGIN:VEVENT
DTSTART;TZID=Europe/Vienna:20250424T164500
DTEND;TZID=Europe/Vienna:20250424T181500
DTSTAMP:20260419T161600
CREATED:20250223T151001Z
LAST-MODIFIED:20250223T151001Z
UID:11023-1745513100-1745518500@www.rosinka.at
SUMMARY:СОЛНЫШКИ (5-6)
DESCRIPTION:
URL:https://www.rosinka.at/event/%d1%81%d0%be%d0%bb%d0%bd%d1%8b%d1%88%d0%ba%d0%b8-5-6-2/2025-04-24/
END:VEVENT
BEGIN:VEVENT
DTSTART;TZID=Europe/Vienna:20250410T164500
DTEND;TZID=Europe/Vienna:20250410T181500
DTSTAMP:20260419T161600
CREATED:20250223T151001Z
LAST-MODIFIED:20250223T151001Z
UID:11022-1744303500-1744308900@www.rosinka.at
SUMMARY:СОЛНЫШКИ (5-6)
DESCRIPTION:
URL:https://www.rosinka.at/event/%d1%81%d0%be%d0%bb%d0%bd%d1%8b%d1%88%d0%ba%d0%b8-5-6-2/2025-04-10/
END:VEVENT
BEGIN:VEVENT
DTSTART;TZID=Europe/Vienna:20250403T164500
DTEND;TZID=Europe/Vienna:20250403T181500
DTSTAMP:20260419T161600
CREATED:20250223T151001Z
LAST-MODIFIED:20250223T151001Z
UID:11021-1743698700-1743704100@www.rosinka.at
SUMMARY:СОЛНЫШКИ (5-6)
DESCRIPTION:
URL:https://www.rosinka.at/event/%d1%81%d0%be%d0%bb%d0%bd%d1%8b%d1%88%d0%ba%d0%b8-5-6-2/2025-04-03/
END:VEVENT
BEGIN:VEVENT
DTSTART;TZID=Europe/Vienna:20250327T164500
DTEND;TZID=Europe/Vienna:20250327T181500
DTSTAMP:20260419T161600
CREATED:20250223T151001Z
LAST-MODIFIED:20250223T151001Z
UID:11020-1743093900-1743099300@www.rosinka.at
SUMMARY:СОЛНЫШКИ (5-6)
DESCRIPTION:
URL:https://www.rosinka.at/event/%d1%81%d0%be%d0%bb%d0%bd%d1%8b%d1%88%d0%ba%d0%b8-5-6-2/2025-03-27/
END:VEVENT
BEGIN:VEVENT
DTSTART;TZID=Europe/Vienna:20250320T164500
DTEND;TZID=Europe/Vienna:20250320T181500
DTSTAMP:20260419T161600
CREATED:20250223T151001Z
LAST-MODIFIED:20250223T151001Z
UID:11019-1742489100-1742494500@www.rosinka.at
SUMMARY:СОЛНЫШКИ (5-6)
DESCRIPTION:
URL:https://www.rosinka.at/event/%d1%81%d0%be%d0%bb%d0%bd%d1%8b%d1%88%d0%ba%d0%b8-5-6-2/2025-03-20/
END:VEVENT
BEGIN:VEVENT
DTSTART;TZID=Europe/Vienna:20250313T164500
DTEND;TZID=Europe/Vienna:20250313T181500
DTSTAMP:20260419T161600
CREATED:20250223T151001Z
LAST-MODIFIED:20250223T151001Z
UID:11018-1741884300-1741889700@www.rosinka.at
SUMMARY:СОЛНЫШКИ (5-6)
DESCRIPTION:
URL:https://www.rosinka.at/event/%d1%81%d0%be%d0%bb%d0%bd%d1%8b%d1%88%d0%ba%d0%b8-5-6-2/2025-03-13/
END:VEVENT
BEGIN:VEVENT
DTSTART;TZID=Europe/Vienna:20250306T164500
DTEND;TZID=Europe/Vienna:20250306T181500
DTSTAMP:20260419T161600
CREATED:20250223T151001Z
LAST-MODIFIED:20250223T151001Z
UID:11017-1741279500-1741284900@www.rosinka.at
SUMMARY:СОЛНЫШКИ (5-6)
DESCRIPTION:
URL:https://www.rosinka.at/event/%d1%81%d0%be%d0%bb%d0%bd%d1%8b%d1%88%d0%ba%d0%b8-5-6-2/2025-03-06/
END:VEVENT
BEGIN:VEVENT
DTSTART;TZID=Europe/Vienna:20250227T164500
DTEND;TZID=Europe/Vienna:20250227T181500
DTSTAMP:20260419T161600
CREATED:20250223T151001Z
LAST-MODIFIED:20250223T151001Z
UID:11016-1740674700-1740680100@www.rosinka.at
SUMMARY:СОЛНЫШКИ (5-6)
DESCRIPTION:
URL:https://www.rosinka.at/event/%d1%81%d0%be%d0%bb%d0%bd%d1%8b%d1%88%d0%ba%d0%b8-5-6-2/2025-02-27/
END:VEVENT
END:VCALENDAR