BEGIN:VCALENDAR
VERSION:2.0
PRODID:-//Rosinka - ECPv6.15.20//NONSGML v1.0//EN
CALSCALE:GREGORIAN
METHOD:PUBLISH
X-WR-CALNAME:Rosinka
X-ORIGINAL-URL:https://www.rosinka.at
X-WR-CALDESC:Мероприятия для Rosinka
REFRESH-INTERVAL;VALUE=DURATION:PT1H
X-Robots-Tag:noindex
X-PUBLISHED-TTL:PT1H
BEGIN:VTIMEZONE
TZID:Europe/Vienna
BEGIN:DAYLIGHT
TZOFFSETFROM:+0100
TZOFFSETTO:+0200
TZNAME:CEST
DTSTART:20250330T010000
END:DAYLIGHT
BEGIN:STANDARD
TZOFFSETFROM:+0200
TZOFFSETTO:+0100
TZNAME:CET
DTSTART:20251026T010000
END:STANDARD
BEGIN:DAYLIGHT
TZOFFSETFROM:+0100
TZOFFSETTO:+0200
TZNAME:CEST
DTSTART:20260329T010000
END:DAYLIGHT
BEGIN:STANDARD
TZOFFSETFROM:+0200
TZOFFSETTO:+0100
TZNAME:CET
DTSTART:20261025T010000
END:STANDARD
BEGIN:DAYLIGHT
TZOFFSETFROM:+0100
TZOFFSETTO:+0200
TZNAME:CEST
DTSTART:20270328T010000
END:DAYLIGHT
BEGIN:STANDARD
TZOFFSETFROM:+0200
TZOFFSETTO:+0100
TZNAME:CET
DTSTART:20271031T010000
END:STANDARD
END:VTIMEZONE
BEGIN:VEVENT
DTSTART;TZID=Europe/Vienna:20260423T164500
DTEND;TZID=Europe/Vienna:20260423T181500
DTSTAMP:20260419T155058
CREATED:20260222T170049Z
LAST-MODIFIED:20260222T171825Z
UID:12023-1776962700-1776968100@www.rosinka.at
SUMMARY:СОЛНЫШКИ (6-7)
DESCRIPTION:
URL:https://www.rosinka.at/event/%d1%81%d0%be%d0%bb%d0%bd%d1%8b%d1%88%d0%ba%d0%b8-6-7-2/2026-04-23/
END:VEVENT
BEGIN:VEVENT
DTSTART;TZID=Europe/Vienna:20260430T164500
DTEND;TZID=Europe/Vienna:20260430T181500
DTSTAMP:20260419T155058
CREATED:20260222T170049Z
LAST-MODIFIED:20260222T171825Z
UID:12024-1777567500-1777572900@www.rosinka.at
SUMMARY:СОЛНЫШКИ (6-7)
DESCRIPTION:
URL:https://www.rosinka.at/event/%d1%81%d0%be%d0%bb%d0%bd%d1%8b%d1%88%d0%ba%d0%b8-6-7-2/2026-04-30/
END:VEVENT
BEGIN:VEVENT
DTSTART;TZID=Europe/Vienna:20260507T164500
DTEND;TZID=Europe/Vienna:20260507T181500
DTSTAMP:20260419T155058
CREATED:20260222T170049Z
LAST-MODIFIED:20260222T171825Z
UID:12025-1778172300-1778177700@www.rosinka.at
SUMMARY:СОЛНЫШКИ (6-7)
DESCRIPTION:
URL:https://www.rosinka.at/event/%d1%81%d0%be%d0%bb%d0%bd%d1%8b%d1%88%d0%ba%d0%b8-6-7-2/2026-05-07/
END:VEVENT
BEGIN:VEVENT
DTSTART;TZID=Europe/Vienna:20260521T164500
DTEND;TZID=Europe/Vienna:20260521T181500
DTSTAMP:20260419T155058
CREATED:20260222T170049Z
LAST-MODIFIED:20260222T171826Z
UID:12026-1779381900-1779387300@www.rosinka.at
SUMMARY:СОЛНЫШКИ (6-7)
DESCRIPTION:
URL:https://www.rosinka.at/event/%d1%81%d0%be%d0%bb%d0%bd%d1%8b%d1%88%d0%ba%d0%b8-6-7-2/2026-05-21/
END:VEVENT
BEGIN:VEVENT
DTSTART;TZID=Europe/Vienna:20260528T164500
DTEND;TZID=Europe/Vienna:20260528T181500
DTSTAMP:20260419T155058
CREATED:20260222T170049Z
LAST-MODIFIED:20260222T171829Z
UID:12027-1779986700-1779992100@www.rosinka.at
SUMMARY:СОЛНЫШКИ (6-7)
DESCRIPTION:
URL:https://www.rosinka.at/event/%d1%81%d0%be%d0%bb%d0%bd%d1%8b%d1%88%d0%ba%d0%b8-6-7-2/2026-05-28/
END:VEVENT
BEGIN:VEVENT
DTSTART;TZID=Europe/Vienna:20260611T164500
DTEND;TZID=Europe/Vienna:20260611T181500
DTSTAMP:20260419T155058
CREATED:20260222T170049Z
LAST-MODIFIED:20260222T171829Z
UID:12028-1781196300-1781201700@www.rosinka.at
SUMMARY:СОЛНЫШКИ (6-7)
DESCRIPTION:
URL:https://www.rosinka.at/event/%d1%81%d0%be%d0%bb%d0%bd%d1%8b%d1%88%d0%ba%d0%b8-6-7-2/2026-06-11/
END:VEVENT
BEGIN:VEVENT
DTSTART;TZID=Europe/Vienna:20260618T164500
DTEND;TZID=Europe/Vienna:20260618T181500
DTSTAMP:20260419T155058
CREATED:20260222T170049Z
LAST-MODIFIED:20260222T171829Z
UID:12029-1781801100-1781806500@www.rosinka.at
SUMMARY:СОЛНЫШКИ (6-7)
DESCRIPTION:
URL:https://www.rosinka.at/event/%d1%81%d0%be%d0%bb%d0%bd%d1%8b%d1%88%d0%ba%d0%b8-6-7-2/2026-06-18/
END:VEVENT
BEGIN:VEVENT
DTSTART;TZID=Europe/Vienna:20260625T164500
DTEND;TZID=Europe/Vienna:20260625T181500
DTSTAMP:20260419T155058
CREATED:20260222T170049Z
LAST-MODIFIED:20260222T171829Z
UID:12030-1782405900-1782411300@www.rosinka.at
SUMMARY:СОЛНЫШКИ (6-7)
DESCRIPTION:
URL:https://www.rosinka.at/event/%d1%81%d0%be%d0%bb%d0%bd%d1%8b%d1%88%d0%ba%d0%b8-6-7-2/2026-06-25/
END:VEVENT
BEGIN:VEVENT
DTSTART;TZID=Europe/Vienna:20260702T164500
DTEND;TZID=Europe/Vienna:20260702T181500
DTSTAMP:20260419T155058
CREATED:20260222T170049Z
LAST-MODIFIED:20260222T171829Z
UID:12031-1783010700-1783016100@www.rosinka.at
SUMMARY:СОЛНЫШКИ (6-7)
DESCRIPTION:
URL:https://www.rosinka.at/event/%d1%81%d0%be%d0%bb%d0%bd%d1%8b%d1%88%d0%ba%d0%b8-6-7-2/2026-07-02/
END:VEVENT
END:VCALENDAR