BEGIN:VCALENDAR
VERSION:2.0
PRODID:-//Rosinka - ECPv6.15.20//NONSGML v1.0//EN
CALSCALE:GREGORIAN
METHOD:PUBLISH
X-WR-CALNAME:Rosinka
X-ORIGINAL-URL:https://www.rosinka.at
X-WR-CALDESC:Мероприятия для Rosinka
REFRESH-INTERVAL;VALUE=DURATION:PT1H
X-Robots-Tag:noindex
X-PUBLISHED-TTL:PT1H
BEGIN:VTIMEZONE
TZID:Europe/Vienna
BEGIN:DAYLIGHT
TZOFFSETFROM:+0100
TZOFFSETTO:+0200
TZNAME:CEST
DTSTART:20240331T010000
END:DAYLIGHT
BEGIN:STANDARD
TZOFFSETFROM:+0200
TZOFFSETTO:+0100
TZNAME:CET
DTSTART:20241027T010000
END:STANDARD
BEGIN:DAYLIGHT
TZOFFSETFROM:+0100
TZOFFSETTO:+0200
TZNAME:CEST
DTSTART:20250330T010000
END:DAYLIGHT
BEGIN:STANDARD
TZOFFSETFROM:+0200
TZOFFSETTO:+0100
TZNAME:CET
DTSTART:20251026T010000
END:STANDARD
BEGIN:DAYLIGHT
TZOFFSETFROM:+0100
TZOFFSETTO:+0200
TZNAME:CEST
DTSTART:20260329T010000
END:DAYLIGHT
BEGIN:STANDARD
TZOFFSETFROM:+0200
TZOFFSETTO:+0100
TZNAME:CET
DTSTART:20261025T010000
END:STANDARD
BEGIN:DAYLIGHT
TZOFFSETFROM:+0100
TZOFFSETTO:+0200
TZNAME:CEST
DTSTART:20270328T010000
END:DAYLIGHT
BEGIN:STANDARD
TZOFFSETFROM:+0200
TZOFFSETTO:+0100
TZNAME:CET
DTSTART:20271031T010000
END:STANDARD
END:VTIMEZONE
BEGIN:VEVENT
DTSTART;TZID=Europe/Vienna:20260131T110000
DTEND;TZID=Europe/Vienna:20260131T120000
DTSTAMP:20260419T155227
CREATED:20250922T133956Z
LAST-MODIFIED:20251020T111952Z
UID:11591-1769857200-1769860800@www.rosinka.at
SUMMARY:ТЕАТРАЛЬНАЯ СТУДИЯ
DESCRIPTION:
URL:https://www.rosinka.at/event/%d1%82%d0%b5%d0%b0%d1%82%d1%80%d0%b0%d0%bb%d1%8c%d0%bd%d0%b0%d1%8f-%d1%81%d1%82%d1%83%d0%b4%d0%b8%d1%8f/2026-01-31/
END:VEVENT
BEGIN:VEVENT
DTSTART;TZID=Europe/Vienna:20260124T110000
DTEND;TZID=Europe/Vienna:20260124T120000
DTSTAMP:20260419T155227
CREATED:20250922T133956Z
LAST-MODIFIED:20251020T111952Z
UID:11590-1769252400-1769256000@www.rosinka.at
SUMMARY:ТЕАТРАЛЬНАЯ СТУДИЯ
DESCRIPTION:
URL:https://www.rosinka.at/event/%d1%82%d0%b5%d0%b0%d1%82%d1%80%d0%b0%d0%bb%d1%8c%d0%bd%d0%b0%d1%8f-%d1%81%d1%82%d1%83%d0%b4%d0%b8%d1%8f/2026-01-24/
END:VEVENT
BEGIN:VEVENT
DTSTART;TZID=Europe/Vienna:20260117T110000
DTEND;TZID=Europe/Vienna:20260117T120000
DTSTAMP:20260419T155227
CREATED:20250922T133956Z
LAST-MODIFIED:20251020T111952Z
UID:11589-1768647600-1768651200@www.rosinka.at
SUMMARY:ТЕАТРАЛЬНАЯ СТУДИЯ
DESCRIPTION:
URL:https://www.rosinka.at/event/%d1%82%d0%b5%d0%b0%d1%82%d1%80%d0%b0%d0%bb%d1%8c%d0%bd%d0%b0%d1%8f-%d1%81%d1%82%d1%83%d0%b4%d0%b8%d1%8f/2026-01-17/
END:VEVENT
BEGIN:VEVENT
DTSTART;TZID=Europe/Vienna:20260110T110000
DTEND;TZID=Europe/Vienna:20260110T120000
DTSTAMP:20260419T155227
CREATED:20250922T133956Z
LAST-MODIFIED:20251020T111951Z
UID:11588-1768042800-1768046400@www.rosinka.at
SUMMARY:ТЕАТРАЛЬНАЯ СТУДИЯ
DESCRIPTION:
URL:https://www.rosinka.at/event/%d1%82%d0%b5%d0%b0%d1%82%d1%80%d0%b0%d0%bb%d1%8c%d0%bd%d0%b0%d1%8f-%d1%81%d1%82%d1%83%d0%b4%d0%b8%d1%8f/2026-01-10/
END:VEVENT
BEGIN:VEVENT
DTSTART;TZID=Europe/Vienna:20251213T110000
DTEND;TZID=Europe/Vienna:20251213T120000
DTSTAMP:20260419T155227
CREATED:20250922T133956Z
LAST-MODIFIED:20251020T111951Z
UID:11586-1765623600-1765627200@www.rosinka.at
SUMMARY:ТЕАТРАЛЬНАЯ СТУДИЯ
DESCRIPTION:
URL:https://www.rosinka.at/event/%d1%82%d0%b5%d0%b0%d1%82%d1%80%d0%b0%d0%bb%d1%8c%d0%bd%d0%b0%d1%8f-%d1%81%d1%82%d1%83%d0%b4%d0%b8%d1%8f/2025-12-13/
END:VEVENT
BEGIN:VEVENT
DTSTART;TZID=Europe/Vienna:20251206T110000
DTEND;TZID=Europe/Vienna:20251206T120000
DTSTAMP:20260419T155227
CREATED:20250922T133956Z
LAST-MODIFIED:20251020T111947Z
UID:11585-1765018800-1765022400@www.rosinka.at
SUMMARY:ТЕАТРАЛЬНАЯ СТУДИЯ
DESCRIPTION:
URL:https://www.rosinka.at/event/%d1%82%d0%b5%d0%b0%d1%82%d1%80%d0%b0%d0%bb%d1%8c%d0%bd%d0%b0%d1%8f-%d1%81%d1%82%d1%83%d0%b4%d0%b8%d1%8f/2025-12-06/
END:VEVENT
BEGIN:VEVENT
DTSTART;TZID=Europe/Vienna:20251129T110000
DTEND;TZID=Europe/Vienna:20251129T120000
DTSTAMP:20260419T155227
CREATED:20250922T133956Z
LAST-MODIFIED:20251020T111947Z
UID:11584-1764414000-1764417600@www.rosinka.at
SUMMARY:ТЕАТРАЛЬНАЯ СТУДИЯ
DESCRIPTION:
URL:https://www.rosinka.at/event/%d1%82%d0%b5%d0%b0%d1%82%d1%80%d0%b0%d0%bb%d1%8c%d0%bd%d0%b0%d1%8f-%d1%81%d1%82%d1%83%d0%b4%d0%b8%d1%8f/2025-11-29/
END:VEVENT
BEGIN:VEVENT
DTSTART;TZID=Europe/Vienna:20251122T110000
DTEND;TZID=Europe/Vienna:20251122T120000
DTSTAMP:20260419T155227
CREATED:20250922T133956Z
LAST-MODIFIED:20251020T111947Z
UID:11583-1763809200-1763812800@www.rosinka.at
SUMMARY:ТЕАТРАЛЬНАЯ СТУДИЯ
DESCRIPTION:
URL:https://www.rosinka.at/event/%d1%82%d0%b5%d0%b0%d1%82%d1%80%d0%b0%d0%bb%d1%8c%d0%bd%d0%b0%d1%8f-%d1%81%d1%82%d1%83%d0%b4%d0%b8%d1%8f/2025-11-22/
END:VEVENT
BEGIN:VEVENT
DTSTART;TZID=Europe/Vienna:20251115T110000
DTEND;TZID=Europe/Vienna:20251115T120000
DTSTAMP:20260419T155227
CREATED:20250922T133956Z
LAST-MODIFIED:20251020T111947Z
UID:11582-1763204400-1763208000@www.rosinka.at
SUMMARY:ТЕАТРАЛЬНАЯ СТУДИЯ
DESCRIPTION:
URL:https://www.rosinka.at/event/%d1%82%d0%b5%d0%b0%d1%82%d1%80%d0%b0%d0%bb%d1%8c%d0%bd%d0%b0%d1%8f-%d1%81%d1%82%d1%83%d0%b4%d0%b8%d1%8f/2025-11-15/
END:VEVENT
BEGIN:VEVENT
DTSTART;TZID=Europe/Vienna:20251108T110000
DTEND;TZID=Europe/Vienna:20251108T120000
DTSTAMP:20260419T155227
CREATED:20250922T133956Z
LAST-MODIFIED:20251020T111947Z
UID:11581-1762599600-1762603200@www.rosinka.at
SUMMARY:ТЕАТРАЛЬНАЯ СТУДИЯ
DESCRIPTION:
URL:https://www.rosinka.at/event/%d1%82%d0%b5%d0%b0%d1%82%d1%80%d0%b0%d0%bb%d1%8c%d0%bd%d0%b0%d1%8f-%d1%81%d1%82%d1%83%d0%b4%d0%b8%d1%8f/2025-11-08/
END:VEVENT
BEGIN:VEVENT
DTSTART;TZID=Europe/Vienna:20251025T110000
DTEND;TZID=Europe/Vienna:20251025T120000
DTSTAMP:20260419T155227
CREATED:20250922T133956Z
LAST-MODIFIED:20250922T133956Z
UID:11712-1761390000-1761393600@www.rosinka.at
SUMMARY:ТЕАТРАЛЬНАЯ СТУДИЯ
DESCRIPTION:
URL:https://www.rosinka.at/event/%d1%82%d0%b5%d0%b0%d1%82%d1%80%d0%b0%d0%bb%d1%8c%d0%bd%d0%b0%d1%8f-%d1%81%d1%82%d1%83%d0%b4%d0%b8%d1%8f/2025-10-25/
END:VEVENT
BEGIN:VEVENT
DTSTART;TZID=Europe/Vienna:20251018T110000
DTEND;TZID=Europe/Vienna:20251018T120000
DTSTAMP:20260419T155227
CREATED:20250922T133956Z
LAST-MODIFIED:20251020T111946Z
UID:11580-1760785200-1760788800@www.rosinka.at
SUMMARY:ТЕАТРАЛЬНАЯ СТУДИЯ
DESCRIPTION:
URL:https://www.rosinka.at/event/%d1%82%d0%b5%d0%b0%d1%82%d1%80%d0%b0%d0%bb%d1%8c%d0%bd%d0%b0%d1%8f-%d1%81%d1%82%d1%83%d0%b4%d0%b8%d1%8f/2025-10-18/
END:VEVENT
BEGIN:VEVENT
DTSTART;TZID=Europe/Vienna:20251011T110000
DTEND;TZID=Europe/Vienna:20251011T120000
DTSTAMP:20260419T155227
CREATED:20250922T133956Z
LAST-MODIFIED:20251020T111946Z
UID:11579-1760180400-1760184000@www.rosinka.at
SUMMARY:ТЕАТРАЛЬНАЯ СТУДИЯ
DESCRIPTION:
URL:https://www.rosinka.at/event/%d1%82%d0%b5%d0%b0%d1%82%d1%80%d0%b0%d0%bb%d1%8c%d0%bd%d0%b0%d1%8f-%d1%81%d1%82%d1%83%d0%b4%d0%b8%d1%8f/2025-10-11/
END:VEVENT
BEGIN:VEVENT
DTSTART;TZID=Europe/Vienna:20251004T110000
DTEND;TZID=Europe/Vienna:20251004T120000
DTSTAMP:20260419T155227
CREATED:20250922T133956Z
LAST-MODIFIED:20251020T111946Z
UID:11578-1759575600-1759579200@www.rosinka.at
SUMMARY:ТЕАТРАЛЬНАЯ СТУДИЯ
DESCRIPTION:
URL:https://www.rosinka.at/event/%d1%82%d0%b5%d0%b0%d1%82%d1%80%d0%b0%d0%bb%d1%8c%d0%bd%d0%b0%d1%8f-%d1%81%d1%82%d1%83%d0%b4%d0%b8%d1%8f/2025-10-04/
END:VEVENT
BEGIN:VEVENT
DTSTART;TZID=Europe/Vienna:20250927T110000
DTEND;TZID=Europe/Vienna:20250927T120000
DTSTAMP:20260419T155227
CREATED:20250922T133956Z
LAST-MODIFIED:20251020T111946Z
UID:11576-1758970800-1758974400@www.rosinka.at
SUMMARY:ТЕАТРАЛЬНАЯ СТУДИЯ
DESCRIPTION:
URL:https://www.rosinka.at/event/%d1%82%d0%b5%d0%b0%d1%82%d1%80%d0%b0%d0%bb%d1%8c%d0%bd%d0%b0%d1%8f-%d1%81%d1%82%d1%83%d0%b4%d0%b8%d1%8f/2025-09-27/
END:VEVENT
BEGIN:VEVENT
DTSTART;TZID=Europe/Vienna:20250920T110000
DTEND;TZID=Europe/Vienna:20250920T120000
DTSTAMP:20260419T155227
CREATED:20250922T133956Z
LAST-MODIFIED:20251020T111945Z
UID:11564-1758366000-1758369600@www.rosinka.at
SUMMARY:ТЕАТРАЛЬНАЯ СТУДИЯ
DESCRIPTION:
URL:https://www.rosinka.at/event/%d1%82%d0%b5%d0%b0%d1%82%d1%80%d0%b0%d0%bb%d1%8c%d0%bd%d0%b0%d1%8f-%d1%81%d1%82%d1%83%d0%b4%d0%b8%d1%8f/2025-09-20/
END:VEVENT
END:VCALENDAR