BEGIN:VCALENDAR
VERSION:2.0
PRODID:-//Rosinka - ECPv6.15.20//NONSGML v1.0//EN
CALSCALE:GREGORIAN
METHOD:PUBLISH
X-ORIGINAL-URL:https://www.rosinka.at
X-WR-CALDESC:Мероприятия для Rosinka
REFRESH-INTERVAL;VALUE=DURATION:PT1H
X-Robots-Tag:noindex
X-PUBLISHED-TTL:PT1H
BEGIN:VTIMEZONE
TZID:Europe/Vienna
BEGIN:DAYLIGHT
TZOFFSETFROM:+0100
TZOFFSETTO:+0200
TZNAME:CEST
DTSTART:20240331T010000
END:DAYLIGHT
BEGIN:STANDARD
TZOFFSETFROM:+0200
TZOFFSETTO:+0100
TZNAME:CET
DTSTART:20241027T010000
END:STANDARD
BEGIN:DAYLIGHT
TZOFFSETFROM:+0100
TZOFFSETTO:+0200
TZNAME:CEST
DTSTART:20250330T010000
END:DAYLIGHT
BEGIN:STANDARD
TZOFFSETFROM:+0200
TZOFFSETTO:+0100
TZNAME:CET
DTSTART:20251026T010000
END:STANDARD
BEGIN:DAYLIGHT
TZOFFSETFROM:+0100
TZOFFSETTO:+0200
TZNAME:CEST
DTSTART:20260329T010000
END:DAYLIGHT
BEGIN:STANDARD
TZOFFSETFROM:+0200
TZOFFSETTO:+0100
TZNAME:CET
DTSTART:20261025T010000
END:STANDARD
END:VTIMEZONE
BEGIN:VEVENT
DTSTART;TZID=Europe/Vienna:20250625T163500
DTEND;TZID=Europe/Vienna:20250625T173500
DTSTAMP:20260419T162958
CREATED:20250223T150208Z
LAST-MODIFIED:20250224T180110Z
UID:10956-1750869300-1750872900@www.rosinka.at
SUMMARY:ФАНТАЗЕРЫ (4-5)
DESCRIPTION:
URL:https://www.rosinka.at/event/%d1%84%d0%b0%d0%bd%d1%82%d0%b0%d0%b7%d0%b5%d1%80%d1%8b-4-5-2025-03-05/2025-06-25/
END:VEVENT
BEGIN:VEVENT
DTSTART;TZID=Europe/Vienna:20250618T163500
DTEND;TZID=Europe/Vienna:20250618T173500
DTSTAMP:20260419T162958
CREATED:20250223T150208Z
LAST-MODIFIED:20250224T180110Z
UID:10955-1750264500-1750268100@www.rosinka.at
SUMMARY:ФАНТАЗЕРЫ (4-5)
DESCRIPTION:
URL:https://www.rosinka.at/event/%d1%84%d0%b0%d0%bd%d1%82%d0%b0%d0%b7%d0%b5%d1%80%d1%8b-4-5-2025-03-05/2025-06-18/
END:VEVENT
BEGIN:VEVENT
DTSTART;TZID=Europe/Vienna:20250611T163500
DTEND;TZID=Europe/Vienna:20250611T173500
DTSTAMP:20260419T162958
CREATED:20250223T150208Z
LAST-MODIFIED:20250224T180110Z
UID:10954-1749659700-1749663300@www.rosinka.at
SUMMARY:ФАНТАЗЕРЫ (4-5)
DESCRIPTION:
URL:https://www.rosinka.at/event/%d1%84%d0%b0%d0%bd%d1%82%d0%b0%d0%b7%d0%b5%d1%80%d1%8b-4-5-2025-03-05/2025-06-11/
END:VEVENT
BEGIN:VEVENT
DTSTART;TZID=Europe/Vienna:20250528T163500
DTEND;TZID=Europe/Vienna:20250528T173500
DTSTAMP:20260419T162958
CREATED:20250223T150208Z
LAST-MODIFIED:20250224T180110Z
UID:10952-1748450100-1748453700@www.rosinka.at
SUMMARY:ФАНТАЗЕРЫ (4-5)
DESCRIPTION:
URL:https://www.rosinka.at/event/%d1%84%d0%b0%d0%bd%d1%82%d0%b0%d0%b7%d0%b5%d1%80%d1%8b-4-5-2025-03-05/2025-05-28/
END:VEVENT
BEGIN:VEVENT
DTSTART;TZID=Europe/Vienna:20250521T163500
DTEND;TZID=Europe/Vienna:20250521T173500
DTSTAMP:20260419T162958
CREATED:20250223T150208Z
LAST-MODIFIED:20250224T180110Z
UID:10951-1747845300-1747848900@www.rosinka.at
SUMMARY:ФАНТАЗЕРЫ (4-5)
DESCRIPTION:
URL:https://www.rosinka.at/event/%d1%84%d0%b0%d0%bd%d1%82%d0%b0%d0%b7%d0%b5%d1%80%d1%8b-4-5-2025-03-05/2025-05-21/
END:VEVENT
BEGIN:VEVENT
DTSTART;TZID=Europe/Vienna:20250514T163500
DTEND;TZID=Europe/Vienna:20250514T173500
DTSTAMP:20260419T162958
CREATED:20250223T150208Z
LAST-MODIFIED:20250224T180110Z
UID:10949-1747240500-1747244100@www.rosinka.at
SUMMARY:ФАНТАЗЕРЫ (4-5)
DESCRIPTION:
URL:https://www.rosinka.at/event/%d1%84%d0%b0%d0%bd%d1%82%d0%b0%d0%b7%d0%b5%d1%80%d1%8b-4-5-2025-03-05/2025-05-14/
END:VEVENT
BEGIN:VEVENT
DTSTART;TZID=Europe/Vienna:20250507T163500
DTEND;TZID=Europe/Vienna:20250507T173500
DTSTAMP:20260419T162958
CREATED:20250223T150208Z
LAST-MODIFIED:20250224T180110Z
UID:10948-1746635700-1746639300@www.rosinka.at
SUMMARY:ФАНТАЗЕРЫ (4-5)
DESCRIPTION:
URL:https://www.rosinka.at/event/%d1%84%d0%b0%d0%bd%d1%82%d0%b0%d0%b7%d0%b5%d1%80%d1%8b-4-5-2025-03-05/2025-05-07/
END:VEVENT
BEGIN:VEVENT
DTSTART;TZID=Europe/Vienna:20250430T163500
DTEND;TZID=Europe/Vienna:20250430T173500
DTSTAMP:20260419T162958
CREATED:20250223T150208Z
LAST-MODIFIED:20250224T180110Z
UID:10947-1746030900-1746034500@www.rosinka.at
SUMMARY:ФАНТАЗЕРЫ (4-5)
DESCRIPTION:
URL:https://www.rosinka.at/event/%d1%84%d0%b0%d0%bd%d1%82%d0%b0%d0%b7%d0%b5%d1%80%d1%8b-4-5-2025-03-05/2025-04-30/
END:VEVENT
BEGIN:VEVENT
DTSTART;TZID=Europe/Vienna:20250423T163500
DTEND;TZID=Europe/Vienna:20250423T173500
DTSTAMP:20260419T162958
CREATED:20250223T150208Z
LAST-MODIFIED:20250224T180109Z
UID:10946-1745426100-1745429700@www.rosinka.at
SUMMARY:ФАНТАЗЕРЫ (4-5)
DESCRIPTION:
URL:https://www.rosinka.at/event/%d1%84%d0%b0%d0%bd%d1%82%d0%b0%d0%b7%d0%b5%d1%80%d1%8b-4-5-2025-03-05/2025-04-23/
END:VEVENT
BEGIN:VEVENT
DTSTART;TZID=Europe/Vienna:20250409T163500
DTEND;TZID=Europe/Vienna:20250409T173500
DTSTAMP:20260419T162958
CREATED:20250223T150208Z
LAST-MODIFIED:20250224T180109Z
UID:10945-1744216500-1744220100@www.rosinka.at
SUMMARY:ФАНТАЗЕРЫ (4-5)
DESCRIPTION:
URL:https://www.rosinka.at/event/%d1%84%d0%b0%d0%bd%d1%82%d0%b0%d0%b7%d0%b5%d1%80%d1%8b-4-5-2025-03-05/2025-04-09/
END:VEVENT
BEGIN:VEVENT
DTSTART;TZID=Europe/Vienna:20250402T163500
DTEND;TZID=Europe/Vienna:20250402T173500
DTSTAMP:20260419T162958
CREATED:20250223T150208Z
LAST-MODIFIED:20250224T180109Z
UID:10944-1743611700-1743615300@www.rosinka.at
SUMMARY:ФАНТАЗЕРЫ (4-5)
DESCRIPTION:
URL:https://www.rosinka.at/event/%d1%84%d0%b0%d0%bd%d1%82%d0%b0%d0%b7%d0%b5%d1%80%d1%8b-4-5-2025-03-05/2025-04-02/
END:VEVENT
BEGIN:VEVENT
DTSTART;TZID=Europe/Vienna:20250326T163500
DTEND;TZID=Europe/Vienna:20250326T173500
DTSTAMP:20260419T162958
CREATED:20250223T150208Z
LAST-MODIFIED:20250224T180109Z
UID:10943-1743006900-1743010500@www.rosinka.at
SUMMARY:ФАНТАЗЕРЫ (4-5)
DESCRIPTION:
URL:https://www.rosinka.at/event/%d1%84%d0%b0%d0%bd%d1%82%d0%b0%d0%b7%d0%b5%d1%80%d1%8b-4-5-2025-03-05/2025-03-26/
END:VEVENT
BEGIN:VEVENT
DTSTART;TZID=Europe/Vienna:20250312T163500
DTEND;TZID=Europe/Vienna:20250312T173500
DTSTAMP:20260419T162958
CREATED:20250223T150208Z
LAST-MODIFIED:20250224T180109Z
UID:10941-1741797300-1741800900@www.rosinka.at
SUMMARY:ФАНТАЗЕРЫ (4-5)
DESCRIPTION:
URL:https://www.rosinka.at/event/%d1%84%d0%b0%d0%bd%d1%82%d0%b0%d0%b7%d0%b5%d1%80%d1%8b-4-5-2025-03-05/2025-03-12/
END:VEVENT
BEGIN:VEVENT
DTSTART;TZID=Europe/Vienna:20250305T163500
DTEND;TZID=Europe/Vienna:20250305T173500
DTSTAMP:20260419T162958
CREATED:20250223T150208Z
LAST-MODIFIED:20250224T180109Z
UID:10940-1741192500-1741196100@www.rosinka.at
SUMMARY:ФАНТАЗЕРЫ (4-5)
DESCRIPTION:
URL:https://www.rosinka.at/event/%d1%84%d0%b0%d0%bd%d1%82%d0%b0%d0%b7%d0%b5%d1%80%d1%8b-4-5-2025-03-05/2025-03-05/
END:VEVENT
END:VCALENDAR