BEGIN:VCALENDAR
VERSION:2.0
PRODID:-//Rosinka - ECPv6.15.20//NONSGML v1.0//EN
CALSCALE:GREGORIAN
METHOD:PUBLISH
X-ORIGINAL-URL:https://www.rosinka.at
X-WR-CALDESC:Мероприятия для Rosinka
REFRESH-INTERVAL;VALUE=DURATION:PT1H
X-Robots-Tag:noindex
X-PUBLISHED-TTL:PT1H
BEGIN:VTIMEZONE
TZID:Europe/Vienna
BEGIN:DAYLIGHT
TZOFFSETFROM:+0100
TZOFFSETTO:+0200
TZNAME:CEST
DTSTART:20250330T010000
END:DAYLIGHT
BEGIN:STANDARD
TZOFFSETFROM:+0200
TZOFFSETTO:+0100
TZNAME:CET
DTSTART:20251026T010000
END:STANDARD
BEGIN:DAYLIGHT
TZOFFSETFROM:+0100
TZOFFSETTO:+0200
TZNAME:CEST
DTSTART:20260329T010000
END:DAYLIGHT
BEGIN:STANDARD
TZOFFSETFROM:+0200
TZOFFSETTO:+0100
TZNAME:CET
DTSTART:20261025T010000
END:STANDARD
BEGIN:DAYLIGHT
TZOFFSETFROM:+0100
TZOFFSETTO:+0200
TZNAME:CEST
DTSTART:20270328T010000
END:DAYLIGHT
BEGIN:STANDARD
TZOFFSETFROM:+0200
TZOFFSETTO:+0100
TZNAME:CET
DTSTART:20271031T010000
END:STANDARD
END:VTIMEZONE
BEGIN:VEVENT
DTSTART;TZID=Europe/Vienna:20260422T161500
DTEND;TZID=Europe/Vienna:20260422T174500
DTSTAMP:20260419T155226
CREATED:20260222T165055Z
LAST-MODIFIED:20260222T165055Z
UID:11881-1776874500-1776879900@www.rosinka.at
SUMMARY:ФАНТАЗЕРЫ (5-6)
DESCRIPTION:
URL:https://www.rosinka.at/event/%d1%84%d0%b0%d0%bd%d1%82%d0%b0%d0%b7%d0%b5%d1%80%d1%8b-5-6-3/2026-04-22/
END:VEVENT
BEGIN:VEVENT
DTSTART;TZID=Europe/Vienna:20260429T161500
DTEND;TZID=Europe/Vienna:20260429T174500
DTSTAMP:20260419T155226
CREATED:20260222T165055Z
LAST-MODIFIED:20260222T165055Z
UID:11882-1777479300-1777484700@www.rosinka.at
SUMMARY:ФАНТАЗЕРЫ (5-6)
DESCRIPTION:
URL:https://www.rosinka.at/event/%d1%84%d0%b0%d0%bd%d1%82%d0%b0%d0%b7%d0%b5%d1%80%d1%8b-5-6-3/2026-04-29/
END:VEVENT
BEGIN:VEVENT
DTSTART;TZID=Europe/Vienna:20260506T161500
DTEND;TZID=Europe/Vienna:20260506T174500
DTSTAMP:20260419T155226
CREATED:20260222T165055Z
LAST-MODIFIED:20260222T165055Z
UID:11883-1778084100-1778089500@www.rosinka.at
SUMMARY:ФАНТАЗЕРЫ (5-6)
DESCRIPTION:
URL:https://www.rosinka.at/event/%d1%84%d0%b0%d0%bd%d1%82%d0%b0%d0%b7%d0%b5%d1%80%d1%8b-5-6-3/2026-05-06/
END:VEVENT
BEGIN:VEVENT
DTSTART;TZID=Europe/Vienna:20260513T161500
DTEND;TZID=Europe/Vienna:20260513T174500
DTSTAMP:20260419T155226
CREATED:20260222T165055Z
LAST-MODIFIED:20260222T165055Z
UID:11884-1778688900-1778694300@www.rosinka.at
SUMMARY:ФАНТАЗЕРЫ (5-6)
DESCRIPTION:
URL:https://www.rosinka.at/event/%d1%84%d0%b0%d0%bd%d1%82%d0%b0%d0%b7%d0%b5%d1%80%d1%8b-5-6-3/2026-05-13/
END:VEVENT
BEGIN:VEVENT
DTSTART;TZID=Europe/Vienna:20260520T161500
DTEND;TZID=Europe/Vienna:20260520T174500
DTSTAMP:20260419T155226
CREATED:20260222T165055Z
LAST-MODIFIED:20260222T165055Z
UID:11886-1779293700-1779299100@www.rosinka.at
SUMMARY:ФАНТАЗЕРЫ (5-6)
DESCRIPTION:
URL:https://www.rosinka.at/event/%d1%84%d0%b0%d0%bd%d1%82%d0%b0%d0%b7%d0%b5%d1%80%d1%8b-5-6-3/2026-05-20/
END:VEVENT
BEGIN:VEVENT
DTSTART;TZID=Europe/Vienna:20260527T161500
DTEND;TZID=Europe/Vienna:20260527T174500
DTSTAMP:20260419T155226
CREATED:20260222T165055Z
LAST-MODIFIED:20260222T165055Z
UID:11887-1779898500-1779903900@www.rosinka.at
SUMMARY:ФАНТАЗЕРЫ (5-6)
DESCRIPTION:
URL:https://www.rosinka.at/event/%d1%84%d0%b0%d0%bd%d1%82%d0%b0%d0%b7%d0%b5%d1%80%d1%8b-5-6-3/2026-05-27/
END:VEVENT
BEGIN:VEVENT
DTSTART;TZID=Europe/Vienna:20260603T161500
DTEND;TZID=Europe/Vienna:20260603T174500
DTSTAMP:20260419T155226
CREATED:20260222T165055Z
LAST-MODIFIED:20260222T165055Z
UID:11888-1780503300-1780508700@www.rosinka.at
SUMMARY:ФАНТАЗЕРЫ (5-6)
DESCRIPTION:
URL:https://www.rosinka.at/event/%d1%84%d0%b0%d0%bd%d1%82%d0%b0%d0%b7%d0%b5%d1%80%d1%8b-5-6-3/2026-06-03/
END:VEVENT
BEGIN:VEVENT
DTSTART;TZID=Europe/Vienna:20260610T161500
DTEND;TZID=Europe/Vienna:20260610T174500
DTSTAMP:20260419T155226
CREATED:20260222T165055Z
LAST-MODIFIED:20260222T165055Z
UID:11889-1781108100-1781113500@www.rosinka.at
SUMMARY:ФАНТАЗЕРЫ (5-6)
DESCRIPTION:
URL:https://www.rosinka.at/event/%d1%84%d0%b0%d0%bd%d1%82%d0%b0%d0%b7%d0%b5%d1%80%d1%8b-5-6-3/2026-06-10/
END:VEVENT
BEGIN:VEVENT
DTSTART;TZID=Europe/Vienna:20260617T161500
DTEND;TZID=Europe/Vienna:20260617T174500
DTSTAMP:20260419T155226
CREATED:20260222T165055Z
LAST-MODIFIED:20260222T165055Z
UID:11890-1781712900-1781718300@www.rosinka.at
SUMMARY:ФАНТАЗЕРЫ (5-6)
DESCRIPTION:
URL:https://www.rosinka.at/event/%d1%84%d0%b0%d0%bd%d1%82%d0%b0%d0%b7%d0%b5%d1%80%d1%8b-5-6-3/2026-06-17/
END:VEVENT
BEGIN:VEVENT
DTSTART;TZID=Europe/Vienna:20260624T161500
DTEND;TZID=Europe/Vienna:20260624T174500
DTSTAMP:20260419T155226
CREATED:20260222T165055Z
LAST-MODIFIED:20260222T165055Z
UID:11891-1782317700-1782323100@www.rosinka.at
SUMMARY:ФАНТАЗЕРЫ (5-6)
DESCRIPTION:
URL:https://www.rosinka.at/event/%d1%84%d0%b0%d0%bd%d1%82%d0%b0%d0%b7%d0%b5%d1%80%d1%8b-5-6-3/2026-06-24/
END:VEVENT
BEGIN:VEVENT
DTSTART;TZID=Europe/Vienna:20260701T161500
DTEND;TZID=Europe/Vienna:20260701T174500
DTSTAMP:20260419T155226
CREATED:20260222T165055Z
LAST-MODIFIED:20260222T165055Z
UID:11892-1782922500-1782927900@www.rosinka.at
SUMMARY:ФАНТАЗЕРЫ (5-6)
DESCRIPTION:
URL:https://www.rosinka.at/event/%d1%84%d0%b0%d0%bd%d1%82%d0%b0%d0%b7%d0%b5%d1%80%d1%8b-5-6-3/2026-07-01/
END:VEVENT
END:VCALENDAR