BEGIN:VCALENDAR
VERSION:2.0
PRODID:-//Rosinka - ECPv6.15.20//NONSGML v1.0//EN
CALSCALE:GREGORIAN
METHOD:PUBLISH
X-WR-CALNAME:Rosinka
X-ORIGINAL-URL:https://www.rosinka.at
X-WR-CALDESC:Мероприятия для Rosinka
REFRESH-INTERVAL;VALUE=DURATION:PT1H
X-Robots-Tag:noindex
X-PUBLISHED-TTL:PT1H
BEGIN:VTIMEZONE
TZID:Europe/Vienna
BEGIN:DAYLIGHT
TZOFFSETFROM:+0100
TZOFFSETTO:+0200
TZNAME:CEST
DTSTART:20240331T010000
END:DAYLIGHT
BEGIN:STANDARD
TZOFFSETFROM:+0200
TZOFFSETTO:+0100
TZNAME:CET
DTSTART:20241027T010000
END:STANDARD
BEGIN:DAYLIGHT
TZOFFSETFROM:+0100
TZOFFSETTO:+0200
TZNAME:CEST
DTSTART:20250330T010000
END:DAYLIGHT
BEGIN:STANDARD
TZOFFSETFROM:+0200
TZOFFSETTO:+0100
TZNAME:CET
DTSTART:20251026T010000
END:STANDARD
BEGIN:DAYLIGHT
TZOFFSETFROM:+0100
TZOFFSETTO:+0200
TZNAME:CEST
DTSTART:20260329T010000
END:DAYLIGHT
BEGIN:STANDARD
TZOFFSETFROM:+0200
TZOFFSETTO:+0100
TZNAME:CET
DTSTART:20261025T010000
END:STANDARD
BEGIN:DAYLIGHT
TZOFFSETFROM:+0100
TZOFFSETTO:+0200
TZNAME:CEST
DTSTART:20270328T010000
END:DAYLIGHT
BEGIN:STANDARD
TZOFFSETFROM:+0200
TZOFFSETTO:+0100
TZNAME:CET
DTSTART:20271031T010000
END:STANDARD
END:VTIMEZONE
BEGIN:VEVENT
DTSTART;TZID=Europe/Vienna:20260211T161500
DTEND;TZID=Europe/Vienna:20260211T174500
DTSTAMP:20260419T162818
CREATED:20250914T103540Z
LAST-MODIFIED:20250914T103540Z
UID:11544-1770826500-1770831900@www.rosinka.at
SUMMARY:ФАНТАЗЕРЫ (5-6)
DESCRIPTION:
URL:https://www.rosinka.at/event/%d1%84%d0%b0%d0%bd%d1%82%d0%b0%d0%b7%d0%b5%d1%80%d1%8b-5-6/2026-02-11/
END:VEVENT
BEGIN:VEVENT
DTSTART;TZID=Europe/Vienna:20260204T161500
DTEND;TZID=Europe/Vienna:20260204T174500
DTSTAMP:20260419T162818
CREATED:20250914T103540Z
LAST-MODIFIED:20250914T103540Z
UID:11543-1770221700-1770227100@www.rosinka.at
SUMMARY:ФАНТАЗЕРЫ (5-6)
DESCRIPTION:
URL:https://www.rosinka.at/event/%d1%84%d0%b0%d0%bd%d1%82%d0%b0%d0%b7%d0%b5%d1%80%d1%8b-5-6/2026-02-04/
END:VEVENT
BEGIN:VEVENT
DTSTART;TZID=Europe/Vienna:20260128T161500
DTEND;TZID=Europe/Vienna:20260128T174500
DTSTAMP:20260419T162818
CREATED:20250914T103540Z
LAST-MODIFIED:20250914T103540Z
UID:11542-1769616900-1769622300@www.rosinka.at
SUMMARY:ФАНТАЗЕРЫ (5-6)
DESCRIPTION:
URL:https://www.rosinka.at/event/%d1%84%d0%b0%d0%bd%d1%82%d0%b0%d0%b7%d0%b5%d1%80%d1%8b-5-6/2026-01-28/
END:VEVENT
BEGIN:VEVENT
DTSTART;TZID=Europe/Vienna:20260121T161500
DTEND;TZID=Europe/Vienna:20260121T174500
DTSTAMP:20260419T162818
CREATED:20250914T103540Z
LAST-MODIFIED:20250914T103540Z
UID:11541-1769012100-1769017500@www.rosinka.at
SUMMARY:ФАНТАЗЕРЫ (5-6)
DESCRIPTION:
URL:https://www.rosinka.at/event/%d1%84%d0%b0%d0%bd%d1%82%d0%b0%d0%b7%d0%b5%d1%80%d1%8b-5-6/2026-01-21/
END:VEVENT
BEGIN:VEVENT
DTSTART;TZID=Europe/Vienna:20260114T161500
DTEND;TZID=Europe/Vienna:20260114T174500
DTSTAMP:20260419T162818
CREATED:20250914T103540Z
LAST-MODIFIED:20250914T103540Z
UID:11540-1768407300-1768412700@www.rosinka.at
SUMMARY:ФАНТАЗЕРЫ (5-6)
DESCRIPTION:
URL:https://www.rosinka.at/event/%d1%84%d0%b0%d0%bd%d1%82%d0%b0%d0%b7%d0%b5%d1%80%d1%8b-5-6/2026-01-14/
END:VEVENT
BEGIN:VEVENT
DTSTART;TZID=Europe/Vienna:20260107T161500
DTEND;TZID=Europe/Vienna:20260107T174500
DTSTAMP:20260419T162818
CREATED:20250914T103540Z
LAST-MODIFIED:20250914T103540Z
UID:11539-1767802500-1767807900@www.rosinka.at
SUMMARY:ФАНТАЗЕРЫ (5-6)
DESCRIPTION:
URL:https://www.rosinka.at/event/%d1%84%d0%b0%d0%bd%d1%82%d0%b0%d0%b7%d0%b5%d1%80%d1%8b-5-6/2026-01-07/
END:VEVENT
BEGIN:VEVENT
DTSTART;TZID=Europe/Vienna:20251217T161500
DTEND;TZID=Europe/Vienna:20251217T174500
DTSTAMP:20260419T162818
CREATED:20250914T103540Z
LAST-MODIFIED:20250914T103540Z
UID:11538-1765988100-1765993500@www.rosinka.at
SUMMARY:ФАНТАЗЕРЫ (5-6)
DESCRIPTION:
URL:https://www.rosinka.at/event/%d1%84%d0%b0%d0%bd%d1%82%d0%b0%d0%b7%d0%b5%d1%80%d1%8b-5-6/2025-12-17/
END:VEVENT
BEGIN:VEVENT
DTSTART;TZID=Europe/Vienna:20251210T161500
DTEND;TZID=Europe/Vienna:20251210T174500
DTSTAMP:20260419T162818
CREATED:20250914T103540Z
LAST-MODIFIED:20250914T103540Z
UID:11537-1765383300-1765388700@www.rosinka.at
SUMMARY:ФАНТАЗЕРЫ (5-6)
DESCRIPTION:
URL:https://www.rosinka.at/event/%d1%84%d0%b0%d0%bd%d1%82%d0%b0%d0%b7%d0%b5%d1%80%d1%8b-5-6/2025-12-10/
END:VEVENT
BEGIN:VEVENT
DTSTART;TZID=Europe/Vienna:20251126T161500
DTEND;TZID=Europe/Vienna:20251126T174500
DTSTAMP:20260419T162818
CREATED:20250914T103540Z
LAST-MODIFIED:20250914T103540Z
UID:11535-1764173700-1764179100@www.rosinka.at
SUMMARY:ФАНТАЗЕРЫ (5-6)
DESCRIPTION:
URL:https://www.rosinka.at/event/%d1%84%d0%b0%d0%bd%d1%82%d0%b0%d0%b7%d0%b5%d1%80%d1%8b-5-6/2025-11-26/
END:VEVENT
BEGIN:VEVENT
DTSTART;TZID=Europe/Vienna:20251119T161500
DTEND;TZID=Europe/Vienna:20251119T174500
DTSTAMP:20260419T162818
CREATED:20250914T103540Z
LAST-MODIFIED:20250914T103540Z
UID:11534-1763568900-1763574300@www.rosinka.at
SUMMARY:ФАНТАЗЕРЫ (5-6)
DESCRIPTION:
URL:https://www.rosinka.at/event/%d1%84%d0%b0%d0%bd%d1%82%d0%b0%d0%b7%d0%b5%d1%80%d1%8b-5-6/2025-11-19/
END:VEVENT
BEGIN:VEVENT
DTSTART;TZID=Europe/Vienna:20251112T161500
DTEND;TZID=Europe/Vienna:20251112T174500
DTSTAMP:20260419T162818
CREATED:20250914T103540Z
LAST-MODIFIED:20250914T103540Z
UID:11533-1762964100-1762969500@www.rosinka.at
SUMMARY:ФАНТАЗЕРЫ (5-6)
DESCRIPTION:
URL:https://www.rosinka.at/event/%d1%84%d0%b0%d0%bd%d1%82%d0%b0%d0%b7%d0%b5%d1%80%d1%8b-5-6/2025-11-12/
END:VEVENT
BEGIN:VEVENT
DTSTART;TZID=Europe/Vienna:20251105T161500
DTEND;TZID=Europe/Vienna:20251105T174500
DTSTAMP:20260419T162818
CREATED:20250914T103540Z
LAST-MODIFIED:20250914T103540Z
UID:11532-1762359300-1762364700@www.rosinka.at
SUMMARY:ФАНТАЗЕРЫ (5-6)
DESCRIPTION:
URL:https://www.rosinka.at/event/%d1%84%d0%b0%d0%bd%d1%82%d0%b0%d0%b7%d0%b5%d1%80%d1%8b-5-6/2025-11-05/
END:VEVENT
BEGIN:VEVENT
DTSTART;TZID=Europe/Vienna:20251022T161500
DTEND;TZID=Europe/Vienna:20251022T174500
DTSTAMP:20260419T162818
CREATED:20250914T103540Z
LAST-MODIFIED:20250914T103540Z
UID:11531-1761149700-1761155100@www.rosinka.at
SUMMARY:ФАНТАЗЕРЫ (5-6)
DESCRIPTION:
URL:https://www.rosinka.at/event/%d1%84%d0%b0%d0%bd%d1%82%d0%b0%d0%b7%d0%b5%d1%80%d1%8b-5-6/2025-10-22/
END:VEVENT
BEGIN:VEVENT
DTSTART;TZID=Europe/Vienna:20251015T161500
DTEND;TZID=Europe/Vienna:20251015T174500
DTSTAMP:20260419T162818
CREATED:20250914T103540Z
LAST-MODIFIED:20250914T103540Z
UID:11530-1760544900-1760550300@www.rosinka.at
SUMMARY:ФАНТАЗЕРЫ (5-6)
DESCRIPTION:
URL:https://www.rosinka.at/event/%d1%84%d0%b0%d0%bd%d1%82%d0%b0%d0%b7%d0%b5%d1%80%d1%8b-5-6/2025-10-15/
END:VEVENT
BEGIN:VEVENT
DTSTART;TZID=Europe/Vienna:20251008T161500
DTEND;TZID=Europe/Vienna:20251008T174500
DTSTAMP:20260419T162818
CREATED:20250914T103540Z
LAST-MODIFIED:20250914T103540Z
UID:11529-1759940100-1759945500@www.rosinka.at
SUMMARY:ФАНТАЗЕРЫ (5-6)
DESCRIPTION:
URL:https://www.rosinka.at/event/%d1%84%d0%b0%d0%bd%d1%82%d0%b0%d0%b7%d0%b5%d1%80%d1%8b-5-6/2025-10-08/
END:VEVENT
BEGIN:VEVENT
DTSTART;TZID=Europe/Vienna:20251001T161500
DTEND;TZID=Europe/Vienna:20251001T174500
DTSTAMP:20260419T162818
CREATED:20250914T103540Z
LAST-MODIFIED:20250914T103540Z
UID:11528-1759335300-1759340700@www.rosinka.at
SUMMARY:ФАНТАЗЕРЫ (5-6)
DESCRIPTION:
URL:https://www.rosinka.at/event/%d1%84%d0%b0%d0%bd%d1%82%d0%b0%d0%b7%d0%b5%d1%80%d1%8b-5-6/2025-10-01/
END:VEVENT
BEGIN:VEVENT
DTSTART;TZID=Europe/Vienna:20250917T161500
DTEND;TZID=Europe/Vienna:20250917T174500
DTSTAMP:20260419T162818
CREATED:20250914T103540Z
LAST-MODIFIED:20250921T201421Z
UID:11422-1758125700-1758131100@www.rosinka.at
SUMMARY:ФАНТАЗЕРЫ (5-6)
DESCRIPTION:
URL:https://www.rosinka.at/event/%d1%84%d0%b0%d0%bd%d1%82%d0%b0%d0%b7%d0%b5%d1%80%d1%8b-5-6/2025-09-17/
END:VEVENT
END:VCALENDAR