BEGIN:VCALENDAR
VERSION:2.0
PRODID:-//Rosinka - ECPv6.15.20//NONSGML v1.0//EN
CALSCALE:GREGORIAN
METHOD:PUBLISH
X-ORIGINAL-URL:https://www.rosinka.at
X-WR-CALDESC:Мероприятия для Rosinka
REFRESH-INTERVAL;VALUE=DURATION:PT1H
X-Robots-Tag:noindex
X-PUBLISHED-TTL:PT1H
BEGIN:VTIMEZONE
TZID:Europe/Vienna
BEGIN:DAYLIGHT
TZOFFSETFROM:+0100
TZOFFSETTO:+0200
TZNAME:CEST
DTSTART:20250330T010000
END:DAYLIGHT
BEGIN:STANDARD
TZOFFSETFROM:+0200
TZOFFSETTO:+0100
TZNAME:CET
DTSTART:20251026T010000
END:STANDARD
BEGIN:DAYLIGHT
TZOFFSETFROM:+0100
TZOFFSETTO:+0200
TZNAME:CEST
DTSTART:20260329T010000
END:DAYLIGHT
BEGIN:STANDARD
TZOFFSETFROM:+0200
TZOFFSETTO:+0100
TZNAME:CET
DTSTART:20261025T010000
END:STANDARD
BEGIN:DAYLIGHT
TZOFFSETFROM:+0100
TZOFFSETTO:+0200
TZNAME:CEST
DTSTART:20270328T010000
END:DAYLIGHT
BEGIN:STANDARD
TZOFFSETFROM:+0200
TZOFFSETTO:+0100
TZNAME:CET
DTSTART:20271031T010000
END:STANDARD
END:VTIMEZONE
BEGIN:VEVENT
DTSTART;TZID=Europe/Vienna:20260424T150000
DTEND;TZID=Europe/Vienna:20260424T163000
DTSTAMP:20260419T155227
CREATED:20260222T172147Z
LAST-MODIFIED:20260222T172147Z
UID:12053-1777042800-1777048200@www.rosinka.at
SUMMARY:ФИКСИКИ (7-9)
DESCRIPTION:
URL:https://www.rosinka.at/event/%d1%84%d0%b8%d0%ba%d1%81%d0%b8%d0%ba%d0%b8-7-9-2/2026-04-24/
END:VEVENT
BEGIN:VEVENT
DTSTART;TZID=Europe/Vienna:20260508T150000
DTEND;TZID=Europe/Vienna:20260508T163000
DTSTAMP:20260419T155227
CREATED:20260222T172147Z
LAST-MODIFIED:20260222T172147Z
UID:12054-1778252400-1778257800@www.rosinka.at
SUMMARY:ФИКСИКИ (7-9)
DESCRIPTION:
URL:https://www.rosinka.at/event/%d1%84%d0%b8%d0%ba%d1%81%d0%b8%d0%ba%d0%b8-7-9-2/2026-05-08/
END:VEVENT
BEGIN:VEVENT
DTSTART;TZID=Europe/Vienna:20260515T150000
DTEND;TZID=Europe/Vienna:20260515T163000
DTSTAMP:20260419T155227
CREATED:20260222T172147Z
LAST-MODIFIED:20260222T172147Z
UID:12055-1778857200-1778862600@www.rosinka.at
SUMMARY:ФИКСИКИ (7-9)
DESCRIPTION:
URL:https://www.rosinka.at/event/%d1%84%d0%b8%d0%ba%d1%81%d0%b8%d0%ba%d0%b8-7-9-2/2026-05-15/
END:VEVENT
BEGIN:VEVENT
DTSTART;TZID=Europe/Vienna:20260522T150000
DTEND;TZID=Europe/Vienna:20260522T163000
DTSTAMP:20260419T155227
CREATED:20260222T172147Z
LAST-MODIFIED:20260222T172147Z
UID:12056-1779462000-1779467400@www.rosinka.at
SUMMARY:ФИКСИКИ (7-9)
DESCRIPTION:
URL:https://www.rosinka.at/event/%d1%84%d0%b8%d0%ba%d1%81%d0%b8%d0%ba%d0%b8-7-9-2/2026-05-22/
END:VEVENT
BEGIN:VEVENT
DTSTART;TZID=Europe/Vienna:20260529T150000
DTEND;TZID=Europe/Vienna:20260529T163000
DTSTAMP:20260419T155227
CREATED:20260222T172147Z
LAST-MODIFIED:20260222T172147Z
UID:12058-1780066800-1780072200@www.rosinka.at
SUMMARY:ФИКСИКИ (7-9)
DESCRIPTION:
URL:https://www.rosinka.at/event/%d1%84%d0%b8%d0%ba%d1%81%d0%b8%d0%ba%d0%b8-7-9-2/2026-05-29/
END:VEVENT
BEGIN:VEVENT
DTSTART;TZID=Europe/Vienna:20260605T150000
DTEND;TZID=Europe/Vienna:20260605T163000
DTSTAMP:20260419T155227
CREATED:20260222T172147Z
LAST-MODIFIED:20260222T172147Z
UID:12059-1780671600-1780677000@www.rosinka.at
SUMMARY:ФИКСИКИ (7-9)
DESCRIPTION:
URL:https://www.rosinka.at/event/%d1%84%d0%b8%d0%ba%d1%81%d0%b8%d0%ba%d0%b8-7-9-2/2026-06-05/
END:VEVENT
BEGIN:VEVENT
DTSTART;TZID=Europe/Vienna:20260612T150000
DTEND;TZID=Europe/Vienna:20260612T163000
DTSTAMP:20260419T155227
CREATED:20260222T172147Z
LAST-MODIFIED:20260222T172147Z
UID:12060-1781276400-1781281800@www.rosinka.at
SUMMARY:ФИКСИКИ (7-9)
DESCRIPTION:
URL:https://www.rosinka.at/event/%d1%84%d0%b8%d0%ba%d1%81%d0%b8%d0%ba%d0%b8-7-9-2/2026-06-12/
END:VEVENT
BEGIN:VEVENT
DTSTART;TZID=Europe/Vienna:20260619T150000
DTEND;TZID=Europe/Vienna:20260619T163000
DTSTAMP:20260419T155227
CREATED:20260222T172147Z
LAST-MODIFIED:20260222T172147Z
UID:12061-1781881200-1781886600@www.rosinka.at
SUMMARY:ФИКСИКИ (7-9)
DESCRIPTION:
URL:https://www.rosinka.at/event/%d1%84%d0%b8%d0%ba%d1%81%d0%b8%d0%ba%d0%b8-7-9-2/2026-06-19/
END:VEVENT
BEGIN:VEVENT
DTSTART;TZID=Europe/Vienna:20260626T150000
DTEND;TZID=Europe/Vienna:20260626T163000
DTSTAMP:20260419T155227
CREATED:20260222T172147Z
LAST-MODIFIED:20260222T172147Z
UID:12062-1782486000-1782491400@www.rosinka.at
SUMMARY:ФИКСИКИ (7-9)
DESCRIPTION:
URL:https://www.rosinka.at/event/%d1%84%d0%b8%d0%ba%d1%81%d0%b8%d0%ba%d0%b8-7-9-2/2026-06-26/
END:VEVENT
BEGIN:VEVENT
DTSTART;TZID=Europe/Vienna:20260703T150000
DTEND;TZID=Europe/Vienna:20260703T163000
DTSTAMP:20260419T155227
CREATED:20260222T172147Z
LAST-MODIFIED:20260222T172147Z
UID:12063-1783090800-1783096200@www.rosinka.at
SUMMARY:ФИКСИКИ (7-9)
DESCRIPTION:
URL:https://www.rosinka.at/event/%d1%84%d0%b8%d0%ba%d1%81%d0%b8%d0%ba%d0%b8-7-9-2/2026-07-03/
END:VEVENT
END:VCALENDAR