BEGIN:VCALENDAR
VERSION:2.0
PRODID:-//Rosinka - ECPv6.15.20//NONSGML v1.0//EN
CALSCALE:GREGORIAN
METHOD:PUBLISH
X-ORIGINAL-URL:https://www.rosinka.at
X-WR-CALDESC:Мероприятия для Rosinka
REFRESH-INTERVAL;VALUE=DURATION:PT1H
X-Robots-Tag:noindex
X-PUBLISHED-TTL:PT1H
BEGIN:VTIMEZONE
TZID:Europe/Vienna
BEGIN:DAYLIGHT
TZOFFSETFROM:+0100
TZOFFSETTO:+0200
TZNAME:CEST
DTSTART:20240331T010000
END:DAYLIGHT
BEGIN:STANDARD
TZOFFSETFROM:+0200
TZOFFSETTO:+0100
TZNAME:CET
DTSTART:20241027T010000
END:STANDARD
BEGIN:DAYLIGHT
TZOFFSETFROM:+0100
TZOFFSETTO:+0200
TZNAME:CEST
DTSTART:20250330T010000
END:DAYLIGHT
BEGIN:STANDARD
TZOFFSETFROM:+0200
TZOFFSETTO:+0100
TZNAME:CET
DTSTART:20251026T010000
END:STANDARD
BEGIN:DAYLIGHT
TZOFFSETFROM:+0100
TZOFFSETTO:+0200
TZNAME:CEST
DTSTART:20260329T010000
END:DAYLIGHT
BEGIN:STANDARD
TZOFFSETFROM:+0200
TZOFFSETTO:+0100
TZNAME:CET
DTSTART:20261025T010000
END:STANDARD
BEGIN:DAYLIGHT
TZOFFSETFROM:+0100
TZOFFSETTO:+0200
TZNAME:CEST
DTSTART:20270328T010000
END:DAYLIGHT
BEGIN:STANDARD
TZOFFSETFROM:+0200
TZOFFSETTO:+0100
TZNAME:CET
DTSTART:20271031T010000
END:STANDARD
END:VTIMEZONE
BEGIN:VEVENT
DTSTART;TZID=Europe/Vienna:20260213T150000
DTEND;TZID=Europe/Vienna:20260213T163000
DTSTAMP:20260419T155333
CREATED:20250914T104045Z
LAST-MODIFIED:20250914T104045Z
UID:11501-1770994800-1771000200@www.rosinka.at
SUMMARY:ФИКСИКИ (7-9)
DESCRIPTION:
URL:https://www.rosinka.at/event/%d1%84%d0%b8%d0%ba%d1%81%d0%b8%d0%ba%d0%b8-7-9/2026-02-13/
END:VEVENT
BEGIN:VEVENT
DTSTART;TZID=Europe/Vienna:20260206T150000
DTEND;TZID=Europe/Vienna:20260206T163000
DTSTAMP:20260419T155333
CREATED:20250914T104045Z
LAST-MODIFIED:20250914T104045Z
UID:11500-1770390000-1770395400@www.rosinka.at
SUMMARY:ФИКСИКИ (7-9)
DESCRIPTION:
URL:https://www.rosinka.at/event/%d1%84%d0%b8%d0%ba%d1%81%d0%b8%d0%ba%d0%b8-7-9/2026-02-06/
END:VEVENT
BEGIN:VEVENT
DTSTART;TZID=Europe/Vienna:20260130T150000
DTEND;TZID=Europe/Vienna:20260130T163000
DTSTAMP:20260419T155333
CREATED:20250914T104045Z
LAST-MODIFIED:20250914T104045Z
UID:11499-1769785200-1769790600@www.rosinka.at
SUMMARY:ФИКСИКИ (7-9)
DESCRIPTION:
URL:https://www.rosinka.at/event/%d1%84%d0%b8%d0%ba%d1%81%d0%b8%d0%ba%d0%b8-7-9/2026-01-30/
END:VEVENT
BEGIN:VEVENT
DTSTART;TZID=Europe/Vienna:20260123T150000
DTEND;TZID=Europe/Vienna:20260123T163000
DTSTAMP:20260419T155333
CREATED:20250914T104045Z
LAST-MODIFIED:20250914T104045Z
UID:11498-1769180400-1769185800@www.rosinka.at
SUMMARY:ФИКСИКИ (7-9)
DESCRIPTION:
URL:https://www.rosinka.at/event/%d1%84%d0%b8%d0%ba%d1%81%d0%b8%d0%ba%d0%b8-7-9/2026-01-23/
END:VEVENT
BEGIN:VEVENT
DTSTART;TZID=Europe/Vienna:20260116T150000
DTEND;TZID=Europe/Vienna:20260116T163000
DTSTAMP:20260419T155333
CREATED:20250914T104045Z
LAST-MODIFIED:20250914T104045Z
UID:11497-1768575600-1768581000@www.rosinka.at
SUMMARY:ФИКСИКИ (7-9)
DESCRIPTION:
URL:https://www.rosinka.at/event/%d1%84%d0%b8%d0%ba%d1%81%d0%b8%d0%ba%d0%b8-7-9/2026-01-16/
END:VEVENT
BEGIN:VEVENT
DTSTART;TZID=Europe/Vienna:20260109T150000
DTEND;TZID=Europe/Vienna:20260109T163000
DTSTAMP:20260419T155333
CREATED:20250914T104045Z
LAST-MODIFIED:20250914T104045Z
UID:11496-1767970800-1767976200@www.rosinka.at
SUMMARY:ФИКСИКИ (7-9)
DESCRIPTION:
URL:https://www.rosinka.at/event/%d1%84%d0%b8%d0%ba%d1%81%d0%b8%d0%ba%d0%b8-7-9/2026-01-09/
END:VEVENT
BEGIN:VEVENT
DTSTART;TZID=Europe/Vienna:20251219T150000
DTEND;TZID=Europe/Vienna:20251219T163000
DTSTAMP:20260419T155333
CREATED:20250914T104045Z
LAST-MODIFIED:20250914T104045Z
UID:11495-1766156400-1766161800@www.rosinka.at
SUMMARY:ФИКСИКИ (7-9)
DESCRIPTION:
URL:https://www.rosinka.at/event/%d1%84%d0%b8%d0%ba%d1%81%d0%b8%d0%ba%d0%b8-7-9/2025-12-19/
END:VEVENT
BEGIN:VEVENT
DTSTART;TZID=Europe/Vienna:20251212T150000
DTEND;TZID=Europe/Vienna:20251212T163000
DTSTAMP:20260419T155333
CREATED:20250914T104045Z
LAST-MODIFIED:20250914T104045Z
UID:11494-1765551600-1765557000@www.rosinka.at
SUMMARY:ФИКСИКИ (7-9)
DESCRIPTION:
URL:https://www.rosinka.at/event/%d1%84%d0%b8%d0%ba%d1%81%d0%b8%d0%ba%d0%b8-7-9/2025-12-12/
END:VEVENT
BEGIN:VEVENT
DTSTART;TZID=Europe/Vienna:20251205T150000
DTEND;TZID=Europe/Vienna:20251205T163000
DTSTAMP:20260419T155333
CREATED:20250914T104045Z
LAST-MODIFIED:20250914T104045Z
UID:11492-1764946800-1764952200@www.rosinka.at
SUMMARY:ФИКСИКИ (7-9)
DESCRIPTION:
URL:https://www.rosinka.at/event/%d1%84%d0%b8%d0%ba%d1%81%d0%b8%d0%ba%d0%b8-7-9/2025-12-05/
END:VEVENT
BEGIN:VEVENT
DTSTART;TZID=Europe/Vienna:20251128T150000
DTEND;TZID=Europe/Vienna:20251128T163000
DTSTAMP:20260419T155333
CREATED:20250914T104045Z
LAST-MODIFIED:20250914T104045Z
UID:11491-1764342000-1764347400@www.rosinka.at
SUMMARY:ФИКСИКИ (7-9)
DESCRIPTION:
URL:https://www.rosinka.at/event/%d1%84%d0%b8%d0%ba%d1%81%d0%b8%d0%ba%d0%b8-7-9/2025-11-28/
END:VEVENT
BEGIN:VEVENT
DTSTART;TZID=Europe/Vienna:20251121T150000
DTEND;TZID=Europe/Vienna:20251121T163000
DTSTAMP:20260419T155333
CREATED:20250914T104045Z
LAST-MODIFIED:20250914T104045Z
UID:11490-1763737200-1763742600@www.rosinka.at
SUMMARY:ФИКСИКИ (7-9)
DESCRIPTION:
URL:https://www.rosinka.at/event/%d1%84%d0%b8%d0%ba%d1%81%d0%b8%d0%ba%d0%b8-7-9/2025-11-21/
END:VEVENT
BEGIN:VEVENT
DTSTART;TZID=Europe/Vienna:20251114T150000
DTEND;TZID=Europe/Vienna:20251114T163000
DTSTAMP:20260419T155333
CREATED:20250914T104045Z
LAST-MODIFIED:20250914T104045Z
UID:11489-1763132400-1763137800@www.rosinka.at
SUMMARY:ФИКСИКИ (7-9)
DESCRIPTION:
URL:https://www.rosinka.at/event/%d1%84%d0%b8%d0%ba%d1%81%d0%b8%d0%ba%d0%b8-7-9/2025-11-14/
END:VEVENT
BEGIN:VEVENT
DTSTART;TZID=Europe/Vienna:20251107T150000
DTEND;TZID=Europe/Vienna:20251107T163000
DTSTAMP:20260419T155333
CREATED:20250914T104045Z
LAST-MODIFIED:20250914T104045Z
UID:11488-1762527600-1762533000@www.rosinka.at
SUMMARY:ФИКСИКИ (7-9)
DESCRIPTION:
URL:https://www.rosinka.at/event/%d1%84%d0%b8%d0%ba%d1%81%d0%b8%d0%ba%d0%b8-7-9/2025-11-07/
END:VEVENT
BEGIN:VEVENT
DTSTART;TZID=Europe/Vienna:20251024T150000
DTEND;TZID=Europe/Vienna:20251024T163000
DTSTAMP:20260419T155333
CREATED:20250914T104045Z
LAST-MODIFIED:20250914T104045Z
UID:11487-1761318000-1761323400@www.rosinka.at
SUMMARY:ФИКСИКИ (7-9)
DESCRIPTION:
URL:https://www.rosinka.at/event/%d1%84%d0%b8%d0%ba%d1%81%d0%b8%d0%ba%d0%b8-7-9/2025-10-24/
END:VEVENT
BEGIN:VEVENT
DTSTART;TZID=Europe/Vienna:20251017T150000
DTEND;TZID=Europe/Vienna:20251017T163000
DTSTAMP:20260419T155333
CREATED:20250914T104045Z
LAST-MODIFIED:20250914T104045Z
UID:11486-1760713200-1760718600@www.rosinka.at
SUMMARY:ФИКСИКИ (7-9)
DESCRIPTION:
URL:https://www.rosinka.at/event/%d1%84%d0%b8%d0%ba%d1%81%d0%b8%d0%ba%d0%b8-7-9/2025-10-17/
END:VEVENT
BEGIN:VEVENT
DTSTART;TZID=Europe/Vienna:20251010T150000
DTEND;TZID=Europe/Vienna:20251010T163000
DTSTAMP:20260419T155333
CREATED:20250914T104045Z
LAST-MODIFIED:20250914T104045Z
UID:11485-1760108400-1760113800@www.rosinka.at
SUMMARY:ФИКСИКИ (7-9)
DESCRIPTION:
URL:https://www.rosinka.at/event/%d1%84%d0%b8%d0%ba%d1%81%d0%b8%d0%ba%d0%b8-7-9/2025-10-10/
END:VEVENT
BEGIN:VEVENT
DTSTART;TZID=Europe/Vienna:20251003T150000
DTEND;TZID=Europe/Vienna:20251003T163000
DTSTAMP:20260419T155333
CREATED:20250914T104045Z
LAST-MODIFIED:20250914T104045Z
UID:11484-1759503600-1759509000@www.rosinka.at
SUMMARY:ФИКСИКИ (7-9)
DESCRIPTION:
URL:https://www.rosinka.at/event/%d1%84%d0%b8%d0%ba%d1%81%d0%b8%d0%ba%d0%b8-7-9/2025-10-03/
END:VEVENT
BEGIN:VEVENT
DTSTART;TZID=Europe/Vienna:20250926T150000
DTEND;TZID=Europe/Vienna:20250926T163000
DTSTAMP:20260419T155333
CREATED:20250914T104045Z
LAST-MODIFIED:20250914T104045Z
UID:11483-1758898800-1758904200@www.rosinka.at
SUMMARY:ФИКСИКИ (7-9)
DESCRIPTION:
URL:https://www.rosinka.at/event/%d1%84%d0%b8%d0%ba%d1%81%d0%b8%d0%ba%d0%b8-7-9/2025-09-26/
END:VEVENT
BEGIN:VEVENT
DTSTART;TZID=Europe/Vienna:20250919T150000
DTEND;TZID=Europe/Vienna:20250919T163000
DTSTAMP:20260419T155333
CREATED:20250914T104045Z
LAST-MODIFIED:20250914T104045Z
UID:11482-1758294000-1758299400@www.rosinka.at
SUMMARY:ФИКСИКИ (7-9)
DESCRIPTION:
URL:https://www.rosinka.at/event/%d1%84%d0%b8%d0%ba%d1%81%d0%b8%d0%ba%d0%b8-7-9/2025-09-19/
END:VEVENT
END:VCALENDAR