BEGIN:VCALENDAR
VERSION:2.0
PRODID:-//Rosinka - ECPv6.15.20//NONSGML v1.0//EN
CALSCALE:GREGORIAN
METHOD:PUBLISH
X-WR-CALNAME:Rosinka
X-ORIGINAL-URL:https://www.rosinka.at
X-WR-CALDESC:Мероприятия для Rosinka
REFRESH-INTERVAL;VALUE=DURATION:PT1H
X-Robots-Tag:noindex
X-PUBLISHED-TTL:PT1H
BEGIN:VTIMEZONE
TZID:Europe/Vienna
BEGIN:DAYLIGHT
TZOFFSETFROM:+0100
TZOFFSETTO:+0200
TZNAME:CEST
DTSTART:20160327T010000
END:DAYLIGHT
BEGIN:STANDARD
TZOFFSETFROM:+0200
TZOFFSETTO:+0100
TZNAME:CET
DTSTART:20161030T010000
END:STANDARD
BEGIN:DAYLIGHT
TZOFFSETFROM:+0100
TZOFFSETTO:+0200
TZNAME:CEST
DTSTART:20170326T010000
END:DAYLIGHT
BEGIN:STANDARD
TZOFFSETFROM:+0200
TZOFFSETTO:+0100
TZNAME:CET
DTSTART:20171029T010000
END:STANDARD
BEGIN:DAYLIGHT
TZOFFSETFROM:+0100
TZOFFSETTO:+0200
TZNAME:CEST
DTSTART:20180325T010000
END:DAYLIGHT
BEGIN:STANDARD
TZOFFSETFROM:+0200
TZOFFSETTO:+0100
TZNAME:CET
DTSTART:20181028T010000
END:STANDARD
BEGIN:DAYLIGHT
TZOFFSETFROM:+0100
TZOFFSETTO:+0200
TZNAME:CEST
DTSTART:20190331T010000
END:DAYLIGHT
BEGIN:STANDARD
TZOFFSETFROM:+0200
TZOFFSETTO:+0100
TZNAME:CET
DTSTART:20191027T010000
END:STANDARD
END:VTIMEZONE
BEGIN:VEVENT
DTSTART;TZID=Europe/Vienna:20171201T170000
DTEND;TZID=Europe/Vienna:20171201T181500
DTSTAMP:20260420T034001
CREATED:20171013T195357Z
LAST-MODIFIED:20171016T090036Z
UID:1393-1512147600-1512152100@www.rosinka.at
SUMMARY:Радуга
DESCRIPTION:
URL:https://www.rosinka.at/event/%d1%80%d0%b0%d0%b4%d1%83%d0%b3%d0%b0-7/
END:VEVENT
BEGIN:VEVENT
DTSTART;TZID=Europe/Vienna:20171205T163000
DTEND;TZID=Europe/Vienna:20171205T181500
DTSTAMP:20260420T034001
CREATED:20171030T141628Z
LAST-MODIFIED:20171030T141628Z
UID:1439-1512491400-1512497700@www.rosinka.at
SUMMARY:Золотой Ключик
DESCRIPTION:
URL:https://www.rosinka.at/event/%d0%b7%d0%be%d0%bb%d0%be%d1%82%d0%be%d0%b9-%d0%ba%d0%bb%d1%8e%d1%87%d0%b8%d0%ba-10/
END:VEVENT
BEGIN:VEVENT
DTSTART;TZID=Europe/Vienna:20171207T163000
DTEND;TZID=Europe/Vienna:20171207T181500
DTSTAMP:20260420T034001
CREATED:20171030T141655Z
LAST-MODIFIED:20171030T141655Z
UID:1441-1512664200-1512670500@www.rosinka.at
SUMMARY:Звездочеты
DESCRIPTION:
URL:https://www.rosinka.at/event/%d0%b7%d0%b2%d0%b5%d0%b7%d0%b4%d0%be%d1%87%d0%b5%d1%82%d1%8b-9/
END:VEVENT
BEGIN:VEVENT
DTSTART;VALUE=DATE:20171208
DTEND;VALUE=DATE:20171209
DTSTAMP:20260420T034001
CREATED:20171030T141735Z
LAST-MODIFIED:20171030T141735Z
UID:1443-1512691200-1512777599@www.rosinka.at
SUMMARY:НЕУЧЕБНЫЙ ДЕНЬ
DESCRIPTION:
URL:https://www.rosinka.at/event/%d0%bd%d0%b5%d1%83%d1%87%d0%b5%d0%b1%d0%bd%d1%8b%d0%b9-%d0%b4%d0%b5%d0%bd%d1%8c-3/
END:VEVENT
BEGIN:VEVENT
DTSTART;TZID=Europe/Vienna:20171212T163000
DTEND;TZID=Europe/Vienna:20171212T181500
DTSTAMP:20260420T034001
CREATED:20171030T141804Z
LAST-MODIFIED:20171030T141804Z
UID:1445-1513096200-1513102500@www.rosinka.at
SUMMARY:Золотой Ключик
DESCRIPTION:
URL:https://www.rosinka.at/event/%d0%b7%d0%be%d0%bb%d0%be%d1%82%d0%be%d0%b9-%d0%ba%d0%bb%d1%8e%d1%87%d0%b8%d0%ba-11/
END:VEVENT
BEGIN:VEVENT
DTSTART;TZID=Europe/Vienna:20171214T163000
DTEND;TZID=Europe/Vienna:20171214T181500
DTSTAMP:20260420T034001
CREATED:20171030T141839Z
LAST-MODIFIED:20171030T141839Z
UID:1447-1513269000-1513275300@www.rosinka.at
SUMMARY:Звездочеты
DESCRIPTION:
URL:https://www.rosinka.at/event/%d0%b7%d0%b2%d0%b5%d0%b7%d0%b4%d0%be%d1%87%d0%b5%d1%82%d1%8b-10/
END:VEVENT
BEGIN:VEVENT
DTSTART;TZID=Europe/Vienna:20171215T170000
DTEND;TZID=Europe/Vienna:20171215T181500
DTSTAMP:20260420T034001
CREATED:20171030T141906Z
LAST-MODIFIED:20171030T141906Z
UID:1449-1513357200-1513361700@www.rosinka.at
SUMMARY:Радуга
DESCRIPTION:
URL:https://www.rosinka.at/event/%d1%80%d0%b0%d0%b4%d1%83%d0%b3%d0%b0-8/
END:VEVENT
BEGIN:VEVENT
DTSTART;TZID=Europe/Vienna:20171219T163000
DTEND;TZID=Europe/Vienna:20171219T181500
DTSTAMP:20260420T034001
CREATED:20171030T142013Z
LAST-MODIFIED:20171030T142013Z
UID:1451-1513701000-1513707300@www.rosinka.at
SUMMARY:Золотой Ключик
DESCRIPTION:
URL:https://www.rosinka.at/event/%d0%b7%d0%be%d0%bb%d0%be%d1%82%d0%be%d0%b9-%d0%ba%d0%bb%d1%8e%d1%87%d0%b8%d0%ba-12/
END:VEVENT
BEGIN:VEVENT
DTSTART;TZID=Europe/Vienna:20171221T163000
DTEND;TZID=Europe/Vienna:20171221T181500
DTSTAMP:20260420T034001
CREATED:20171030T142043Z
LAST-MODIFIED:20171030T142043Z
UID:1453-1513873800-1513880100@www.rosinka.at
SUMMARY:Звездочеты
DESCRIPTION:
URL:https://www.rosinka.at/event/%d0%b7%d0%b2%d0%b5%d0%b7%d0%b4%d0%be%d1%87%d0%b5%d1%82%d1%8b-11/
END:VEVENT
BEGIN:VEVENT
DTSTART;TZID=Europe/Vienna:20171222T170000
DTEND;TZID=Europe/Vienna:20171222T181500
DTSTAMP:20260420T034001
CREATED:20171030T142124Z
LAST-MODIFIED:20171030T142124Z
UID:1455-1513962000-1513966500@www.rosinka.at
SUMMARY:Радуга
DESCRIPTION:
URL:https://www.rosinka.at/event/%d1%80%d0%b0%d0%b4%d1%83%d0%b3%d0%b0-9/
END:VEVENT
BEGIN:VEVENT
DTSTART;VALUE=DATE:20171223
DTEND;VALUE=DATE:20180106
DTSTAMP:20260420T034001
CREATED:20171030T142220Z
LAST-MODIFIED:20171117T084650Z
UID:1457-1513987200-1515196799@www.rosinka.at
SUMMARY:Рождественские Каникулы
DESCRIPTION:
URL:https://www.rosinka.at/event/%d1%80%d0%be%d0%b6%d0%b4%d0%b5%d1%81%d1%82%d0%b2%d0%b5%d0%bd%d1%81%d0%ba%d0%b8%d0%b5-%d0%ba%d0%b0%d0%bd%d0%b8%d0%ba%d1%83%d0%bb%d1%8b/
END:VEVENT
END:VCALENDAR