BEGIN:VCALENDAR
VERSION:2.0
PRODID:-//Rosinka - ECPv6.15.20//NONSGML v1.0//EN
CALSCALE:GREGORIAN
METHOD:PUBLISH
X-ORIGINAL-URL:https://www.rosinka.at
X-WR-CALDESC:Мероприятия для Rosinka
REFRESH-INTERVAL;VALUE=DURATION:PT1H
X-Robots-Tag:noindex
X-PUBLISHED-TTL:PT1H
BEGIN:VTIMEZONE
TZID:Europe/Vienna
BEGIN:DAYLIGHT
TZOFFSETFROM:+0100
TZOFFSETTO:+0200
TZNAME:CEST
DTSTART:20190331T010000
END:DAYLIGHT
BEGIN:STANDARD
TZOFFSETFROM:+0200
TZOFFSETTO:+0100
TZNAME:CET
DTSTART:20191027T010000
END:STANDARD
BEGIN:DAYLIGHT
TZOFFSETFROM:+0100
TZOFFSETTO:+0200
TZNAME:CEST
DTSTART:20200329T010000
END:DAYLIGHT
BEGIN:STANDARD
TZOFFSETFROM:+0200
TZOFFSETTO:+0100
TZNAME:CET
DTSTART:20201025T010000
END:STANDARD
BEGIN:DAYLIGHT
TZOFFSETFROM:+0100
TZOFFSETTO:+0200
TZNAME:CEST
DTSTART:20210328T010000
END:DAYLIGHT
BEGIN:STANDARD
TZOFFSETFROM:+0200
TZOFFSETTO:+0100
TZNAME:CET
DTSTART:20211031T010000
END:STANDARD
END:VTIMEZONE
BEGIN:VEVENT
DTSTART;TZID=Europe/Vienna:20201001T161500
DTEND;TZID=Europe/Vienna:20201001T171500
DTSTAMP:20260422T010838
CREATED:20201001T080758Z
LAST-MODIFIED:20201001T080758Z
UID:5641-1601568900-1601572500@www.rosinka.at
SUMMARY:ЖИВОПИСЬ (8-12)
DESCRIPTION:
URL:https://www.rosinka.at/event/%d0%b6%d0%b8%d0%b2%d0%be%d0%bf%d0%b8%d1%81%d1%8c-8-12-2/
END:VEVENT
BEGIN:VEVENT
DTSTART;TZID=Europe/Vienna:20201002T151500
DTEND;TZID=Europe/Vienna:20201002T161500
DTSTAMP:20260422T010838
CREATED:20200928T051517Z
LAST-MODIFIED:20200928T051517Z
UID:5513-1601651700-1601655300@www.rosinka.at
SUMMARY:НЕПОСЕДЫ (3-4)
DESCRIPTION:
URL:https://www.rosinka.at/event/%d0%bd%d0%b5%d0%bf%d0%be%d1%81%d0%b5%d0%b4%d1%8b-3-4/2020-10-02/
END:VEVENT
BEGIN:VEVENT
DTSTART;TZID=Europe/Vienna:20201002T163000
DTEND;TZID=Europe/Vienna:20201002T174500
DTSTAMP:20260422T010838
CREATED:20200928T051657Z
LAST-MODIFIED:20200928T051657Z
UID:5527-1601656200-1601660700@www.rosinka.at
SUMMARY:ЗНАЙЧИКИ (4-5)
DESCRIPTION:
URL:https://www.rosinka.at/event/%d0%b7%d0%bd%d0%b0%d0%b9%d1%87%d0%b8%d0%ba%d0%b8-4-5/2020-10-02/
END:VEVENT
BEGIN:VEVENT
DTSTART;TZID=Europe/Vienna:20201024T100000
DTEND;TZID=Europe/Vienna:20201024T110000
DTSTAMP:20260422T010838
CREATED:20200927T211017Z
LAST-MODIFIED:20200927T211017Z
UID:5509-1603533600-1603537200@www.rosinka.at
SUMMARY:ШАХМАТЫ
DESCRIPTION:
URL:https://www.rosinka.at/event/%d1%88%d0%b0%d1%85%d0%bc%d0%b0%d1%82%d1%8b-2/
END:VEVENT
BEGIN:VEVENT
DTSTART;TZID=Europe/Vienna:20201024T101500
DTEND;TZID=Europe/Vienna:20201024T111500
DTSTAMP:20260422T010838
CREATED:20200927T211048Z
LAST-MODIFIED:20200927T211048Z
UID:5511-1603534500-1603538100@www.rosinka.at
SUMMARY:РОБОТОТЕХНИКА
DESCRIPTION:
URL:https://www.rosinka.at/event/%d1%80%d0%be%d0%b1%d0%be%d1%82%d0%be%d1%82%d0%b5%d1%85%d0%bd%d0%b8%d0%ba%d0%b0-2/
END:VEVENT
BEGIN:VEVENT
DTSTART;VALUE=DATE:20201025
DTEND;VALUE=DATE:20201103
DTSTAMP:20260422T010838
CREATED:20200910T211700Z
LAST-MODIFIED:20200928T052013Z
UID:5123-1603584000-1604361599@www.rosinka.at
SUMMARY:ОСЕННИЕ КАНИКУЛЫ
DESCRIPTION:
URL:https://www.rosinka.at/event/%d0%be%d1%81%d0%b5%d0%bd%d0%bd%d0%b8%d0%b5-%d0%ba%d0%b0%d0%bd%d0%b8%d0%ba%d1%83%d0%bb%d1%8b/
END:VEVENT
END:VCALENDAR