BEGIN:VCALENDAR
VERSION:2.0
PRODID:-//Rosinka - ECPv6.15.20//NONSGML v1.0//EN
CALSCALE:GREGORIAN
METHOD:PUBLISH
X-ORIGINAL-URL:https://www.rosinka.at
X-WR-CALDESC:Мероприятия для Rosinka
REFRESH-INTERVAL;VALUE=DURATION:PT1H
X-Robots-Tag:noindex
X-PUBLISHED-TTL:PT1H
BEGIN:VTIMEZONE
TZID:Europe/Vienna
BEGIN:DAYLIGHT
TZOFFSETFROM:+0100
TZOFFSETTO:+0200
TZNAME:CEST
DTSTART:20210328T010000
END:DAYLIGHT
BEGIN:STANDARD
TZOFFSETFROM:+0200
TZOFFSETTO:+0100
TZNAME:CET
DTSTART:20211031T010000
END:STANDARD
BEGIN:DAYLIGHT
TZOFFSETFROM:+0100
TZOFFSETTO:+0200
TZNAME:CEST
DTSTART:20220327T010000
END:DAYLIGHT
BEGIN:STANDARD
TZOFFSETFROM:+0200
TZOFFSETTO:+0100
TZNAME:CET
DTSTART:20221030T010000
END:STANDARD
BEGIN:DAYLIGHT
TZOFFSETFROM:+0100
TZOFFSETTO:+0200
TZNAME:CEST
DTSTART:20230326T010000
END:DAYLIGHT
BEGIN:STANDARD
TZOFFSETFROM:+0200
TZOFFSETTO:+0100
TZNAME:CET
DTSTART:20231029T010000
END:STANDARD
END:VTIMEZONE
BEGIN:VEVENT
DTSTART;TZID=Europe/Vienna:20220401T161500
DTEND;TZID=Europe/Vienna:20220401T171500
DTSTAMP:20260420T085906
CREATED:20220328T190450Z
LAST-MODIFIED:20220328T190450Z
UID:7672-1648829700-1648833300@www.rosinka.at
SUMMARY:ЖИВОПИСЬ
DESCRIPTION:
URL:https://www.rosinka.at/event/%d0%b6%d0%b8%d0%b2%d0%be%d0%bf%d0%b8%d1%81%d1%8c-2/
END:VEVENT
BEGIN:VEVENT
DTSTART;TZID=Europe/Vienna:20220403T110000
DTEND;TZID=Europe/Vienna:20220403T123000
DTSTAMP:20260420T085906
CREATED:20220403T103918Z
LAST-MODIFIED:20220403T104155Z
UID:7681-1648983600-1648989000@www.rosinka.at
SUMMARY:ТЕАТРАЛЬНАЯ СТУДИЯ (5-9)
DESCRIPTION:
URL:https://www.rosinka.at/event/%d1%82%d0%b5%d0%b0%d1%82%d1%80%d0%b0%d0%bb%d1%8c%d0%bd%d0%b0%d1%8f-%d1%81%d1%82%d1%83%d0%b4%d0%b8%d1%8f-5-9-5-2022-04-02/
END:VEVENT
BEGIN:VEVENT
DTSTART;TZID=Europe/Vienna:20220408T161500
DTEND;TZID=Europe/Vienna:20220408T171500
DTSTAMP:20260420T085906
CREATED:20220404T152258Z
LAST-MODIFIED:20220404T152258Z
UID:7701-1649434500-1649438100@www.rosinka.at
SUMMARY:ЖИВОПИСЬ
DESCRIPTION:
URL:https://www.rosinka.at/event/%d0%b6%d0%b8%d0%b2%d0%be%d0%bf%d0%b8%d1%81%d1%8c-3/2022-04-08/
END:VEVENT
BEGIN:VEVENT
DTSTART;VALUE=DATE:20220409
DTEND;VALUE=DATE:20220419
DTSTAMP:20260420T085906
CREATED:20210824T140535Z
LAST-MODIFIED:20210824T140535Z
UID:6359-1649462400-1650326399@www.rosinka.at
SUMMARY:ПАСХАЛЬНЫЕ КАНИКУЛЫ
DESCRIPTION:
URL:https://www.rosinka.at/event/%d0%bf%d0%b0%d1%81%d1%85%d0%b0%d0%bb%d1%8c%d0%bd%d1%8b%d0%b5-%d0%ba%d0%b0%d0%bd%d0%b8%d0%ba%d1%83%d0%bb%d1%8b-5/
END:VEVENT
BEGIN:VEVENT
DTSTART;TZID=Europe/Vienna:20220410T110000
DTEND;TZID=Europe/Vienna:20220410T120000
DTSTAMP:20260420T085906
CREATED:20220407T173842Z
LAST-MODIFIED:20220410T200005Z
UID:7719-1649588400-1649592000@www.rosinka.at
SUMMARY:ВСЕЗНАЙКИ (4-5)
DESCRIPTION:
URL:https://www.rosinka.at/event/%d1%80%d0%ba%d0%b8-4-5/2022-04-10/
END:VEVENT
BEGIN:VEVENT
DTSTART;TZID=Europe/Vienna:20220412T160000
DTEND;TZID=Europe/Vienna:20220412T173000
DTSTAMP:20260420T085906
CREATED:20220410T123733Z
LAST-MODIFIED:20220410T123733Z
UID:7736-1649779200-1649784600@www.rosinka.at
SUMMARY:ЗНАЙЧИКИ (5-6)
DESCRIPTION:
URL:https://www.rosinka.at/event/%d0%b7%d0%bd%d0%b0%d0%b9%d1%87%d0%b8%d0%ba%d0%b8-5-6-2/
END:VEVENT
BEGIN:VEVENT
DTSTART;TZID=Europe/Vienna:20220418T170000
DTEND;TZID=Europe/Vienna:20220418T180000
DTSTAMP:20260420T085906
CREATED:20220410T123831Z
LAST-MODIFIED:20220410T123831Z
UID:7738-1650301200-1650304800@www.rosinka.at
SUMMARY:СОЛНЫШКИ (1\,5-3)
DESCRIPTION:
URL:https://www.rosinka.at/event/%d1%81%d0%be%d0%bb%d0%bd%d1%8b%d1%88%d0%ba%d0%b8-15-3-3/
END:VEVENT
BEGIN:VEVENT
DTSTART;TZID=Europe/Vienna:20220429T170000
DTEND;TZID=Europe/Vienna:20220429T180000
DTSTAMP:20260420T085906
CREATED:20220228T083223Z
LAST-MODIFIED:20220423T120804Z
UID:7258-1651251600-1651255200@www.rosinka.at
SUMMARY:СОЛНЫШКИ (1\,5-3)
DESCRIPTION:
URL:https://www.rosinka.at/event/%d1%81%d0%be%d0%bb%d0%bd%d1%8b%d1%88%d0%ba%d0%b8-15-3-2-2022-04-25/
END:VEVENT
BEGIN:VEVENT
DTSTART;TZID=Europe/Vienna:20220430T150000
DTEND;TZID=Europe/Vienna:20220430T160000
DTSTAMP:20260420T085906
CREATED:20220228T084036Z
LAST-MODIFIED:20220506T152424Z
UID:7391-1651330800-1651334400@www.rosinka.at
SUMMARY:ВОКАЛЬНО-ХОРОВАЯ СТУДИЯ (4-6)
DESCRIPTION:
URL:https://www.rosinka.at/event/%d0%b2%d0%be%d0%ba%d0%b0%d0%bb%d1%8c%d0%bd%d0%be-%d1%85%d0%be%d1%80%d0%be%d0%b2%d0%b0%d1%8f-%d1%81%d1%82%d1%83%d0%b4%d0%b8%d1%8f-4-6-2-2022-04-30/2022-04-30/
END:VEVENT
END:VCALENDAR