BEGIN:VCALENDAR
VERSION:2.0
PRODID:-//Rosinka - ECPv6.15.20//NONSGML v1.0//EN
CALSCALE:GREGORIAN
METHOD:PUBLISH
X-WR-CALNAME:Rosinka
X-ORIGINAL-URL:https://www.rosinka.at
X-WR-CALDESC:Мероприятия для Rosinka
REFRESH-INTERVAL;VALUE=DURATION:PT1H
X-Robots-Tag:noindex
X-PUBLISHED-TTL:PT1H
BEGIN:VTIMEZONE
TZID:Europe/Vienna
BEGIN:DAYLIGHT
TZOFFSETFROM:+0100
TZOFFSETTO:+0200
TZNAME:CEST
DTSTART:20210328T010000
END:DAYLIGHT
BEGIN:STANDARD
TZOFFSETFROM:+0200
TZOFFSETTO:+0100
TZNAME:CET
DTSTART:20211031T010000
END:STANDARD
BEGIN:DAYLIGHT
TZOFFSETFROM:+0100
TZOFFSETTO:+0200
TZNAME:CEST
DTSTART:20220327T010000
END:DAYLIGHT
BEGIN:STANDARD
TZOFFSETFROM:+0200
TZOFFSETTO:+0100
TZNAME:CET
DTSTART:20221030T010000
END:STANDARD
BEGIN:DAYLIGHT
TZOFFSETFROM:+0100
TZOFFSETTO:+0200
TZNAME:CEST
DTSTART:20230326T010000
END:DAYLIGHT
BEGIN:STANDARD
TZOFFSETFROM:+0200
TZOFFSETTO:+0100
TZNAME:CET
DTSTART:20231029T010000
END:STANDARD
BEGIN:DAYLIGHT
TZOFFSETFROM:+0100
TZOFFSETTO:+0200
TZNAME:CEST
DTSTART:20240331T010000
END:DAYLIGHT
BEGIN:STANDARD
TZOFFSETFROM:+0200
TZOFFSETTO:+0100
TZNAME:CET
DTSTART:20241027T010000
END:STANDARD
END:VTIMEZONE
BEGIN:VEVENT
DTSTART;VALUE=DATE:20221224
DTEND;VALUE=DATE:20230109
DTSTAMP:20260419T161749
CREATED:20220831T112125Z
LAST-MODIFIED:20220831T112125Z
UID:7843-1671840000-1673222399@www.rosinka.at
SUMMARY:РОЖДЕСТВЕНСКИЕ КАНИКУЛЫ
DESCRIPTION:
URL:https://www.rosinka.at/event/%d1%80%d0%be%d0%b6%d0%b4%d0%b5%d1%81%d1%82%d0%b2%d0%b5%d0%bd%d1%81%d0%ba%d0%b8%d0%b5-%d0%ba%d0%b0%d0%bd%d0%b8%d0%ba%d1%83%d0%bb%d1%8b-6/
END:VEVENT
BEGIN:VEVENT
DTSTART;TZID=Europe/Vienna:20230109T171500
DTEND;TZID=Europe/Vienna:20230109T181500
DTSTAMP:20260419T161749
CREATED:20230104T180920Z
LAST-MODIFIED:20230104T180920Z
UID:8575-1673284500-1673288100@www.rosinka.at
SUMMARY:СВЕТЛЯЧКИ (1\,5-3)
DESCRIPTION:
URL:https://www.rosinka.at/event/%d1%81%d0%b2%d0%b5%d1%82%d0%bb%d1%8f%d1%87%d0%ba%d0%b8-15-3-22/2023-01-09/
END:VEVENT
BEGIN:VEVENT
DTSTART;TZID=Europe/Vienna:20230116T153000
DTEND;TZID=Europe/Vienna:20230116T163000
DTSTAMP:20260419T161749
CREATED:20220918T182820Z
LAST-MODIFIED:20230116T063009Z
UID:8483-1673883000-1673886600@www.rosinka.at
SUMMARY:НЕПОСЕДЫ (5-6)
DESCRIPTION:
URL:https://www.rosinka.at/event/%d0%bd%d0%b5%d0%bf%d0%be%d1%81%d0%b5%d0%b4%d1%8b-5-6-2023-01-16/2023-01-16/
END:VEVENT
BEGIN:VEVENT
DTSTART;TZID=Europe/Vienna:20230123T153000
DTEND;TZID=Europe/Vienna:20230123T170000
DTSTAMP:20260419T161749
CREATED:20230119T120639Z
LAST-MODIFIED:20230119T120639Z
UID:8601-1674487800-1674493200@www.rosinka.at
SUMMARY:ЗОЛОТОЙ КЛЮЧИК (12-13)
DESCRIPTION:
URL:https://www.rosinka.at/event/%d0%b7%d0%be%d0%bb%d0%be%d1%82%d0%be%d0%b9-%d0%ba%d0%bb%d1%8e%d1%87%d0%b8%d0%ba-12-13-2/
END:VEVENT
BEGIN:VEVENT
DTSTART;TZID=Europe/Vienna:20230131T164500
DTEND;TZID=Europe/Vienna:20230131T182000
DTSTAMP:20260419T161749
CREATED:20230131T124750Z
LAST-MODIFIED:20230131T124750Z
UID:8629-1675183500-1675189200@www.rosinka.at
SUMMARY:ЯКОРЕК (8-9)
DESCRIPTION:
URL:https://www.rosinka.at/event/%d1%8f%d0%ba%d0%be%d1%80%d0%b5%d0%ba-8-9-2/
END:VEVENT
END:VCALENDAR