BEGIN:VCALENDAR
VERSION:2.0
PRODID:-//Rosinka - ECPv6.15.20//NONSGML v1.0//EN
CALSCALE:GREGORIAN
METHOD:PUBLISH
X-WR-CALNAME:Rosinka
X-ORIGINAL-URL:https://www.rosinka.at
X-WR-CALDESC:Мероприятия для Rosinka
REFRESH-INTERVAL;VALUE=DURATION:PT1H
X-Robots-Tag:noindex
X-PUBLISHED-TTL:PT1H
BEGIN:VTIMEZONE
TZID:Europe/Vienna
BEGIN:DAYLIGHT
TZOFFSETFROM:+0100
TZOFFSETTO:+0200
TZNAME:CEST
DTSTART:20220327T010000
END:DAYLIGHT
BEGIN:STANDARD
TZOFFSETFROM:+0200
TZOFFSETTO:+0100
TZNAME:CET
DTSTART:20221030T010000
END:STANDARD
BEGIN:DAYLIGHT
TZOFFSETFROM:+0100
TZOFFSETTO:+0200
TZNAME:CEST
DTSTART:20230326T010000
END:DAYLIGHT
BEGIN:STANDARD
TZOFFSETFROM:+0200
TZOFFSETTO:+0100
TZNAME:CET
DTSTART:20231029T010000
END:STANDARD
BEGIN:DAYLIGHT
TZOFFSETFROM:+0100
TZOFFSETTO:+0200
TZNAME:CEST
DTSTART:20240331T010000
END:DAYLIGHT
BEGIN:STANDARD
TZOFFSETFROM:+0200
TZOFFSETTO:+0100
TZNAME:CET
DTSTART:20241027T010000
END:STANDARD
END:VTIMEZONE
BEGIN:VEVENT
DTSTART;TZID=Europe/Vienna:20230302T150000
DTEND;TZID=Europe/Vienna:20230302T163000
DTSTAMP:20260419T161748
CREATED:20230226T111718Z
LAST-MODIFIED:20230226T111718Z
UID:8830-1677769200-1677774600@www.rosinka.at
SUMMARY:ФАНТАЗЕРЫ (10-11)
DESCRIPTION:
URL:https://www.rosinka.at/event/%d1%84%d0%b0%d0%bd%d1%82%d0%b0%d0%b7%d0%b5%d1%80%d1%8b-10-11-3/2023-03-02/
END:VEVENT
BEGIN:VEVENT
DTSTART;TZID=Europe/Vienna:20230302T153000
DTEND;TZID=Europe/Vienna:20230302T163000
DTSTAMP:20260419T161748
CREATED:20230226T111824Z
LAST-MODIFIED:20230226T111824Z
UID:8849-1677771000-1677774600@www.rosinka.at
SUMMARY:СОЛНЫШКИ (3-4)
DESCRIPTION:
URL:https://www.rosinka.at/event/%d1%81%d0%be%d0%bb%d0%bd%d1%8b%d1%88%d0%ba%d0%b8-3-4-3/2023-03-02/
END:VEVENT
BEGIN:VEVENT
DTSTART;TZID=Europe/Vienna:20230302T164500
DTEND;TZID=Europe/Vienna:20230302T174500
DTSTAMP:20260419T161748
CREATED:20230226T112458Z
LAST-MODIFIED:20230226T112458Z
UID:8961-1677775500-1677779100@www.rosinka.at
SUMMARY:ПЧЕЛКИ (4-5)
DESCRIPTION:
URL:https://www.rosinka.at/event/%d0%bf%d1%87%d0%b5%d0%bb%d0%ba%d0%b8-4-5/2023-03-02/
END:VEVENT
BEGIN:VEVENT
DTSTART;TZID=Europe/Vienna:20230302T164500
DTEND;TZID=Europe/Vienna:20230302T181500
DTSTAMP:20260419T161748
CREATED:20230226T111929Z
LAST-MODIFIED:20230226T111929Z
UID:8868-1677775500-1677780900@www.rosinka.at
SUMMARY:ЗВЕЗДОЧЕТЫ (11-12)
DESCRIPTION:
URL:https://www.rosinka.at/event/%d0%b7%d0%b2%d0%b5%d0%b7%d0%b4%d0%be%d1%87%d0%b5%d1%82%d1%8b-11-12-2/2023-03-02/
END:VEVENT
BEGIN:VEVENT
DTSTART;TZID=Europe/Vienna:20230303T160000
DTEND;TZID=Europe/Vienna:20230303T170000
DTSTAMP:20260419T161748
CREATED:20230226T112031Z
LAST-MODIFIED:20230226T112031Z
UID:8887-1677859200-1677862800@www.rosinka.at
SUMMARY:ЛУЧИКИ (3-4)
DESCRIPTION:
URL:https://www.rosinka.at/event/%d0%bb%d1%83%d1%87%d0%b8%d0%ba%d0%b8-3-4-3/2023-03-03/
END:VEVENT
BEGIN:VEVENT
DTSTART;TZID=Europe/Vienna:20230303T160000
DTEND;TZID=Europe/Vienna:20230303T170000
DTSTAMP:20260419T161748
CREATED:20230226T112138Z
LAST-MODIFIED:20230226T112215Z
UID:8906-1677859200-1677862800@www.rosinka.at
SUMMARY:ВСЕЗНАЙКИ (РКИ)
DESCRIPTION:
URL:https://www.rosinka.at/event/%d0%b2%d1%81%d0%b5%d0%b7%d0%bd%d0%b0%d0%b9%d0%ba%d0%b8-5-6/2023-03-03/
END:VEVENT
BEGIN:VEVENT
DTSTART;TZID=Europe/Vienna:20230304T114500
DTEND;TZID=Europe/Vienna:20230304T124500
DTSTAMP:20260419T161748
CREATED:20230226T112323Z
LAST-MODIFIED:20230226T112323Z
UID:8943-1677930300-1677933900@www.rosinka.at
SUMMARY:РОБОТОТЕХНИКА
DESCRIPTION:
URL:https://www.rosinka.at/event/%d1%80%d0%be%d0%b1%d0%be%d1%82%d0%be%d1%82%d0%b5%d1%85%d0%bd%d0%b8%d0%ba%d0%b0-9/2023-03-04/
END:VEVENT
BEGIN:VEVENT
DTSTART;TZID=Europe/Vienna:20230308T164500
DTEND;TZID=Europe/Vienna:20230308T181500
DTSTAMP:20260419T161748
CREATED:20230226T111417Z
LAST-MODIFIED:20230226T113511Z
UID:8796-1678293900-1678299300@www.rosinka.at
SUMMARY:БУКВОЕЖКИ (7-8)
DESCRIPTION:
URL:https://www.rosinka.at/event/%d0%b1%d1%83%d0%ba%d0%b2%d0%be%d0%b5%d0%b6%d0%ba%d0%b8-7-8-2/2023-03-08/
END:VEVENT
BEGIN:VEVENT
DTSTART;TZID=Europe/Vienna:20230312T150000
DTEND;TZID=Europe/Vienna:20230312T160000
DTSTAMP:20260419T161748
CREATED:20230226T112323Z
LAST-MODIFIED:20230308T134454Z
UID:8945-1678633200-1678636800@www.rosinka.at
SUMMARY:РОБОТОТЕХНИКА
DESCRIPTION:
URL:https://www.rosinka.at/event/%d1%80%d0%be%d0%b1%d0%be%d1%82%d0%be%d1%82%d0%b5%d1%85%d0%bd%d0%b8%d0%ba%d0%b0-9-2023-03-11/
END:VEVENT
BEGIN:VEVENT
DTSTART;TZID=Europe/Vienna:20230313T151500
DTEND;TZID=Europe/Vienna:20230313T164500
DTSTAMP:20260419T161748
CREATED:20230226T111239Z
LAST-MODIFIED:20230308T134352Z
UID:8777-1678720500-1678725900@www.rosinka.at
SUMMARY:ЗНАЙЧИКИ (6-7)
DESCRIPTION:
URL:https://www.rosinka.at/event/%d0%b7%d0%bd%d0%b0%d0%b9%d1%87%d0%b8%d0%ba%d0%b8-6-7-2/
END:VEVENT
BEGIN:VEVENT
DTSTART;TZID=Europe/Vienna:20230315T150000
DTEND;TZID=Europe/Vienna:20230315T163000
DTSTAMP:20260419T161748
CREATED:20230226T111239Z
LAST-MODIFIED:20230308T134335Z
UID:8780-1678892400-1678897800@www.rosinka.at
SUMMARY:ЗНАЙЧИКИ (6-7)
DESCRIPTION:
URL:https://www.rosinka.at/event/%d0%b7%d0%bd%d0%b0%d0%b9%d1%87%d0%b8%d0%ba%d0%b8-6-7-2-2023-03-15/2023-03-15/
END:VEVENT
BEGIN:VEVENT
DTSTART;TZID=Europe/Vienna:20230325T100000
DTEND;TZID=Europe/Vienna:20230325T110000
DTSTAMP:20260419T161748
CREATED:20230323T113409Z
LAST-MODIFIED:20230323T113409Z
UID:9080-1679738400-1679742000@www.rosinka.at
SUMMARY:СОЛНЫШКИ (3-4)
DESCRIPTION:
URL:https://www.rosinka.at/event/%d1%81%d0%be%d0%bb%d0%bd%d1%8b%d1%88%d0%ba%d0%b8-3-4-4/
END:VEVENT
BEGIN:VEVENT
DTSTART;TZID=Europe/Vienna:20230331T171500
DTEND;TZID=Europe/Vienna:20230331T181500
DTSTAMP:20260419T161748
CREATED:20230226T112458Z
LAST-MODIFIED:20230324T123102Z
UID:8966-1680282900-1680286500@www.rosinka.at
SUMMARY:ПЧЕЛКИ (4-5)
DESCRIPTION:
URL:https://www.rosinka.at/event/%d0%bf%d1%87%d0%b5%d0%bb%d0%ba%d0%b8-4-5-2023-03-30/
END:VEVENT
END:VCALENDAR