BEGIN:VCALENDAR
VERSION:2.0
PRODID:-//Rosinka - ECPv6.15.20//NONSGML v1.0//EN
CALSCALE:GREGORIAN
METHOD:PUBLISH
X-ORIGINAL-URL:https://www.rosinka.at
X-WR-CALDESC:Мероприятия для Rosinka
REFRESH-INTERVAL;VALUE=DURATION:PT1H
X-Robots-Tag:noindex
X-PUBLISHED-TTL:PT1H
BEGIN:VTIMEZONE
TZID:Europe/Vienna
BEGIN:DAYLIGHT
TZOFFSETFROM:+0100
TZOFFSETTO:+0200
TZNAME:CEST
DTSTART:20230326T010000
END:DAYLIGHT
BEGIN:STANDARD
TZOFFSETFROM:+0200
TZOFFSETTO:+0100
TZNAME:CET
DTSTART:20231029T010000
END:STANDARD
BEGIN:DAYLIGHT
TZOFFSETFROM:+0100
TZOFFSETTO:+0200
TZNAME:CEST
DTSTART:20240331T010000
END:DAYLIGHT
BEGIN:STANDARD
TZOFFSETFROM:+0200
TZOFFSETTO:+0100
TZNAME:CET
DTSTART:20241027T010000
END:STANDARD
BEGIN:DAYLIGHT
TZOFFSETFROM:+0100
TZOFFSETTO:+0200
TZNAME:CEST
DTSTART:20250330T010000
END:DAYLIGHT
BEGIN:STANDARD
TZOFFSETFROM:+0200
TZOFFSETTO:+0100
TZNAME:CET
DTSTART:20251026T010000
END:STANDARD
END:VTIMEZONE
BEGIN:VEVENT
DTSTART;TZID=Europe/Vienna:20240301T160000
DTEND;TZID=Europe/Vienna:20240301T170000
DTSTAMP:20260420T085906
CREATED:20240216T152048Z
LAST-MODIFIED:20240216T152048Z
UID:10025-1709308800-1709312400@www.rosinka.at
SUMMARY:ЛУЧИКИ (4-5)
DESCRIPTION:
URL:https://www.rosinka.at/event/%d0%bb%d1%83%d1%87%d0%b8%d0%ba%d0%b8-4-5-3/2024-03-01/
END:VEVENT
BEGIN:VEVENT
DTSTART;TZID=Europe/Vienna:20240309T120000
DTEND;TZID=Europe/Vienna:20240309T133000
DTSTAMP:20260420T085906
CREATED:20240212T133349Z
LAST-MODIFIED:20240212T133349Z
UID:9861-1709985600-1709991000@www.rosinka.at
SUMMARY:ИСТОРИЯ ИСКУССТВ
DESCRIPTION:
URL:https://www.rosinka.at/event/%d0%b8%d1%81%d1%82%d0%be%d1%80%d0%b8%d1%8f-%d0%b8%d1%81%d0%ba%d1%83%d1%81%d1%81%d1%82%d0%b2-2/
END:VEVENT
BEGIN:VEVENT
DTSTART;TZID=Europe/Vienna:20240311T153000
DTEND;TZID=Europe/Vienna:20240311T170000
DTSTAMP:20260420T085906
CREATED:20240216T150540Z
LAST-MODIFIED:20240304T101634Z
UID:9881-1710171000-1710176400@www.rosinka.at
SUMMARY:НЕПОСЕДЫ (6-7)
DESCRIPTION:
URL:https://www.rosinka.at/event/%d0%bd%d0%b5%d0%bf%d0%be%d1%81%d0%b5%d0%b4%d1%8b-6-7-2-2024-03-11/2024-03-11/
END:VEVENT
BEGIN:VEVENT
DTSTART;VALUE=DATE:20240319
DTEND;VALUE=DATE:20240320
DTSTAMP:20260420T085906
CREATED:20230802T200419Z
LAST-MODIFIED:20230802T200419Z
UID:9145-1710806400-1710892799@www.rosinka.at
SUMMARY:НЕУЧЕБНЫЙ ДЕНЬ
DESCRIPTION:
URL:https://www.rosinka.at/event/%d0%bd%d0%b5%d1%83%d1%87%d0%b5%d0%b1%d0%bd%d1%8b%d0%b9-%d0%b4%d0%b5%d0%bd%d1%8c-38/
END:VEVENT
BEGIN:VEVENT
DTSTART;VALUE=DATE:20240323
DTEND;VALUE=DATE:20240402
DTSTAMP:20260420T085906
CREATED:20230802T200535Z
LAST-MODIFIED:20230802T200535Z
UID:9147-1711152000-1712015999@www.rosinka.at
SUMMARY:ПАСХАЛЬНЫЕ КАНИКУЛЫ
DESCRIPTION:
URL:https://www.rosinka.at/event/%d0%bf%d0%b0%d1%81%d1%85%d0%b0%d0%bb%d1%8c%d0%bd%d1%8b%d0%b5-%d0%ba%d0%b0%d0%bd%d0%b8%d0%ba%d1%83%d0%bb%d1%8b-7/
END:VEVENT
END:VCALENDAR