BEGIN:VCALENDAR
VERSION:2.0
PRODID:-//Rosinka - ECPv6.15.20//NONSGML v1.0//EN
CALSCALE:GREGORIAN
METHOD:PUBLISH
X-WR-CALNAME:Rosinka
X-ORIGINAL-URL:https://www.rosinka.at
X-WR-CALDESC:Мероприятия для Rosinka
REFRESH-INTERVAL;VALUE=DURATION:PT1H
X-Robots-Tag:noindex
X-PUBLISHED-TTL:PT1H
BEGIN:VTIMEZONE
TZID:Europe/Vienna
BEGIN:DAYLIGHT
TZOFFSETFROM:+0100
TZOFFSETTO:+0200
TZNAME:CEST
DTSTART:20190331T010000
END:DAYLIGHT
BEGIN:STANDARD
TZOFFSETFROM:+0200
TZOFFSETTO:+0100
TZNAME:CET
DTSTART:20191027T010000
END:STANDARD
BEGIN:DAYLIGHT
TZOFFSETFROM:+0100
TZOFFSETTO:+0200
TZNAME:CEST
DTSTART:20200329T010000
END:DAYLIGHT
BEGIN:STANDARD
TZOFFSETFROM:+0200
TZOFFSETTO:+0100
TZNAME:CET
DTSTART:20201025T010000
END:STANDARD
BEGIN:DAYLIGHT
TZOFFSETFROM:+0100
TZOFFSETTO:+0200
TZNAME:CEST
DTSTART:20210328T010000
END:DAYLIGHT
BEGIN:STANDARD
TZOFFSETFROM:+0200
TZOFFSETTO:+0100
TZNAME:CET
DTSTART:20211031T010000
END:STANDARD
END:VTIMEZONE
BEGIN:VEVENT
DTSTART;TZID=Europe/Vienna:20200113T152000
DTEND;TZID=Europe/Vienna:20200113T165000
DTSTAMP:20260421T215828
CREATED:20191119T230426Z
LAST-MODIFIED:20191119T232057Z
UID:3803-1578928800-1578934200@www.rosinka.at
SUMMARY:Музыкальное Развитие (4-6) // КАПЕЛЬКИ
DESCRIPTION:
URL:https://www.rosinka.at/event/%d0%bc%d1%83%d0%b7%d1%8b%d0%ba%d0%b0%d0%bb%d1%8c%d0%bd%d0%be%d0%b5-%d1%80%d0%b0%d0%b7%d0%b2%d0%b8%d1%82%d0%b8%d0%b5-4-6-%d0%ba%d0%b0%d0%bf%d0%b5%d0%bb%d1%8c%d0%ba%d0%b8-12/2020-01-13/
END:VEVENT
BEGIN:VEVENT
DTSTART;TZID=Europe/Vienna:20200113T163000
DTEND;TZID=Europe/Vienna:20200113T181500
DTSTAMP:20260421T215828
CREATED:20200110T070912Z
LAST-MODIFIED:20200110T070912Z
UID:4070-1578933000-1578939300@www.rosinka.at
SUMMARY:ЗОЛОТОЙ КЛЮЧИК (9-11)
DESCRIPTION:
URL:https://www.rosinka.at/event/%d0%b7%d0%be%d0%bb%d0%be%d1%82%d0%be%d0%b9-%d0%ba%d0%bb%d1%8e%d1%87%d0%b8%d0%ba-9-11-12/2020-01-13/
END:VEVENT
BEGIN:VEVENT
DTSTART;TZID=Europe/Vienna:20200114T150000
DTEND;TZID=Europe/Vienna:20200114T160000
DTSTAMP:20260421T215828
CREATED:20200115T103956Z
LAST-MODIFIED:20200115T103956Z
UID:4078-1579014000-1579017600@www.rosinka.at
SUMMARY:СВЕТЛЯЧКИ (1\,5-3)
DESCRIPTION:
URL:https://www.rosinka.at/event/%d1%81%d0%b2%d0%b5%d1%82%d0%bb%d1%8f%d1%87%d0%ba%d0%b8-15-3-19/2020-01-14/
END:VEVENT
BEGIN:VEVENT
DTSTART;TZID=Europe/Vienna:20200114T163000
DTEND;TZID=Europe/Vienna:20200114T173000
DTSTAMP:20260421T215828
CREATED:20200115T104134Z
LAST-MODIFIED:20200115T104134Z
UID:4084-1579019400-1579023000@www.rosinka.at
SUMMARY:ЛУЧИКИ (3+)
DESCRIPTION:
URL:https://www.rosinka.at/event/%d0%bb%d1%83%d1%87%d0%b8%d0%ba%d0%b8-3/2020-01-14/
END:VEVENT
BEGIN:VEVENT
DTSTART;TZID=Europe/Vienna:20200116T144500
DTEND;TZID=Europe/Vienna:20200116T160000
DTSTAMP:20260421T215828
CREATED:20191119T231133Z
LAST-MODIFIED:20200110T070956Z
UID:4031-1579185900-1579190400@www.rosinka.at
SUMMARY:ЖИВОПИСЬ (7-11)
DESCRIPTION:
URL:https://www.rosinka.at/event/%d0%b6%d0%b8%d0%b2%d0%be%d0%bf%d0%b8%d1%81%d1%8c-7-11-28-2020-01-16/
END:VEVENT
BEGIN:VEVENT
DTSTART;TZID=Europe/Vienna:20200206T152500
DTEND;TZID=Europe/Vienna:20200206T164000
DTSTAMP:20260421T215828
CREATED:20200110T070502Z
LAST-MODIFIED:20200131T104859Z
UID:4052-1581002700-1581007200@www.rosinka.at
SUMMARY:БУКВОЕЖКИ (4-5)
DESCRIPTION:
URL:https://www.rosinka.at/event/%d0%b1%d1%83%d0%ba%d0%b2%d0%be%d0%b5%d0%b6%d0%ba%d0%b8-4-5-8-2020-02-06/
END:VEVENT
BEGIN:VEVENT
DTSTART;TZID=Europe/Vienna:20200206T164000
DTEND;TZID=Europe/Vienna:20200206T182500
DTSTAMP:20260421T215828
CREATED:20200110T070615Z
LAST-MODIFIED:20200131T105031Z
UID:4060-1581007200-1581013500@www.rosinka.at
SUMMARY:ФАНТАЗЕРЫ (7-8)
DESCRIPTION:
URL:https://www.rosinka.at/event/%d1%84%d0%b0%d0%bd%d1%82%d0%b0%d0%b7%d0%b5%d1%80%d1%8b-7-8-14-2020-02-06/
END:VEVENT
BEGIN:VEVENT
DTSTART;TZID=Europe/Vienna:20200213T152500
DTEND;TZID=Europe/Vienna:20200213T164000
DTSTAMP:20260421T215828
CREATED:20200110T070502Z
LAST-MODIFIED:20200131T105103Z
UID:4053-1581607500-1581612000@www.rosinka.at
SUMMARY:БУКВОЕЖКИ (4-5)
DESCRIPTION:
URL:https://www.rosinka.at/event/%d0%b1%d1%83%d0%ba%d0%b2%d0%be%d0%b5%d0%b6%d0%ba%d0%b8-4-5-8-2020-02-13/
END:VEVENT
BEGIN:VEVENT
DTSTART;TZID=Europe/Vienna:20200213T164000
DTEND;TZID=Europe/Vienna:20200213T182500
DTSTAMP:20260421T215828
CREATED:20200110T070615Z
LAST-MODIFIED:20200131T105137Z
UID:4061-1581612000-1581618300@www.rosinka.at
SUMMARY:ФАНТАЗЕРЫ (7-8)
DESCRIPTION:
URL:https://www.rosinka.at/event/%d1%84%d0%b0%d0%bd%d1%82%d0%b0%d0%b7%d0%b5%d1%80%d1%8b-7-8-14-2020-02-13/
END:VEVENT
BEGIN:VEVENT
DTSTART;VALUE=DATE:20200215
DTEND;VALUE=DATE:20200224
DTSTAMP:20260421T215828
CREATED:20190521T200834Z
LAST-MODIFIED:20190521T200834Z
UID:3124-1581724800-1582502399@www.rosinka.at
SUMMARY:ЗИМНИЕ КАНИКУЛЫ
DESCRIPTION:
URL:https://www.rosinka.at/event/%d0%b7%d0%b8%d0%bc%d0%bd%d0%b8%d0%b5-%d0%ba%d0%b0%d0%bd%d0%b8%d0%ba%d1%83%d0%bb%d1%8b-3/
END:VEVENT
BEGIN:VEVENT
DTSTART;TZID=Europe/Vienna:20200220T140000
DTEND;TZID=Europe/Vienna:20200220T154500
DTSTAMP:20260421T215828
CREATED:20200220T131935Z
LAST-MODIFIED:20200220T131935Z
UID:4698-1582207200-1582213500@www.rosinka.at
SUMMARY:ЗВЕЗДОЧЕТЫ (8-9)
DESCRIPTION:
URL:https://www.rosinka.at/event/%d0%b7%d0%b2%d0%b5%d0%b7%d0%b4%d0%be%d1%87%d0%b5%d1%82%d1%8b-8-9-15/
END:VEVENT
BEGIN:VEVENT
DTSTART;TZID=Europe/Vienna:20200224T163000
DTEND;TZID=Europe/Vienna:20200224T181500
DTSTAMP:20260421T215828
CREATED:20200220T122804Z
LAST-MODIFIED:20200220T124950Z
UID:4167-1582561800-1582568100@www.rosinka.at
SUMMARY:ЗОЛОТОЙ КЛЮЧИК (9-11)
DESCRIPTION:
URL:https://www.rosinka.at/event/%d0%b7%d0%be%d0%bb%d0%be%d1%82%d0%be%d0%b9-%d0%ba%d0%bb%d1%8e%d1%87%d0%b8%d0%ba-9-11-13/2020-02-24/
END:VEVENT
BEGIN:VEVENT
DTSTART;TZID=Europe/Vienna:20200225T150000
DTEND;TZID=Europe/Vienna:20200225T160000
DTSTAMP:20260421T215828
CREATED:20200220T123136Z
LAST-MODIFIED:20200220T125739Z
UID:4304-1582642800-1582646400@www.rosinka.at
SUMMARY:СВЕТЛЯЧКИ (1\,5-3)
DESCRIPTION:
URL:https://www.rosinka.at/event/%d1%81%d0%b2%d0%b5%d1%82%d0%bb%d1%8f%d1%87%d0%ba%d0%b8-15-3-20/2020-02-25/
END:VEVENT
BEGIN:VEVENT
DTSTART;TZID=Europe/Vienna:20200225T160000
DTEND;TZID=Europe/Vienna:20200225T170000
DTSTAMP:20260421T215828
CREATED:20200220T123243Z
LAST-MODIFIED:20200220T125825Z
UID:4325-1582646400-1582650000@www.rosinka.at
SUMMARY:ЛУЧИКИ (3+)
DESCRIPTION:
URL:https://www.rosinka.at/event/%d0%bb%d1%83%d1%87%d0%b8%d0%ba%d0%b8-3-2/2020-02-25/
END:VEVENT
BEGIN:VEVENT
DTSTART;TZID=Europe/Vienna:20200226T154500
DTEND;TZID=Europe/Vienna:20200226T173000
DTSTAMP:20260421T215828
CREATED:20200220T123427Z
LAST-MODIFIED:20200220T125903Z
UID:4346-1582731900-1582738200@www.rosinka.at
SUMMARY:ЯКОРЕК (5-6) подгруппа I
DESCRIPTION:
URL:https://www.rosinka.at/event/%d1%8f%d0%ba%d0%be%d1%80%d0%b5%d0%ba-5-6-%d0%bf%d0%be%d0%b4%d0%b3%d1%80%d1%83%d0%bf%d0%bf%d0%b0-i-13/2020-02-26/
END:VEVENT
BEGIN:VEVENT
DTSTART;TZID=Europe/Vienna:20200226T163000
DTEND;TZID=Europe/Vienna:20200226T173000
DTSTAMP:20260421T215828
CREATED:20200220T124036Z
LAST-MODIFIED:20200220T125944Z
UID:4388-1582734600-1582738200@www.rosinka.at
SUMMARY:ТЕАТРАЛЬНЫЙ КРУЖОК (3-4+)
DESCRIPTION:
URL:https://www.rosinka.at/event/%d1%82%d0%b5%d0%b0%d1%82%d1%80%d0%b0%d0%bb%d1%8c%d0%bd%d1%8b%d0%b9-%d0%ba%d1%80%d1%83%d0%b6%d0%be%d0%ba-3-4-29/2020-02-26/
LOCATION:Alte Poststraße 134\, 8020 Graz\, Alte Poststraße 134\, Graz\, 8020\, Austria
END:VEVENT
BEGIN:VEVENT
DTSTART;TZID=Europe/Vienna:20200226T163000
DTEND;TZID=Europe/Vienna:20200226T182000
DTSTAMP:20260421T215828
CREATED:20200220T130620Z
LAST-MODIFIED:20200220T130620Z
UID:4674-1582734600-1582741200@www.rosinka.at
SUMMARY:ЯКОРЕК (5-6) подгруппа II
DESCRIPTION:
URL:https://www.rosinka.at/event/%d1%8f%d0%ba%d0%be%d1%80%d0%b5%d0%ba-5-6-%d0%bf%d0%be%d0%b4%d0%b3%d1%80%d1%83%d0%bf%d0%bf%d0%b0-ii-14/2020-02-26/
END:VEVENT
BEGIN:VEVENT
DTSTART;TZID=Europe/Vienna:20200227T152500
DTEND;TZID=Europe/Vienna:20200227T164000
DTSTAMP:20260421T215828
CREATED:20200220T124322Z
LAST-MODIFIED:20200220T130226Z
UID:4430-1582817100-1582821600@www.rosinka.at
SUMMARY:БУКВОЕЖКИ (4-5)
DESCRIPTION:
URL:https://www.rosinka.at/event/%d0%b1%d1%83%d0%ba%d0%b2%d0%be%d0%b5%d0%b6%d0%ba%d0%b8-4-5-9/2020-02-27/
END:VEVENT
BEGIN:VEVENT
DTSTART;TZID=Europe/Vienna:20200227T164000
DTEND;TZID=Europe/Vienna:20200227T182500
DTSTAMP:20260421T215828
CREATED:20200220T124502Z
LAST-MODIFIED:20200220T130302Z
UID:4451-1582821600-1582827900@www.rosinka.at
SUMMARY:ФАНТАЗЕРЫ (7-8)
DESCRIPTION:
URL:https://www.rosinka.at/event/%d1%84%d0%b0%d0%bd%d1%82%d0%b0%d0%b7%d0%b5%d1%80%d1%8b-7-8-15/2020-02-27/
END:VEVENT
BEGIN:VEVENT
DTSTART;TZID=Europe/Vienna:20200228T160000
DTEND;TZID=Europe/Vienna:20200228T174500
DTSTAMP:20260421T215828
CREATED:20200220T124709Z
LAST-MODIFIED:20200220T124813Z
UID:4472-1582905600-1582911900@www.rosinka.at
SUMMARY:ЗВЕЗДОЧЕТЫ (8-9)
DESCRIPTION:
URL:https://www.rosinka.at/event/%d0%b7%d0%b2%d0%b5%d0%b7%d0%b4%d0%be%d1%87%d0%b5%d1%82%d1%8b-8-9-13/2020-02-28/
END:VEVENT
BEGIN:VEVENT
DTSTART;TZID=Europe/Vienna:20200229T100000
DTEND;TZID=Europe/Vienna:20200229T110000
DTSTAMP:20260421T215828
CREATED:20200221T104929Z
LAST-MODIFIED:20200221T104929Z
UID:4704-1582970400-1582974000@www.rosinka.at
SUMMARY:ШАХМАТЫ (6+)
DESCRIPTION:
URL:https://www.rosinka.at/event/%d1%88%d0%b0%d1%85%d0%bc%d0%b0%d1%82%d1%8b-6/2020-02-29/
END:VEVENT
BEGIN:VEVENT
DTSTART;TZID=Europe/Vienna:20200305T151500
DTEND;TZID=Europe/Vienna:20200305T164500
DTSTAMP:20260421T215828
CREATED:20200306T191051Z
LAST-MODIFIED:20200306T191051Z
UID:4749-1583421300-1583426700@www.rosinka.at
SUMMARY:ЖИВОПИСЬ (7-11)
DESCRIPTION:
URL:https://www.rosinka.at/event/%d0%b6%d0%b8%d0%b2%d0%be%d0%bf%d0%b8%d1%81%d1%8c-7-11-18/
END:VEVENT
BEGIN:VEVENT
DTSTART;VALUE=DATE:20200314
DTEND;VALUE=DATE:20200319
DTSTAMP:20260421T215828
CREATED:20200312T214216Z
LAST-MODIFIED:20200312T214216Z
UID:4765-1584144000-1584575999@www.rosinka.at
SUMMARY:КАРАНИН
DESCRIPTION:
URL:https://www.rosinka.at/event/%d0%ba%d0%b0%d1%80%d0%b0%d0%bd%d1%82%d0%b8%d0%bd/
END:VEVENT
BEGIN:VEVENT
DTSTART;TZID=Europe/Vienna:20200319T080000
DTEND;TZID=Europe/Vienna:20200319T170000
DTSTAMP:20260421T215828
CREATED:20190521T195721Z
LAST-MODIFIED:20190521T195721Z
UID:3115-1584604800-1584637200@www.rosinka.at
SUMMARY:НЕУЧЕБНЫЙ ДЕНЬ
DESCRIPTION:
URL:https://www.rosinka.at/event/%d0%bd%d0%b5%d1%83%d1%87%d0%b5%d0%b1%d0%bd%d1%8b%d0%b9-%d0%b4%d0%b5%d0%bd%d1%8c-10/
END:VEVENT
BEGIN:VEVENT
DTSTART;VALUE=DATE:20200320
DTEND;VALUE=DATE:20200321
DTSTAMP:20260421T215828
CREATED:20190903T173646Z
LAST-MODIFIED:20190903T173646Z
UID:3263-1584662400-1584748799@www.rosinka.at
SUMMARY:НЕУЧЕБНЫЙ ДЕНЬ
DESCRIPTION:
URL:https://www.rosinka.at/event/%d0%bd%d0%b5%d1%83%d1%87%d0%b5%d0%b1%d0%bd%d1%8b%d0%b9-%d0%b4%d0%b5%d0%bd%d1%8c-19/
END:VEVENT
BEGIN:VEVENT
DTSTART;VALUE=DATE:20200321
DTEND;VALUE=DATE:20200322
DTSTAMP:20260421T215828
CREATED:20200221T105102Z
LAST-MODIFIED:20200221T105102Z
UID:4724-1584748800-1584835199@www.rosinka.at
SUMMARY:НЕУЧЕБНЫЙ ДЕНЬ
DESCRIPTION:
URL:https://www.rosinka.at/event/%d0%bd%d0%b5%d1%83%d1%87%d0%b5%d0%b1%d0%bd%d1%8b%d0%b9-%d0%b4%d0%b5%d0%bd%d1%8c-23/
END:VEVENT
BEGIN:VEVENT
DTSTART;VALUE=DATE:20200322
DTEND;VALUE=DATE:20200404
DTSTAMP:20260421T215828
CREATED:20200312T214258Z
LAST-MODIFIED:20200312T214258Z
UID:4767-1584835200-1585958399@www.rosinka.at
SUMMARY:КАРАНТИН
DESCRIPTION:
URL:https://www.rosinka.at/event/%d0%ba%d0%b0%d1%80%d0%b0%d0%bd%d1%82%d0%b8%d0%bd-2/
END:VEVENT
BEGIN:VEVENT
DTSTART;VALUE=DATE:20200404
DTEND;VALUE=DATE:20200415
DTSTAMP:20260421T215828
CREATED:20190521T195841Z
LAST-MODIFIED:20190521T195841Z
UID:3117-1585958400-1586908799@www.rosinka.at
SUMMARY:ПАСХАЛЬНЫЕ КАНИКУЛЫ
DESCRIPTION:
URL:https://www.rosinka.at/event/%d0%bf%d0%b0%d1%81%d1%85%d0%b0%d0%bb%d1%8c%d0%bd%d1%8b%d0%b5-%d0%ba%d0%b0%d0%bd%d0%b8%d0%ba%d1%83%d0%bb%d1%8b-3/
END:VEVENT
BEGIN:VEVENT
DTSTART;VALUE=DATE:20200415
DTEND;VALUE=DATE:20200516
DTSTAMP:20260421T215828
CREATED:20200416T142050Z
LAST-MODIFIED:20200515T210958Z
UID:4837-1586908800-1589587199@www.rosinka.at
SUMMARY:КАРАНТИН
DESCRIPTION:
URL:https://www.rosinka.at/event/%d0%ba%d0%b0%d1%80%d0%b0%d0%bd%d1%82%d0%b8%d0%bd-3/
END:VEVENT
BEGIN:VEVENT
DTSTART;VALUE=DATE:20200430
DTEND;VALUE=DATE:20200501
DTSTAMP:20260421T215828
CREATED:20200128T103802Z
LAST-MODIFIED:20200128T103802Z
UID:4138-1588204800-1588291199@www.rosinka.at
SUMMARY:НЕУЧЕБНЫЙ ДЕНЬ
DESCRIPTION:
URL:https://www.rosinka.at/event/%d0%bd%d0%b5%d1%83%d1%87%d0%b5%d0%b1%d0%bd%d1%8b%d0%b9-%d0%b4%d0%b5%d0%bd%d1%8c-22/
END:VEVENT
END:VCALENDAR