BEGIN:VCALENDAR
VERSION:2.0
PRODID:-//Rosinka - ECPv6.15.20//NONSGML v1.0//EN
CALSCALE:GREGORIAN
METHOD:PUBLISH
X-ORIGINAL-URL:https://www.rosinka.at
X-WR-CALDESC:Мероприятия для Rosinka
REFRESH-INTERVAL;VALUE=DURATION:PT1H
X-Robots-Tag:noindex
X-PUBLISHED-TTL:PT1H
BEGIN:VTIMEZONE
TZID:Europe/Vienna
BEGIN:DAYLIGHT
TZOFFSETFROM:+0100
TZOFFSETTO:+0200
TZNAME:CEST
DTSTART:20230326T010000
END:DAYLIGHT
BEGIN:STANDARD
TZOFFSETFROM:+0200
TZOFFSETTO:+0100
TZNAME:CET
DTSTART:20231029T010000
END:STANDARD
BEGIN:DAYLIGHT
TZOFFSETFROM:+0100
TZOFFSETTO:+0200
TZNAME:CEST
DTSTART:20240331T010000
END:DAYLIGHT
BEGIN:STANDARD
TZOFFSETFROM:+0200
TZOFFSETTO:+0100
TZNAME:CET
DTSTART:20241027T010000
END:STANDARD
BEGIN:DAYLIGHT
TZOFFSETFROM:+0100
TZOFFSETTO:+0200
TZNAME:CEST
DTSTART:20250330T010000
END:DAYLIGHT
BEGIN:STANDARD
TZOFFSETFROM:+0200
TZOFFSETTO:+0100
TZNAME:CET
DTSTART:20251026T010000
END:STANDARD
END:VTIMEZONE
BEGIN:VEVENT
DTSTART;TZID=Europe/Vienna:20241019T110000
DTEND;TZID=Europe/Vienna:20241019T120000
DTSTAMP:20260420T005043
CREATED:20240925T091230Z
LAST-MODIFIED:20241009T190514Z
UID:10676-1729335600-1729339200@www.rosinka.at
SUMMARY:РОБОТОТЕХНИКА
DESCRIPTION:
URL:https://www.rosinka.at/event/%d1%80%d0%be%d0%b1%d0%be%d1%82%d0%be%d1%82%d0%b5%d1%85%d0%bd%d0%b8%d0%ba%d0%b0-13/2024-10-19/
END:VEVENT
BEGIN:VEVENT
DTSTART;TZID=Europe/Vienna:20241019T131500
DTEND;TZID=Europe/Vienna:20241019T144500
DTSTAMP:20260420T005043
CREATED:20241009T135111Z
LAST-MODIFIED:20241018T134920Z
UID:10672-1729343700-1729349100@www.rosinka.at
SUMMARY:ИСТОРИЯ ИСКУССТВ
DESCRIPTION:
URL:https://www.rosinka.at/event/%d0%b8%d1%81%d1%82%d0%be%d1%80%d0%b8%d1%8f-%d0%b8%d1%81%d0%ba%d1%83%d1%81%d1%81%d1%82%d0%b2-4/
END:VEVENT
BEGIN:VEVENT
DTSTART;TZID=Europe/Vienna:20241021T171500
DTEND;TZID=Europe/Vienna:20241021T181500
DTSTAMP:20260420T005043
CREATED:20240909T121718Z
LAST-MODIFIED:20240909T121718Z
UID:10342-1729530900-1729534500@www.rosinka.at
SUMMARY:СВЕТЛЯЧКИ (4-5)
DESCRIPTION:
URL:https://www.rosinka.at/event/%d1%81%d0%b2%d0%b5%d1%82%d0%bb%d1%8f%d1%87%d0%ba%d0%b8-4-5/2024-10-21/
END:VEVENT
BEGIN:VEVENT
DTSTART;TZID=Europe/Vienna:20241021T171500
DTEND;TZID=Europe/Vienna:20241021T184500
DTSTAMP:20260420T005043
CREATED:20240909T121917Z
LAST-MODIFIED:20240909T121917Z
UID:10359-1729530900-1729536300@www.rosinka.at
SUMMARY:ЖИВОПИСЬ (7-10+)
DESCRIPTION:
URL:https://www.rosinka.at/event/%d0%b6%d0%b8%d0%b2%d0%be%d0%bf%d0%b8%d1%81%d1%8c-7-10-5/2024-10-21/
END:VEVENT
BEGIN:VEVENT
DTSTART;TZID=Europe/Vienna:20241022T150000
DTEND;TZID=Europe/Vienna:20241022T163000
DTSTAMP:20260420T005043
CREATED:20240914T205228Z
LAST-MODIFIED:20241112T153753Z
UID:10486-1729609200-1729614600@www.rosinka.at
SUMMARY:СТАРШЕКЛАССНИКИ (12-13)
DESCRIPTION:
URL:https://www.rosinka.at/event/%d0%b3%d1%80%d1%83%d0%bf%d0%bf%d0%b0-3-4-%d0%ba%d0%bb%d0%b0%d1%81%d1%81/2024-10-22/
END:VEVENT
BEGIN:VEVENT
DTSTART;TZID=Europe/Vienna:20241022T164500
DTEND;TZID=Europe/Vienna:20241022T181500
DTSTAMP:20260420T005043
CREATED:20240909T122100Z
LAST-MODIFIED:20240909T122100Z
UID:10376-1729615500-1729620900@www.rosinka.at
SUMMARY:ЯКОРЕК (10-11)
DESCRIPTION:
URL:https://www.rosinka.at/event/%d1%8f%d0%ba%d0%be%d1%80%d0%b5%d0%ba-10-11/2024-10-22/
END:VEVENT
BEGIN:VEVENT
DTSTART;TZID=Europe/Vienna:20241023T150000
DTEND;TZID=Europe/Vienna:20241023T163000
DTSTAMP:20260420T005043
CREATED:20240909T122331Z
LAST-MODIFIED:20240909T122331Z
UID:10394-1729695600-1729701000@www.rosinka.at
SUMMARY:ЗНАЙЧИКИ (8-9)
DESCRIPTION:
URL:https://www.rosinka.at/event/%d0%b7%d0%bd%d0%b0%d0%b9%d1%87%d0%b8%d0%ba%d0%b8-8-9/2024-10-23/
END:VEVENT
BEGIN:VEVENT
DTSTART;TZID=Europe/Vienna:20241023T163500
DTEND;TZID=Europe/Vienna:20241023T173500
DTSTAMP:20260420T005043
CREATED:20240914T205542Z
LAST-MODIFIED:20240914T205542Z
UID:10809-1729701300-1729704900@www.rosinka.at
SUMMARY:ФАНТАЗЕРЫ (4-5)
DESCRIPTION:
URL:https://www.rosinka.at/event/%d0%b3%d1%80%d1%83%d0%bf%d0%bf%d0%b0-4-5-%d0%bb%d0%b5%d1%82-7/2024-10-23/
END:VEVENT
BEGIN:VEVENT
DTSTART;TZID=Europe/Vienna:20241023T164500
DTEND;TZID=Europe/Vienna:20241023T181500
DTSTAMP:20260420T005043
CREATED:20240909T122217Z
LAST-MODIFIED:20240909T122217Z
UID:10412-1729701900-1729707300@www.rosinka.at
SUMMARY:БУКВОЕЖКИ (9-10)
DESCRIPTION:
URL:https://www.rosinka.at/event/%d0%b1%d1%83%d0%ba%d0%b2%d0%be%d0%b5%d0%b6%d0%ba%d0%b8-9-10/2024-10-23/
END:VEVENT
BEGIN:VEVENT
DTSTART;TZID=Europe/Vienna:20241024T163000
DTEND;TZID=Europe/Vienna:20241024T180000
DTSTAMP:20260420T005043
CREATED:20240909T122505Z
LAST-MODIFIED:20241004T074639Z
UID:10430-1729787400-1729792800@www.rosinka.at
SUMMARY:УМНИКИ (13-15)
DESCRIPTION:
URL:https://www.rosinka.at/event/%d0%bf%d0%be%d0%b4%d1%80%d0%be%d1%81%d1%82%d0%ba%d0%b8-2-0-13-15/2024-10-24/
END:VEVENT
BEGIN:VEVENT
DTSTART;TZID=Europe/Vienna:20241024T164500
DTEND;TZID=Europe/Vienna:20241024T181500
DTSTAMP:20260420T005043
CREATED:20240909T122618Z
LAST-MODIFIED:20240909T122618Z
UID:10448-1729788300-1729793700@www.rosinka.at
SUMMARY:СОЛНЫШКИ (5-6)
DESCRIPTION:
URL:https://www.rosinka.at/event/%d1%81%d0%be%d0%bb%d0%bd%d1%8b%d1%88%d0%ba%d0%b8-5-6/2024-10-24/
END:VEVENT
BEGIN:VEVENT
DTSTART;TZID=Europe/Vienna:20241025T144500
DTEND;TZID=Europe/Vienna:20241025T161500
DTSTAMP:20260420T005043
CREATED:20240914T205405Z
LAST-MODIFIED:20241019T141757Z
UID:10506-1729867500-1729872900@www.rosinka.at
SUMMARY:ФИКСИКИ (6-7)
DESCRIPTION:
URL:https://www.rosinka.at/event/%d0%bf%d1%87%d0%b5%d0%bb%d0%ba%d0%b8-6-7/2024-10-25/
END:VEVENT
BEGIN:VEVENT
DTSTART;TZID=Europe/Vienna:20241025T160000
DTEND;TZID=Europe/Vienna:20241025T173000
DTSTAMP:20260420T005043
CREATED:20240916T195330Z
LAST-MODIFIED:20240916T195330Z
UID:10551-1729872000-1729877400@www.rosinka.at
SUMMARY:ЛУЧИКИ (5-6)
DESCRIPTION:
URL:https://www.rosinka.at/event/%d0%bb%d1%83%d1%87%d0%b8%d0%ba%d0%b8-5-6/2024-10-25/
END:VEVENT
BEGIN:VEVENT
DTSTART;TZID=Europe/Vienna:20241025T170000
DTEND;TZID=Europe/Vienna:20241025T180000
DTSTAMP:20260420T005043
CREATED:20240909T122733Z
LAST-MODIFIED:20240909T122733Z
UID:10727-1729875600-1729879200@www.rosinka.at
SUMMARY:МАЛЫШАРИКИ (1\,5-3)
DESCRIPTION:
URL:https://www.rosinka.at/event/%d0%bc%d0%b0%d0%bb%d1%8b%d1%88%d0%b0%d1%80%d0%b8%d0%ba%d0%b8-15-3-3/2024-10-25/
END:VEVENT
BEGIN:VEVENT
DTSTART;VALUE=DATE:20241026
DTEND;VALUE=DATE:20241104
DTSTAMP:20260420T005043
CREATED:20240813T102459Z
LAST-MODIFIED:20240813T102510Z
UID:10238-1729900800-1730678399@www.rosinka.at
SUMMARY:ОСЕННИЕ КАНИКУЛЫ
DESCRIPTION:
URL:https://www.rosinka.at/event/%d0%be%d1%81%d0%b5%d0%bd%d0%bd%d0%b8%d0%b5-%d0%ba%d0%b0%d0%bd%d0%b8%d0%ba%d1%83%d0%bb%d1%8b-5/
END:VEVENT
BEGIN:VEVENT
DTSTART;TZID=Europe/Vienna:20241104T171500
DTEND;TZID=Europe/Vienna:20241104T181500
DTSTAMP:20260420T005043
CREATED:20240909T121718Z
LAST-MODIFIED:20240909T121718Z
UID:10343-1730740500-1730744100@www.rosinka.at
SUMMARY:СВЕТЛЯЧКИ (4-5)
DESCRIPTION:
URL:https://www.rosinka.at/event/%d1%81%d0%b2%d0%b5%d1%82%d0%bb%d1%8f%d1%87%d0%ba%d0%b8-4-5/2024-11-04/
END:VEVENT
BEGIN:VEVENT
DTSTART;TZID=Europe/Vienna:20241104T171500
DTEND;TZID=Europe/Vienna:20241104T184500
DTSTAMP:20260420T005043
CREATED:20240909T121917Z
LAST-MODIFIED:20240909T121917Z
UID:10360-1730740500-1730745900@www.rosinka.at
SUMMARY:ЖИВОПИСЬ (7-10+)
DESCRIPTION:
URL:https://www.rosinka.at/event/%d0%b6%d0%b8%d0%b2%d0%be%d0%bf%d0%b8%d1%81%d1%8c-7-10-5/2024-11-04/
END:VEVENT
BEGIN:VEVENT
DTSTART;TZID=Europe/Vienna:20241105T164500
DTEND;TZID=Europe/Vienna:20241105T181500
DTSTAMP:20260420T005043
CREATED:20240909T122100Z
LAST-MODIFIED:20240909T122100Z
UID:10377-1730825100-1730830500@www.rosinka.at
SUMMARY:ЯКОРЕК (10-11)
DESCRIPTION:
URL:https://www.rosinka.at/event/%d1%8f%d0%ba%d0%be%d1%80%d0%b5%d0%ba-10-11/2024-11-05/
END:VEVENT
BEGIN:VEVENT
DTSTART;TZID=Europe/Vienna:20241106T150000
DTEND;TZID=Europe/Vienna:20241106T163000
DTSTAMP:20260420T005043
CREATED:20240909T122331Z
LAST-MODIFIED:20240909T122331Z
UID:10395-1730905200-1730910600@www.rosinka.at
SUMMARY:ЗНАЙЧИКИ (8-9)
DESCRIPTION:
URL:https://www.rosinka.at/event/%d0%b7%d0%bd%d0%b0%d0%b9%d1%87%d0%b8%d0%ba%d0%b8-8-9/2024-11-06/
END:VEVENT
BEGIN:VEVENT
DTSTART;TZID=Europe/Vienna:20241106T163500
DTEND;TZID=Europe/Vienna:20241106T173500
DTSTAMP:20260420T005043
CREATED:20240914T205542Z
LAST-MODIFIED:20240914T205542Z
UID:10810-1730910900-1730914500@www.rosinka.at
SUMMARY:ФАНТАЗЕРЫ (4-5)
DESCRIPTION:
URL:https://www.rosinka.at/event/%d0%b3%d1%80%d1%83%d0%bf%d0%bf%d0%b0-4-5-%d0%bb%d0%b5%d1%82-7/2024-11-06/
END:VEVENT
BEGIN:VEVENT
DTSTART;TZID=Europe/Vienna:20241106T164500
DTEND;TZID=Europe/Vienna:20241106T181500
DTSTAMP:20260420T005043
CREATED:20240909T122217Z
LAST-MODIFIED:20240909T122217Z
UID:10413-1730911500-1730916900@www.rosinka.at
SUMMARY:БУКВОЕЖКИ (9-10)
DESCRIPTION:
URL:https://www.rosinka.at/event/%d0%b1%d1%83%d0%ba%d0%b2%d0%be%d0%b5%d0%b6%d0%ba%d0%b8-9-10/2024-11-06/
END:VEVENT
BEGIN:VEVENT
DTSTART;TZID=Europe/Vienna:20241107T164500
DTEND;TZID=Europe/Vienna:20241107T181500
DTSTAMP:20260420T005043
CREATED:20240909T122618Z
LAST-MODIFIED:20240909T122618Z
UID:10449-1730997900-1731003300@www.rosinka.at
SUMMARY:СОЛНЫШКИ (5-6)
DESCRIPTION:
URL:https://www.rosinka.at/event/%d1%81%d0%be%d0%bb%d0%bd%d1%8b%d1%88%d0%ba%d0%b8-5-6/2024-11-07/
END:VEVENT
BEGIN:VEVENT
DTSTART;TZID=Europe/Vienna:20241108T144500
DTEND;TZID=Europe/Vienna:20241108T161500
DTSTAMP:20260420T005043
CREATED:20240914T205405Z
LAST-MODIFIED:20241019T141757Z
UID:10507-1731077100-1731082500@www.rosinka.at
SUMMARY:ФИКСИКИ (6-7)
DESCRIPTION:
URL:https://www.rosinka.at/event/%d0%bf%d1%87%d0%b5%d0%bb%d0%ba%d0%b8-6-7/2024-11-08/
END:VEVENT
BEGIN:VEVENT
DTSTART;TZID=Europe/Vienna:20241108T160000
DTEND;TZID=Europe/Vienna:20241108T173000
DTSTAMP:20260420T005043
CREATED:20240916T195330Z
LAST-MODIFIED:20240916T195330Z
UID:10552-1731081600-1731087000@www.rosinka.at
SUMMARY:ЛУЧИКИ (5-6)
DESCRIPTION:
URL:https://www.rosinka.at/event/%d0%bb%d1%83%d1%87%d0%b8%d0%ba%d0%b8-5-6/2024-11-08/
END:VEVENT
BEGIN:VEVENT
DTSTART;TZID=Europe/Vienna:20241108T180000
DTEND;TZID=Europe/Vienna:20241108T203000
DTSTAMP:20260420T005043
CREATED:20241107T152429Z
LAST-MODIFIED:20241107T152429Z
UID:10760-1731088800-1731097800@www.rosinka.at
SUMMARY:СЕМИНАР ПО РОДИТЕЛЬСТВУ
DESCRIPTION:
URL:https://www.rosinka.at/event/%d1%81%d0%b5%d0%bc%d0%b8%d0%bd%d0%b0%d1%80-%d0%bf%d0%be-%d1%80%d0%be%d0%b4%d0%b8%d1%82%d0%b5%d0%bb%d1%8c%d1%81%d1%82%d0%b2%d1%83/
END:VEVENT
BEGIN:VEVENT
DTSTART;TZID=Europe/Vienna:20241109T110000
DTEND;TZID=Europe/Vienna:20241109T120000
DTSTAMP:20260420T005043
CREATED:20240925T091230Z
LAST-MODIFIED:20241009T190514Z
UID:10677-1731150000-1731153600@www.rosinka.at
SUMMARY:РОБОТОТЕХНИКА
DESCRIPTION:
URL:https://www.rosinka.at/event/%d1%80%d0%be%d0%b1%d0%be%d1%82%d0%be%d1%82%d0%b5%d1%85%d0%bd%d0%b8%d0%ba%d0%b0-13/2024-11-09/
END:VEVENT
BEGIN:VEVENT
DTSTART;TZID=Europe/Vienna:20241111T171500
DTEND;TZID=Europe/Vienna:20241111T181500
DTSTAMP:20260420T005043
CREATED:20240909T121718Z
LAST-MODIFIED:20240909T121718Z
UID:10344-1731345300-1731348900@www.rosinka.at
SUMMARY:СВЕТЛЯЧКИ (4-5)
DESCRIPTION:
URL:https://www.rosinka.at/event/%d1%81%d0%b2%d0%b5%d1%82%d0%bb%d1%8f%d1%87%d0%ba%d0%b8-4-5/2024-11-11/
END:VEVENT
BEGIN:VEVENT
DTSTART;TZID=Europe/Vienna:20241111T171500
DTEND;TZID=Europe/Vienna:20241111T184500
DTSTAMP:20260420T005043
CREATED:20240909T121917Z
LAST-MODIFIED:20240909T121917Z
UID:10361-1731345300-1731350700@www.rosinka.at
SUMMARY:ЖИВОПИСЬ (7-10+)
DESCRIPTION:
URL:https://www.rosinka.at/event/%d0%b6%d0%b8%d0%b2%d0%be%d0%bf%d0%b8%d1%81%d1%8c-7-10-5/2024-11-11/
END:VEVENT
BEGIN:VEVENT
DTSTART;TZID=Europe/Vienna:20241112T150000
DTEND;TZID=Europe/Vienna:20241112T163000
DTSTAMP:20260420T005043
CREATED:20240914T205228Z
LAST-MODIFIED:20241112T153754Z
UID:10488-1731423600-1731429000@www.rosinka.at
SUMMARY:СТАРШЕКЛАССНИКИ (12-13)
DESCRIPTION:
URL:https://www.rosinka.at/event/%d0%b3%d1%80%d1%83%d0%bf%d0%bf%d0%b0-3-4-%d0%ba%d0%bb%d0%b0%d1%81%d1%81/2024-11-12/
END:VEVENT
BEGIN:VEVENT
DTSTART;TZID=Europe/Vienna:20241112T164500
DTEND;TZID=Europe/Vienna:20241112T181500
DTSTAMP:20260420T005043
CREATED:20240909T122100Z
LAST-MODIFIED:20240909T122100Z
UID:10378-1731429900-1731435300@www.rosinka.at
SUMMARY:ЯКОРЕК (10-11)
DESCRIPTION:
URL:https://www.rosinka.at/event/%d1%8f%d0%ba%d0%be%d1%80%d0%b5%d0%ba-10-11/2024-11-12/
END:VEVENT
END:VCALENDAR