BEGIN:VCALENDAR
VERSION:2.0
PRODID:-//Rosinka - ECPv6.15.20//NONSGML v1.0//EN
CALSCALE:GREGORIAN
METHOD:PUBLISH
X-ORIGINAL-URL:https://www.rosinka.at
X-WR-CALDESC:Мероприятия для Rosinka
REFRESH-INTERVAL;VALUE=DURATION:PT1H
X-Robots-Tag:noindex
X-PUBLISHED-TTL:PT1H
BEGIN:VTIMEZONE
TZID:Europe/Vienna
BEGIN:DAYLIGHT
TZOFFSETFROM:+0100
TZOFFSETTO:+0200
TZNAME:CEST
DTSTART:20170326T010000
END:DAYLIGHT
BEGIN:STANDARD
TZOFFSETFROM:+0200
TZOFFSETTO:+0100
TZNAME:CET
DTSTART:20171029T010000
END:STANDARD
BEGIN:DAYLIGHT
TZOFFSETFROM:+0100
TZOFFSETTO:+0200
TZNAME:CEST
DTSTART:20180325T010000
END:DAYLIGHT
BEGIN:STANDARD
TZOFFSETFROM:+0200
TZOFFSETTO:+0100
TZNAME:CET
DTSTART:20181028T010000
END:STANDARD
BEGIN:DAYLIGHT
TZOFFSETFROM:+0100
TZOFFSETTO:+0200
TZNAME:CEST
DTSTART:20190331T010000
END:DAYLIGHT
BEGIN:STANDARD
TZOFFSETFROM:+0200
TZOFFSETTO:+0100
TZNAME:CET
DTSTART:20191027T010000
END:STANDARD
END:VTIMEZONE
BEGIN:VEVENT
DTSTART;TZID=Europe/Vienna:20181129T144500
DTEND;TZID=Europe/Vienna:20181129T154500
DTSTAMP:20260420T052749
CREATED:20181016T192216Z
LAST-MODIFIED:20181023T145030Z
UID:2163-1543502700-1543506300@www.rosinka.at
SUMMARY:Группа 0 - 1\,5 года
DESCRIPTION:
URL:https://www.rosinka.at/event/%d0%b3%d1%80%d1%83%d0%bf%d0%bf%d0%b0-0-15-%d0%b3%d0%be%d0%b4%d0%b0-6/
END:VEVENT
BEGIN:VEVENT
DTSTART;TZID=Europe/Vienna:20181129T163000
DTEND;TZID=Europe/Vienna:20181129T181500
DTSTAMP:20260420T052749
CREATED:20180907T091136Z
LAST-MODIFIED:20180907T091136Z
UID:1939-1543509000-1543515300@www.rosinka.at
SUMMARY:ЗВЕЗДОЧЕТЫ
DESCRIPTION:
URL:https://www.rosinka.at/event/%d0%b7%d0%b2%d0%b5%d0%b7%d0%b4%d0%be%d1%87%d0%b5%d1%82%d1%8b-41/
END:VEVENT
END:VCALENDAR