BEGIN:VCALENDAR
VERSION:2.0
PRODID:-//Rosinka - ECPv6.15.20//NONSGML v1.0//EN
CALSCALE:GREGORIAN
METHOD:PUBLISH
X-WR-CALNAME:Rosinka
X-ORIGINAL-URL:https://www.rosinka.at
X-WR-CALDESC:Мероприятия для Rosinka
REFRESH-INTERVAL;VALUE=DURATION:PT1H
X-Robots-Tag:noindex
X-PUBLISHED-TTL:PT1H
BEGIN:VTIMEZONE
TZID:Europe/Vienna
BEGIN:DAYLIGHT
TZOFFSETFROM:+0100
TZOFFSETTO:+0200
TZNAME:CEST
DTSTART:20180325T010000
END:DAYLIGHT
BEGIN:STANDARD
TZOFFSETFROM:+0200
TZOFFSETTO:+0100
TZNAME:CET
DTSTART:20181028T010000
END:STANDARD
BEGIN:DAYLIGHT
TZOFFSETFROM:+0100
TZOFFSETTO:+0200
TZNAME:CEST
DTSTART:20190331T010000
END:DAYLIGHT
BEGIN:STANDARD
TZOFFSETFROM:+0200
TZOFFSETTO:+0100
TZNAME:CET
DTSTART:20191027T010000
END:STANDARD
BEGIN:DAYLIGHT
TZOFFSETFROM:+0100
TZOFFSETTO:+0200
TZNAME:CEST
DTSTART:20200329T010000
END:DAYLIGHT
BEGIN:STANDARD
TZOFFSETFROM:+0200
TZOFFSETTO:+0100
TZNAME:CET
DTSTART:20201025T010000
END:STANDARD
END:VTIMEZONE
BEGIN:VEVENT
DTSTART;TZID=Europe/Vienna:20190228T150000
DTEND;TZID=Europe/Vienna:20190228T163000
DTSTAMP:20260420T153342
CREATED:20190225T205418Z
LAST-MODIFIED:20190225T205541Z
UID:2604-1551366000-1551371400@www.rosinka.at
SUMMARY:Пробное занятие по живописи (7-11 лет)
DESCRIPTION:
URL:https://www.rosinka.at/event/%d0%bf%d1%80%d0%be%d0%b1%d0%bd%d0%be%d0%b5-%d0%b7%d0%b0%d0%bd%d1%8f%d1%82%d0%b8%d0%b5-%d0%bf%d0%be-%d0%b6%d0%b8%d0%b2%d0%be%d0%bf%d0%b8%d1%81%d0%b8-7-11-%d0%bb%d0%b5%d1%82/
END:VEVENT
BEGIN:VEVENT
DTSTART;TZID=Europe/Vienna:20190228T163000
DTEND;TZID=Europe/Vienna:20190228T181500
DTSTAMP:20260420T153342
CREATED:20190219T155719Z
LAST-MODIFIED:20190219T155719Z
UID:2484-1551371400-1551377700@www.rosinka.at
SUMMARY:ЗВЕЗДОЧЕТЫ (7-8)
DESCRIPTION:
URL:https://www.rosinka.at/event/%d0%b7%d0%b2%d0%b5%d0%b7%d0%b4%d0%be%d1%87%d0%b5%d1%82%d1%8b-7-8/
END:VEVENT
BEGIN:VEVENT
DTSTART;TZID=Europe/Vienna:20190228T170000
DTEND;TZID=Europe/Vienna:20190228T180000
DTSTAMP:20260420T153342
CREATED:20190225T205502Z
LAST-MODIFIED:20190225T205502Z
UID:2606-1551373200-1551376800@www.rosinka.at
SUMMARY:Занятие по живописи (4-6 лет)
DESCRIPTION:
URL:https://www.rosinka.at/event/%d0%b7%d0%b0%d0%bd%d1%8f%d1%82%d0%b8%d0%b5-%d0%bf%d0%be-%d0%b6%d0%b8%d0%b2%d0%be%d0%bf%d0%b8%d1%81%d0%b8-4-6-%d0%bb%d0%b5%d1%82/
END:VEVENT
END:VCALENDAR