BEGIN:VCALENDAR
VERSION:2.0
PRODID:-//Rosinka - ECPv6.15.20//NONSGML v1.0//EN
CALSCALE:GREGORIAN
METHOD:PUBLISH
X-ORIGINAL-URL:https://www.rosinka.at
X-WR-CALDESC:Мероприятия для Rosinka
REFRESH-INTERVAL;VALUE=DURATION:PT1H
X-Robots-Tag:noindex
X-PUBLISHED-TTL:PT1H
BEGIN:VTIMEZONE
TZID:Europe/Vienna
BEGIN:DAYLIGHT
TZOFFSETFROM:+0100
TZOFFSETTO:+0200
TZNAME:CEST
DTSTART:20180325T010000
END:DAYLIGHT
BEGIN:STANDARD
TZOFFSETFROM:+0200
TZOFFSETTO:+0100
TZNAME:CET
DTSTART:20181028T010000
END:STANDARD
BEGIN:DAYLIGHT
TZOFFSETFROM:+0100
TZOFFSETTO:+0200
TZNAME:CEST
DTSTART:20190331T010000
END:DAYLIGHT
BEGIN:STANDARD
TZOFFSETFROM:+0200
TZOFFSETTO:+0100
TZNAME:CET
DTSTART:20191027T010000
END:STANDARD
BEGIN:DAYLIGHT
TZOFFSETFROM:+0100
TZOFFSETTO:+0200
TZNAME:CEST
DTSTART:20200329T010000
END:DAYLIGHT
BEGIN:STANDARD
TZOFFSETFROM:+0200
TZOFFSETTO:+0100
TZNAME:CET
DTSTART:20201025T010000
END:STANDARD
END:VTIMEZONE
BEGIN:VEVENT
DTSTART;TZID=Europe/Vienna:20190330T110000
DTEND;TZID=Europe/Vienna:20190330T123000
DTSTAMP:20260420T153418
CREATED:20190318T220809Z
LAST-MODIFIED:20190318T220809Z
UID:2996-1553943600-1553949000@www.rosinka.at
SUMMARY:БЛОК I: ГОРОДЕЦ
DESCRIPTION:
URL:https://www.rosinka.at/event/%d0%b1%d0%bb%d0%be%d0%ba-i-%d0%b3%d0%be%d1%80%d0%be%d0%b4%d0%b5%d1%86/
END:VEVENT
BEGIN:VEVENT
DTSTART;TZID=Europe/Vienna:20190330T113000
DTEND;TZID=Europe/Vienna:20190330T123000
DTSTAMP:20260420T153418
CREATED:20190220T215515Z
LAST-MODIFIED:20190220T215515Z
UID:2582-1553945400-1553949000@www.rosinka.at
SUMMARY:РОБОТОТЕХНИКА (7-10)
DESCRIPTION:
URL:https://www.rosinka.at/event/%d1%80%d0%be%d0%b1%d0%be%d1%82%d0%be%d1%82%d0%b5%d1%85%d0%bd%d0%b8%d0%ba%d0%b0-7-10-5/
END:VEVENT
BEGIN:VEVENT
DTSTART;TZID=Europe/Vienna:20190330T133000
DTEND;TZID=Europe/Vienna:20190330T150000
DTSTAMP:20260420T153418
CREATED:20190220T215541Z
LAST-MODIFIED:20190220T215541Z
UID:2584-1553952600-1553958000@www.rosinka.at
SUMMARY:РОБОТОТЕХНИКА (11+)
DESCRIPTION:
URL:https://www.rosinka.at/event/%d1%80%d0%be%d0%b1%d0%be%d1%82%d0%be%d1%82%d0%b5%d1%85%d0%bd%d0%b8%d0%ba%d0%b0-11-5/
END:VEVENT
END:VCALENDAR