BEGIN:VCALENDAR
VERSION:2.0
PRODID:-//Rosinka - ECPv6.15.20//NONSGML v1.0//EN
CALSCALE:GREGORIAN
METHOD:PUBLISH
X-WR-CALNAME:Rosinka
X-ORIGINAL-URL:https://www.rosinka.at
X-WR-CALDESC:Мероприятия для Rosinka
REFRESH-INTERVAL;VALUE=DURATION:PT1H
X-Robots-Tag:noindex
X-PUBLISHED-TTL:PT1H
BEGIN:VTIMEZONE
TZID:Europe/Vienna
BEGIN:DAYLIGHT
TZOFFSETFROM:+0100
TZOFFSETTO:+0200
TZNAME:CEST
DTSTART:20180325T010000
END:DAYLIGHT
BEGIN:STANDARD
TZOFFSETFROM:+0200
TZOFFSETTO:+0100
TZNAME:CET
DTSTART:20181028T010000
END:STANDARD
BEGIN:DAYLIGHT
TZOFFSETFROM:+0100
TZOFFSETTO:+0200
TZNAME:CEST
DTSTART:20190331T010000
END:DAYLIGHT
BEGIN:STANDARD
TZOFFSETFROM:+0200
TZOFFSETTO:+0100
TZNAME:CET
DTSTART:20191027T010000
END:STANDARD
BEGIN:DAYLIGHT
TZOFFSETFROM:+0100
TZOFFSETTO:+0200
TZNAME:CEST
DTSTART:20200329T010000
END:DAYLIGHT
BEGIN:STANDARD
TZOFFSETFROM:+0200
TZOFFSETTO:+0100
TZNAME:CET
DTSTART:20201025T010000
END:STANDARD
END:VTIMEZONE
BEGIN:VEVENT
DTSTART;TZID=Europe/Vienna:20190427T110000
DTEND;TZID=Europe/Vienna:20190427T123000
DTSTAMP:20260420T170649
CREATED:20190318T220953Z
LAST-MODIFIED:20190318T220953Z
UID:3002-1556362800-1556368200@www.rosinka.at
SUMMARY:БЛОК II:  ХОХЛОМА
DESCRIPTION:
URL:https://www.rosinka.at/event/%d0%b1%d0%bb%d0%be%d0%ba-ii-%d1%85%d0%be%d1%85%d0%bb%d0%be%d0%bc%d0%b0/
END:VEVENT
BEGIN:VEVENT
DTSTART;TZID=Europe/Vienna:20190427T113000
DTEND;TZID=Europe/Vienna:20190427T123000
DTSTAMP:20260420T170649
CREATED:20190227T214127Z
LAST-MODIFIED:20190227T214127Z
UID:2654-1556364600-1556368200@www.rosinka.at
SUMMARY:РОБОТОТЕХНИКА (7-10)
DESCRIPTION:
URL:https://www.rosinka.at/event/%d1%80%d0%be%d0%b1%d0%be%d1%82%d0%be%d1%82%d0%b5%d1%85%d0%bd%d0%b8%d0%ba%d0%b0-7-10-7/
END:VEVENT
BEGIN:VEVENT
DTSTART;TZID=Europe/Vienna:20190427T133000
DTEND;TZID=Europe/Vienna:20190427T150000
DTSTAMP:20260420T170649
CREATED:20190227T214157Z
LAST-MODIFIED:20190227T214157Z
UID:2656-1556371800-1556377200@www.rosinka.at
SUMMARY:РОБОТОТЕХНИКА (11+)
DESCRIPTION:
URL:https://www.rosinka.at/event/%d1%80%d0%be%d0%b1%d0%be%d1%82%d0%be%d1%82%d0%b5%d1%85%d0%bd%d0%b8%d0%ba%d0%b0-11-7/
END:VEVENT
END:VCALENDAR