BEGIN:VCALENDAR
VERSION:2.0
PRODID:-//Rosinka - ECPv6.15.20//NONSGML v1.0//EN
CALSCALE:GREGORIAN
METHOD:PUBLISH
X-ORIGINAL-URL:https://www.rosinka.at
X-WR-CALDESC:Мероприятия для Rosinka
REFRESH-INTERVAL;VALUE=DURATION:PT1H
X-Robots-Tag:noindex
X-PUBLISHED-TTL:PT1H
BEGIN:VTIMEZONE
TZID:Europe/Vienna
BEGIN:DAYLIGHT
TZOFFSETFROM:+0100
TZOFFSETTO:+0200
TZNAME:CEST
DTSTART:20210328T010000
END:DAYLIGHT
BEGIN:STANDARD
TZOFFSETFROM:+0200
TZOFFSETTO:+0100
TZNAME:CET
DTSTART:20211031T010000
END:STANDARD
BEGIN:DAYLIGHT
TZOFFSETFROM:+0100
TZOFFSETTO:+0200
TZNAME:CEST
DTSTART:20220327T010000
END:DAYLIGHT
BEGIN:STANDARD
TZOFFSETFROM:+0200
TZOFFSETTO:+0100
TZNAME:CET
DTSTART:20221030T010000
END:STANDARD
BEGIN:DAYLIGHT
TZOFFSETFROM:+0100
TZOFFSETTO:+0200
TZNAME:CEST
DTSTART:20230326T010000
END:DAYLIGHT
BEGIN:STANDARD
TZOFFSETFROM:+0200
TZOFFSETTO:+0100
TZNAME:CET
DTSTART:20231029T010000
END:STANDARD
END:VTIMEZONE
BEGIN:VEVENT
DTSTART;TZID=Europe/Vienna:20220920T150000
DTEND;TZID=Europe/Vienna:20220920T163000
DTSTAMP:20260420T003954
CREATED:20220918T183103Z
LAST-MODIFIED:20220918T183103Z
UID:8015-1663686000-1663691400@www.rosinka.at
SUMMARY:ЗОЛОТОЙ КЛЮЧИК (12-13)
DESCRIPTION:
URL:https://www.rosinka.at/event/%d0%b7%d0%be%d0%bb%d0%be%d1%82%d0%be%d0%b9-%d0%ba%d0%bb%d1%8e%d1%87%d0%b8%d0%ba-12-13/2022-09-20/
END:VEVENT
BEGIN:VEVENT
DTSTART;TZID=Europe/Vienna:20220920T163000
DTEND;TZID=Europe/Vienna:20220920T180000
DTSTAMP:20260420T003954
CREATED:20220918T183149Z
LAST-MODIFIED:20220922T081203Z
UID:8038-1663691400-1663696800@www.rosinka.at
SUMMARY:ЗНАЙЧИКИ (6-7)
DESCRIPTION:
URL:https://www.rosinka.at/event/%d0%b7%d0%bd%d0%b0%d0%b9%d1%87%d0%b8%d0%ba%d0%b8-6-7/2022-09-20/
END:VEVENT
BEGIN:VEVENT
DTSTART;TZID=Europe/Vienna:20220920T164500
DTEND;TZID=Europe/Vienna:20220920T181500
DTSTAMP:20260420T003954
CREATED:20220918T183318Z
LAST-MODIFIED:20220918T183318Z
UID:8061-1663692300-1663697700@www.rosinka.at
SUMMARY:ЯКОРЕК (8-9)
DESCRIPTION:
URL:https://www.rosinka.at/event/%d1%8f%d0%ba%d0%be%d1%80%d0%b5%d0%ba-8-9/2022-09-20/
END:VEVENT
END:VCALENDAR