BEGIN:VCALENDAR
VERSION:2.0
PRODID:-//Rosinka - ECPv6.15.20//NONSGML v1.0//EN
CALSCALE:GREGORIAN
METHOD:PUBLISH
X-ORIGINAL-URL:https://www.rosinka.at
X-WR-CALDESC:Мероприятия для Rosinka
REFRESH-INTERVAL;VALUE=DURATION:PT1H
X-Robots-Tag:noindex
X-PUBLISHED-TTL:PT1H
BEGIN:VTIMEZONE
TZID:Europe/Vienna
BEGIN:DAYLIGHT
TZOFFSETFROM:+0100
TZOFFSETTO:+0200
TZNAME:CEST
DTSTART:20230326T010000
END:DAYLIGHT
BEGIN:STANDARD
TZOFFSETFROM:+0200
TZOFFSETTO:+0100
TZNAME:CET
DTSTART:20231029T010000
END:STANDARD
BEGIN:DAYLIGHT
TZOFFSETFROM:+0100
TZOFFSETTO:+0200
TZNAME:CEST
DTSTART:20240331T010000
END:DAYLIGHT
BEGIN:STANDARD
TZOFFSETFROM:+0200
TZOFFSETTO:+0100
TZNAME:CET
DTSTART:20241027T010000
END:STANDARD
BEGIN:DAYLIGHT
TZOFFSETFROM:+0100
TZOFFSETTO:+0200
TZNAME:CEST
DTSTART:20250330T010000
END:DAYLIGHT
BEGIN:STANDARD
TZOFFSETFROM:+0200
TZOFFSETTO:+0100
TZNAME:CET
DTSTART:20251026T010000
END:STANDARD
END:VTIMEZONE
BEGIN:VEVENT
DTSTART;VALUE=DATE:20240701
DTEND;VALUE=DATE:20240916
DTSTAMP:20260420T041134
CREATED:20240701T162334Z
LAST-MODIFIED:20240701T162334Z
UID:10220-1719792000-1726444799@www.rosinka.at
SUMMARY:ЛЕТНИЕ КАНИКУЛЫ 😃☀️🥳
DESCRIPTION:
URL:https://www.rosinka.at/event/%d0%bb%d0%b5%d1%82%d0%bd%d0%b8%d0%b5-%d0%ba%d0%b0%d0%bd%d0%b8%d0%ba%d1%83%d0%bb%d1%8b-%f0%9f%98%83%e2%98%80%ef%b8%8f%f0%9f%a5%b3/
END:VEVENT
BEGIN:VEVENT
DTSTART;TZID=Europe/Vienna:20240708T171500
DTEND;TZID=Europe/Vienna:20240708T184500
DTSTAMP:20260420T041134
CREATED:20240216T150907Z
LAST-MODIFIED:20240522T200707Z
UID:9926-1720458900-1720464300@www.rosinka.at
SUMMARY:ЖИВОПИСЬ (7-10)
DESCRIPTION:
URL:https://www.rosinka.at/event/%d0%b6%d0%b8%d0%b2%d0%be%d0%bf%d0%b8%d1%81%d1%8c-7-10-4-2024-06-24/
END:VEVENT
END:VCALENDAR