BEGIN:VCALENDAR
VERSION:2.0
PRODID:-//Rosinka - ECPv6.15.20//NONSGML v1.0//EN
CALSCALE:GREGORIAN
METHOD:PUBLISH
X-WR-CALNAME:Rosinka
X-ORIGINAL-URL:https://www.rosinka.at
X-WR-CALDESC:Мероприятия для Rosinka
REFRESH-INTERVAL;VALUE=DURATION:PT1H
X-Robots-Tag:noindex
X-PUBLISHED-TTL:PT1H
BEGIN:VTIMEZONE
TZID:Europe/Vienna
BEGIN:DAYLIGHT
TZOFFSETFROM:+0100
TZOFFSETTO:+0200
TZNAME:CEST
DTSTART:20240331T010000
END:DAYLIGHT
BEGIN:STANDARD
TZOFFSETFROM:+0200
TZOFFSETTO:+0100
TZNAME:CET
DTSTART:20241027T010000
END:STANDARD
BEGIN:DAYLIGHT
TZOFFSETFROM:+0100
TZOFFSETTO:+0200
TZNAME:CEST
DTSTART:20250330T010000
END:DAYLIGHT
BEGIN:STANDARD
TZOFFSETFROM:+0200
TZOFFSETTO:+0100
TZNAME:CET
DTSTART:20251026T010000
END:STANDARD
BEGIN:DAYLIGHT
TZOFFSETFROM:+0100
TZOFFSETTO:+0200
TZNAME:CEST
DTSTART:20260329T010000
END:DAYLIGHT
BEGIN:STANDARD
TZOFFSETFROM:+0200
TZOFFSETTO:+0100
TZNAME:CET
DTSTART:20261025T010000
END:STANDARD
END:VTIMEZONE
BEGIN:VEVENT
DTSTART;TZID=Europe/Vienna:20250122T150000
DTEND;TZID=Europe/Vienna:20250122T163000
DTSTAMP:20260419T175406
CREATED:20240909T122331Z
LAST-MODIFIED:20240909T123613Z
UID:10299-1737558000-1737563400@www.rosinka.at
SUMMARY:ЗНАЙЧИКИ (8-9)
DESCRIPTION:
URL:https://www.rosinka.at/event/%d0%b7%d0%bd%d0%b0%d0%b9%d1%87%d0%b8%d0%ba%d0%b8-8-9/2025-01-22/
END:VEVENT
BEGIN:VEVENT
DTSTART;TZID=Europe/Vienna:20250122T163500
DTEND;TZID=Europe/Vienna:20250122T173500
DTSTAMP:20260419T175406
CREATED:20240914T205542Z
LAST-MODIFIED:20240914T205542Z
UID:10819-1737563700-1737567300@www.rosinka.at
SUMMARY:ФАНТАЗЕРЫ (4-5)
DESCRIPTION:
URL:https://www.rosinka.at/event/%d0%b3%d1%80%d1%83%d0%bf%d0%bf%d0%b0-4-5-%d0%bb%d0%b5%d1%82-7/2025-01-22/
END:VEVENT
BEGIN:VEVENT
DTSTART;TZID=Europe/Vienna:20250122T164500
DTEND;TZID=Europe/Vienna:20250122T181500
DTSTAMP:20260419T175406
CREATED:20240909T122217Z
LAST-MODIFIED:20240909T123655Z
UID:10291-1737564300-1737569700@www.rosinka.at
SUMMARY:БУКВОЕЖКИ (9-10)
DESCRIPTION:
URL:https://www.rosinka.at/event/%d0%b1%d1%83%d0%ba%d0%b2%d0%be%d0%b5%d0%b6%d0%ba%d0%b8-9-10/2025-01-22/
END:VEVENT
END:VCALENDAR