BEGIN:VCALENDAR
VERSION:2.0
PRODID:-//Rosinka - ECPv6.15.20//NONSGML v1.0//EN
CALSCALE:GREGORIAN
METHOD:PUBLISH
X-ORIGINAL-URL:https://www.rosinka.at
X-WR-CALDESC:Мероприятия для Rosinka
REFRESH-INTERVAL;VALUE=DURATION:PT1H
X-Robots-Tag:noindex
X-PUBLISHED-TTL:PT1H
BEGIN:VTIMEZONE
TZID:Europe/Vienna
BEGIN:DAYLIGHT
TZOFFSETFROM:+0100
TZOFFSETTO:+0200
TZNAME:CEST
DTSTART:20240331T010000
END:DAYLIGHT
BEGIN:STANDARD
TZOFFSETFROM:+0200
TZOFFSETTO:+0100
TZNAME:CET
DTSTART:20241027T010000
END:STANDARD
BEGIN:DAYLIGHT
TZOFFSETFROM:+0100
TZOFFSETTO:+0200
TZNAME:CEST
DTSTART:20250330T010000
END:DAYLIGHT
BEGIN:STANDARD
TZOFFSETFROM:+0200
TZOFFSETTO:+0100
TZNAME:CET
DTSTART:20251026T010000
END:STANDARD
BEGIN:DAYLIGHT
TZOFFSETFROM:+0100
TZOFFSETTO:+0200
TZNAME:CEST
DTSTART:20260329T010000
END:DAYLIGHT
BEGIN:STANDARD
TZOFFSETFROM:+0200
TZOFFSETTO:+0100
TZNAME:CET
DTSTART:20261025T010000
END:STANDARD
END:VTIMEZONE
BEGIN:VEVENT
DTSTART;TZID=Europe/Vienna:20250401T150500
DTEND;TZID=Europe/Vienna:20250401T163500
DTSTAMP:20260419T162736
CREATED:20250224T180500Z
LAST-MODIFIED:20250224T180500Z
UID:11106-1743519900-1743525300@www.rosinka.at
SUMMARY:СТАРШЕКЛАССНИКИ (12-13)
DESCRIPTION:
URL:https://www.rosinka.at/event/%d1%81%d1%82%d0%b0%d1%80%d1%88%d0%b5%d0%ba%d0%bb%d0%b0%d1%81%d1%81%d0%bd%d0%b8%d0%ba%d0%b8-12-13/2025-04-01/
END:VEVENT
BEGIN:VEVENT
DTSTART;TZID=Europe/Vienna:20250401T161500
DTEND;TZID=Europe/Vienna:20250401T171500
DTSTAMP:20260419T162736
CREATED:20250303T072859Z
LAST-MODIFIED:20250312T121737Z
UID:11139-1743524100-1743527700@www.rosinka.at
SUMMARY:ПЧЁЛКИ (1\,5-3)
DESCRIPTION:
URL:https://www.rosinka.at/event/%d0%bc%d0%b0%d0%bb%d1%8b%d1%88%d0%b8-15-3-4/2025-04-01/
END:VEVENT
BEGIN:VEVENT
DTSTART;TZID=Europe/Vienna:20250401T164500
DTEND;TZID=Europe/Vienna:20250401T181500
DTSTAMP:20260419T162736
CREATED:20250223T145828Z
LAST-MODIFIED:20250223T145828Z
UID:10890-1743525900-1743531300@www.rosinka.at
SUMMARY:ЯКОРЕК (10-11)
DESCRIPTION:
URL:https://www.rosinka.at/event/%d1%8f%d0%ba%d0%be%d1%80%d0%b5%d0%ba-10-11-2/2025-04-01/
END:VEVENT
BEGIN:VEVENT
DTSTART;TZID=Europe/Vienna:20250401T173000
DTEND;TZID=Europe/Vienna:20250401T183000
DTSTAMP:20260419T162736
CREATED:20250310T083557Z
LAST-MODIFIED:20250310T083557Z
UID:11177-1743528600-1743532200@www.rosinka.at
SUMMARY:ЖИВОПИСЬ (4-6)
DESCRIPTION:
URL:https://www.rosinka.at/event/%d0%b6%d0%b8%d0%b2%d0%be%d0%bf%d0%b8%d1%81%d1%8c-4-6-33/2025-04-01/
END:VEVENT
END:VCALENDAR