BEGIN:VCALENDAR
VERSION:2.0
PRODID:-//Rosinka - ECPv6.15.20//NONSGML v1.0//EN
CALSCALE:GREGORIAN
METHOD:PUBLISH
X-ORIGINAL-URL:https://www.rosinka.at
X-WR-CALDESC:Мероприятия для Rosinka
REFRESH-INTERVAL;VALUE=DURATION:PT1H
X-Robots-Tag:noindex
X-PUBLISHED-TTL:PT1H
BEGIN:VTIMEZONE
TZID:Europe/Vienna
BEGIN:DAYLIGHT
TZOFFSETFROM:+0100
TZOFFSETTO:+0200
TZNAME:CEST
DTSTART:20240331T010000
END:DAYLIGHT
BEGIN:STANDARD
TZOFFSETFROM:+0200
TZOFFSETTO:+0100
TZNAME:CET
DTSTART:20241027T010000
END:STANDARD
BEGIN:DAYLIGHT
TZOFFSETFROM:+0100
TZOFFSETTO:+0200
TZNAME:CEST
DTSTART:20250330T010000
END:DAYLIGHT
BEGIN:STANDARD
TZOFFSETFROM:+0200
TZOFFSETTO:+0100
TZNAME:CET
DTSTART:20251026T010000
END:STANDARD
BEGIN:DAYLIGHT
TZOFFSETFROM:+0100
TZOFFSETTO:+0200
TZNAME:CEST
DTSTART:20260329T010000
END:DAYLIGHT
BEGIN:STANDARD
TZOFFSETFROM:+0200
TZOFFSETTO:+0100
TZNAME:CET
DTSTART:20261025T010000
END:STANDARD
END:VTIMEZONE
BEGIN:VEVENT
DTSTART;TZID=Europe/Vienna:20251217T150000
DTEND;TZID=Europe/Vienna:20251217T163000
DTSTAMP:20260419T220815
CREATED:20250912T072939Z
LAST-MODIFIED:20250912T072939Z
UID:11396-1765983600-1765989000@www.rosinka.at
SUMMARY:ЗНАЙЧИКИ (9-10)
DESCRIPTION:
URL:https://www.rosinka.at/event/%d0%b7%d0%bd%d0%b0%d0%b9%d1%87%d0%b8%d0%ba%d0%b8-9-10/2025-12-17/
END:VEVENT
BEGIN:VEVENT
DTSTART;TZID=Europe/Vienna:20251217T161500
DTEND;TZID=Europe/Vienna:20251217T174500
DTSTAMP:20260419T220815
CREATED:20250914T103540Z
LAST-MODIFIED:20250914T103540Z
UID:11538-1765988100-1765993500@www.rosinka.at
SUMMARY:ФАНТАЗЕРЫ (5-6)
DESCRIPTION:
URL:https://www.rosinka.at/event/%d1%84%d0%b0%d0%bd%d1%82%d0%b0%d0%b7%d0%b5%d1%80%d1%8b-5-6/2025-12-17/
END:VEVENT
BEGIN:VEVENT
DTSTART;TZID=Europe/Vienna:20251217T164500
DTEND;TZID=Europe/Vienna:20251217T181500
DTSTAMP:20260419T220815
CREATED:20250914T103353Z
LAST-MODIFIED:20250914T103353Z
UID:11415-1765989900-1765995300@www.rosinka.at
SUMMARY:БУКВОЕЖКИ (10-11)
DESCRIPTION:
URL:https://www.rosinka.at/event/%d0%b1%d1%83%d0%ba%d0%b2%d0%be%d0%b5%d0%b6%d0%ba%d0%b8-10-11/2025-12-17/
END:VEVENT
END:VCALENDAR