BEGIN:VCALENDAR
VERSION:2.0
PRODID:-//Rosinka - ECPv6.15.20//NONSGML v1.0//EN
CALSCALE:GREGORIAN
METHOD:PUBLISH
X-ORIGINAL-URL:https://www.rosinka.at
X-WR-CALDESC:Мероприятия для Rosinka
REFRESH-INTERVAL;VALUE=DURATION:PT1H
X-Robots-Tag:noindex
X-PUBLISHED-TTL:PT1H
BEGIN:VTIMEZONE
TZID:Europe/Vienna
BEGIN:DAYLIGHT
TZOFFSETFROM:+0100
TZOFFSETTO:+0200
TZNAME:CEST
DTSTART:20170326T010000
END:DAYLIGHT
BEGIN:STANDARD
TZOFFSETFROM:+0200
TZOFFSETTO:+0100
TZNAME:CET
DTSTART:20171029T010000
END:STANDARD
BEGIN:DAYLIGHT
TZOFFSETFROM:+0100
TZOFFSETTO:+0200
TZNAME:CEST
DTSTART:20180325T010000
END:DAYLIGHT
BEGIN:STANDARD
TZOFFSETFROM:+0200
TZOFFSETTO:+0100
TZNAME:CET
DTSTART:20181028T010000
END:STANDARD
BEGIN:DAYLIGHT
TZOFFSETFROM:+0100
TZOFFSETTO:+0200
TZNAME:CEST
DTSTART:20190331T010000
END:DAYLIGHT
BEGIN:STANDARD
TZOFFSETFROM:+0200
TZOFFSETTO:+0100
TZNAME:CET
DTSTART:20191027T010000
END:STANDARD
END:VTIMEZONE
BEGIN:VEVENT
DTSTART;TZID=Europe/Vienna:20180605T163000
DTEND;TZID=Europe/Vienna:20180605T181500
DTSTAMP:20260420T092432
CREATED:20180206T100013Z
LAST-MODIFIED:20180206T100013Z
UID:1674-1528216200-1528222500@www.rosinka.at
SUMMARY:Золотой Ключк
DESCRIPTION:
URL:https://www.rosinka.at/event/%d0%b7%d0%be%d0%bb%d0%be%d1%82%d0%be%d0%b9-%d0%ba%d0%bb%d1%8e%d1%87%d0%b8%d0%ba-29/
END:VEVENT
BEGIN:VEVENT
DTSTART;TZID=Europe/Vienna:20180606T163000
DTEND;TZID=Europe/Vienna:20180606T174500
DTSTAMP:20260420T092432
CREATED:20180206T100045Z
LAST-MODIFIED:20180206T100045Z
UID:1676-1528302600-1528307100@www.rosinka.at
SUMMARY:Якорек
DESCRIPTION:
URL:https://www.rosinka.at/event/%d1%8f%d0%ba%d0%be%d1%80%d0%b5%d0%ba-15/
END:VEVENT
BEGIN:VEVENT
DTSTART;TZID=Europe/Vienna:20180607T163000
DTEND;TZID=Europe/Vienna:20180607T181500
DTSTAMP:20260420T092432
CREATED:20180206T100129Z
LAST-MODIFIED:20180206T100129Z
UID:1678-1528389000-1528395300@www.rosinka.at
SUMMARY:Звездочеты
DESCRIPTION:
URL:https://www.rosinka.at/event/%d0%b7%d0%b2%d0%b5%d0%b7%d0%b4%d0%be%d1%87%d0%b5%d1%82%d1%8b-28/
END:VEVENT
BEGIN:VEVENT
DTSTART;TZID=Europe/Vienna:20180608T161500
DTEND;TZID=Europe/Vienna:20180608T171500
DTSTAMP:20260420T092432
CREATED:20180416T071040Z
LAST-MODIFIED:20180416T071040Z
UID:1769-1528474500-1528478100@www.rosinka.at
SUMMARY:Колокольчик
DESCRIPTION:
URL:https://www.rosinka.at/event/%d0%ba%d0%be%d0%bb%d0%be%d0%ba%d0%be%d0%bb%d1%8c%d1%87%d0%b8%d0%ba-8/
END:VEVENT
BEGIN:VEVENT
DTSTART;TZID=Europe/Vienna:20180608T171500
DTEND;TZID=Europe/Vienna:20180608T183000
DTSTAMP:20260420T092432
CREATED:20180206T100153Z
LAST-MODIFIED:20180416T071819Z
UID:1680-1528478100-1528482600@www.rosinka.at
SUMMARY:Радуга
DESCRIPTION:
URL:https://www.rosinka.at/event/%d1%80%d0%b0%d0%b4%d1%83%d0%b3%d0%b0-27/
END:VEVENT
BEGIN:VEVENT
DTSTART;TZID=Europe/Vienna:20180612T163000
DTEND;TZID=Europe/Vienna:20180612T181500
DTSTAMP:20260420T092432
CREATED:20180206T100220Z
LAST-MODIFIED:20180206T100220Z
UID:1682-1528821000-1528827300@www.rosinka.at
SUMMARY:Золотой Ключик
DESCRIPTION:
URL:https://www.rosinka.at/event/%d0%b7%d0%be%d0%bb%d0%be%d1%82%d0%be%d0%b9-%d0%ba%d0%bb%d1%8e%d1%87%d0%b8%d0%ba-30/
END:VEVENT
BEGIN:VEVENT
DTSTART;TZID=Europe/Vienna:20180613T163000
DTEND;TZID=Europe/Vienna:20180613T174500
DTSTAMP:20260420T092432
CREATED:20180206T100250Z
LAST-MODIFIED:20180206T100250Z
UID:1684-1528907400-1528911900@www.rosinka.at
SUMMARY:Якорек
DESCRIPTION:
URL:https://www.rosinka.at/event/%d1%8f%d0%ba%d0%be%d1%80%d0%b5%d0%ba-16/
END:VEVENT
BEGIN:VEVENT
DTSTART;TZID=Europe/Vienna:20180614T163000
DTEND;TZID=Europe/Vienna:20180614T181500
DTSTAMP:20260420T092432
CREATED:20180206T100315Z
LAST-MODIFIED:20180206T100315Z
UID:1686-1528993800-1529000100@www.rosinka.at
SUMMARY:Звездочеты
DESCRIPTION:
URL:https://www.rosinka.at/event/%d0%b7%d0%b2%d0%b5%d0%b7%d0%b4%d0%be%d1%87%d0%b5%d1%82%d1%8b-29/
END:VEVENT
BEGIN:VEVENT
DTSTART;TZID=Europe/Vienna:20180615T161500
DTEND;TZID=Europe/Vienna:20180615T171500
DTSTAMP:20260420T092432
CREATED:20180416T071129Z
LAST-MODIFIED:20180416T071129Z
UID:1771-1529079300-1529082900@www.rosinka.at
SUMMARY:Клокольчик
DESCRIPTION:
URL:https://www.rosinka.at/event/%d0%ba%d0%be%d0%bb%d0%be%d0%ba%d0%be%d0%bb%d1%8c%d1%87%d0%b8%d0%ba-9/
END:VEVENT
BEGIN:VEVENT
DTSTART;TZID=Europe/Vienna:20180615T171500
DTEND;TZID=Europe/Vienna:20180615T183000
DTSTAMP:20260420T092432
CREATED:20180206T100347Z
LAST-MODIFIED:20180416T071850Z
UID:1688-1529082900-1529087400@www.rosinka.at
SUMMARY:Радуга
DESCRIPTION:
URL:https://www.rosinka.at/event/%d1%80%d0%b0%d0%b4%d1%83%d0%b3%d0%b0-28/
END:VEVENT
BEGIN:VEVENT
DTSTART;TZID=Europe/Vienna:20180619T163000
DTEND;TZID=Europe/Vienna:20180619T181500
DTSTAMP:20260420T092432
CREATED:20180206T100419Z
LAST-MODIFIED:20180206T100419Z
UID:1690-1529425800-1529432100@www.rosinka.at
SUMMARY:Золотой Ключик
DESCRIPTION:
URL:https://www.rosinka.at/event/%d0%b7%d0%be%d0%bb%d0%be%d1%82%d0%be%d0%b9-%d0%ba%d0%bb%d1%8e%d1%87%d0%b8%d0%ba-31/
END:VEVENT
BEGIN:VEVENT
DTSTART;TZID=Europe/Vienna:20180620T163000
DTEND;TZID=Europe/Vienna:20180620T174500
DTSTAMP:20260420T092432
CREATED:20180206T100450Z
LAST-MODIFIED:20180206T100450Z
UID:1692-1529512200-1529516700@www.rosinka.at
SUMMARY:Якорек
DESCRIPTION:
URL:https://www.rosinka.at/event/%d1%8f%d0%ba%d0%be%d1%80%d0%b5%d0%ba-17/
END:VEVENT
BEGIN:VEVENT
DTSTART;TZID=Europe/Vienna:20180621T163000
DTEND;TZID=Europe/Vienna:20180621T181500
DTSTAMP:20260420T092432
CREATED:20180206T100514Z
LAST-MODIFIED:20180206T100514Z
UID:1694-1529598600-1529604900@www.rosinka.at
SUMMARY:Звездочеты
DESCRIPTION:
URL:https://www.rosinka.at/event/%d0%b7%d0%b2%d0%b5%d0%b7%d0%b4%d0%be%d1%87%d0%b5%d1%82%d1%8b-30/
END:VEVENT
BEGIN:VEVENT
DTSTART;TZID=Europe/Vienna:20180622T161500
DTEND;TZID=Europe/Vienna:20180622T171500
DTSTAMP:20260420T092432
CREATED:20180416T071209Z
LAST-MODIFIED:20180416T071209Z
UID:1773-1529684100-1529687700@www.rosinka.at
SUMMARY:Колокольчик
DESCRIPTION:
URL:https://www.rosinka.at/event/%d0%ba%d0%be%d0%bb%d0%be%d0%ba%d0%be%d0%bb%d1%8c%d1%87%d0%b8%d0%ba-10/
END:VEVENT
BEGIN:VEVENT
DTSTART;TZID=Europe/Vienna:20180622T171500
DTEND;TZID=Europe/Vienna:20180622T183000
DTSTAMP:20260420T092432
CREATED:20180206T100543Z
LAST-MODIFIED:20180416T071928Z
UID:1696-1529687700-1529692200@www.rosinka.at
SUMMARY:Радуга
DESCRIPTION:
URL:https://www.rosinka.at/event/%d1%80%d0%b0%d0%b4%d1%83%d0%b3%d0%b0-29/
END:VEVENT
BEGIN:VEVENT
DTSTART;TZID=Europe/Vienna:20180626T163000
DTEND;TZID=Europe/Vienna:20180626T181500
DTSTAMP:20260420T092432
CREATED:20180206T100629Z
LAST-MODIFIED:20180206T100629Z
UID:1698-1530030600-1530036900@www.rosinka.at
SUMMARY:Золотой Ключик
DESCRIPTION:
URL:https://www.rosinka.at/event/%d0%b7%d0%be%d0%bb%d0%be%d1%82%d0%be%d0%b9-%d0%ba%d0%bb%d1%8e%d1%87%d0%b8%d0%ba-32/
END:VEVENT
BEGIN:VEVENT
DTSTART;TZID=Europe/Vienna:20180627T163000
DTEND;TZID=Europe/Vienna:20180627T174500
DTSTAMP:20260420T092432
CREATED:20180206T100700Z
LAST-MODIFIED:20180206T100700Z
UID:1700-1530117000-1530121500@www.rosinka.at
SUMMARY:Якорек
DESCRIPTION:
URL:https://www.rosinka.at/event/%d1%8f%d0%ba%d0%be%d1%80%d0%b5%d0%ba-18/
END:VEVENT
BEGIN:VEVENT
DTSTART;TZID=Europe/Vienna:20180628T163000
DTEND;TZID=Europe/Vienna:20180628T181500
DTSTAMP:20260420T092432
CREATED:20180206T100725Z
LAST-MODIFIED:20180206T100725Z
UID:1702-1530203400-1530209700@www.rosinka.at
SUMMARY:Звездочеты
DESCRIPTION:
URL:https://www.rosinka.at/event/%d0%b7%d0%b2%d0%b5%d0%b7%d0%b4%d0%be%d1%87%d0%b5%d1%82%d1%8b-31/
END:VEVENT
BEGIN:VEVENT
DTSTART;TZID=Europe/Vienna:20180629T171500
DTEND;TZID=Europe/Vienna:20180629T183000
DTSTAMP:20260420T092432
CREATED:20180206T100751Z
LAST-MODIFIED:20180416T072009Z
UID:1704-1530292500-1530297000@www.rosinka.at
SUMMARY:Радуга
DESCRIPTION:
URL:https://www.rosinka.at/event/%d1%80%d0%b0%d0%b4%d1%83%d0%b3%d0%b0-30/
END:VEVENT
BEGIN:VEVENT
DTSTART;VALUE=DATE:20180630
DTEND;VALUE=DATE:20180917
DTSTAMP:20260420T092432
CREATED:20180702T064915Z
LAST-MODIFIED:20180702T064915Z
UID:1789-1530316800-1537142399@www.rosinka.at
SUMMARY:ЛЕТНИЕ КАНИКУЛЫ ?☀️?
DESCRIPTION:
URL:https://www.rosinka.at/event/%d0%bb%d0%b5%d1%82%d0%bd%d0%b8%d0%b5-%d0%ba%d0%b0%d0%bd%d0%b8%d0%ba%d1%83%d0%bb%d1%8b-%f0%9f%98%83%e2%98%80%ef%b8%8f%f0%9f%8e%89/
END:VEVENT
BEGIN:VEVENT
DTSTART;TZID=Europe/Vienna:20180918T163000
DTEND;TZID=Europe/Vienna:20180918T181500
DTSTAMP:20260420T092432
CREATED:20180907T083208Z
LAST-MODIFIED:20180907T083208Z
UID:1878-1537288200-1537294500@www.rosinka.at
SUMMARY:ЗОЛОТОЙ КЛЮЧИК
DESCRIPTION:
URL:https://www.rosinka.at/event/%d0%b7%d0%be%d0%bb%d0%be%d1%82%d0%be%d0%b9-%d0%ba%d0%bb%d1%8e%d1%87%d0%b8%d0%ba-33/
END:VEVENT
BEGIN:VEVENT
DTSTART;TZID=Europe/Vienna:20180919T163000
DTEND;TZID=Europe/Vienna:20180919T174500
DTSTAMP:20260420T092432
CREATED:20180907T090620Z
LAST-MODIFIED:20180907T090620Z
UID:1921-1537374600-1537379100@www.rosinka.at
SUMMARY:ЯКОРЕК
DESCRIPTION:
URL:https://www.rosinka.at/event/%d1%8f%d0%ba%d0%be%d1%80%d0%b5%d0%ba-19/
END:VEVENT
BEGIN:VEVENT
DTSTART;TZID=Europe/Vienna:20180920T163000
DTEND;TZID=Europe/Vienna:20180920T181500
DTSTAMP:20260420T092432
CREATED:20180907T090544Z
LAST-MODIFIED:20180907T090544Z
UID:1919-1537461000-1537467300@www.rosinka.at
SUMMARY:ЗВЕЗДОЧЕТЫ
DESCRIPTION:
URL:https://www.rosinka.at/event/%d0%b7%d0%b2%d0%b5%d0%b7%d0%b4%d0%be%d1%87%d0%b5%d1%82%d1%8b-32/
END:VEVENT
BEGIN:VEVENT
DTSTART;TZID=Europe/Vienna:20180921T161500
DTEND;TZID=Europe/Vienna:20180921T171500
DTSTAMP:20260420T092432
CREATED:20180907T093045Z
LAST-MODIFIED:20180907T093045Z
UID:1959-1537546500-1537550100@www.rosinka.at
SUMMARY:КОЛОКОЛЬЧИК
DESCRIPTION:
URL:https://www.rosinka.at/event/%d0%ba%d0%be%d0%bb%d0%be%d0%ba%d0%be%d0%bb%d1%8c%d1%87%d0%b8%d0%ba-11/
END:VEVENT
BEGIN:VEVENT
DTSTART;TZID=Europe/Vienna:20180921T171500
DTEND;TZID=Europe/Vienna:20180921T183000
DTSTAMP:20260420T092432
CREATED:20180907T153130Z
LAST-MODIFIED:20180907T153130Z
UID:1995-1537550100-1537554600@www.rosinka.at
SUMMARY:РАДУГА
DESCRIPTION:
URL:https://www.rosinka.at/event/%d1%80%d0%b0%d0%b4%d1%83%d0%b3%d0%b0-31/
END:VEVENT
BEGIN:VEVENT
DTSTART;TZID=Europe/Vienna:20180925T163000
DTEND;TZID=Europe/Vienna:20180925T181500
DTSTAMP:20260420T092432
CREATED:20180907T083239Z
LAST-MODIFIED:20180907T083239Z
UID:1880-1537893000-1537899300@www.rosinka.at
SUMMARY:ЗОЛОТОЙ КЛЮЧИК
DESCRIPTION:
URL:https://www.rosinka.at/event/%d0%b7%d0%be%d0%bb%d0%be%d1%82%d0%be%d0%b9-%d0%ba%d0%bb%d1%8e%d1%87%d0%b8%d0%ba-34/
END:VEVENT
BEGIN:VEVENT
DTSTART;TZID=Europe/Vienna:20180926T160000
DTEND;TZID=Europe/Vienna:20180926T171500
DTSTAMP:20260420T092432
CREATED:20180926T135956Z
LAST-MODIFIED:20180926T135956Z
UID:2041-1537977600-1537982100@www.rosinka.at
SUMMARY:ЯКОРЕК
DESCRIPTION:
URL:https://www.rosinka.at/event/%d1%8f%d0%ba%d0%be%d1%80%d0%b5%d0%ba-20/
END:VEVENT
BEGIN:VEVENT
DTSTART;TZID=Europe/Vienna:20180927T163000
DTEND;TZID=Europe/Vienna:20180927T181500
DTSTAMP:20260420T092432
CREATED:20180907T090719Z
LAST-MODIFIED:20180907T090719Z
UID:1923-1538065800-1538072100@www.rosinka.at
SUMMARY:ЗВЕЗДОЧЕТЫ
DESCRIPTION:
URL:https://www.rosinka.at/event/%d0%b7%d0%b2%d0%b5%d0%b7%d0%b4%d0%be%d1%87%d0%b5%d1%82%d1%8b-33/
END:VEVENT
BEGIN:VEVENT
DTSTART;TZID=Europe/Vienna:20180928T161500
DTEND;TZID=Europe/Vienna:20180928T171500
DTSTAMP:20260420T092432
CREATED:20180907T093116Z
LAST-MODIFIED:20180907T093116Z
UID:1961-1538151300-1538154900@www.rosinka.at
SUMMARY:КОЛОКОЛЬЧИК
DESCRIPTION:
URL:https://www.rosinka.at/event/%d0%ba%d0%be%d0%bb%d0%be%d0%ba%d0%be%d0%bb%d1%8c%d1%87%d0%b8%d0%ba-12/
END:VEVENT
BEGIN:VEVENT
DTSTART;TZID=Europe/Vienna:20180928T171500
DTEND;TZID=Europe/Vienna:20180928T183000
DTSTAMP:20260420T092432
CREATED:20180907T153155Z
LAST-MODIFIED:20180907T153155Z
UID:1997-1538154900-1538159400@www.rosinka.at
SUMMARY:РАДУГА
DESCRIPTION:
URL:https://www.rosinka.at/event/%d1%80%d0%b0%d0%b4%d1%83%d0%b3%d0%b0-32/
END:VEVENT
END:VCALENDAR