BEGIN:VCALENDAR
VERSION:2.0
PRODID:-//Rosinka - ECPv6.15.20//NONSGML v1.0//EN
CALSCALE:GREGORIAN
METHOD:PUBLISH
X-WR-CALNAME:Rosinka
X-ORIGINAL-URL:https://www.rosinka.at
X-WR-CALDESC:Мероприятия для Rosinka
REFRESH-INTERVAL;VALUE=DURATION:PT1H
X-Robots-Tag:noindex
X-PUBLISHED-TTL:PT1H
BEGIN:VTIMEZONE
TZID:Europe/Vienna
BEGIN:DAYLIGHT
TZOFFSETFROM:+0100
TZOFFSETTO:+0200
TZNAME:CEST
DTSTART:20160327T010000
END:DAYLIGHT
BEGIN:STANDARD
TZOFFSETFROM:+0200
TZOFFSETTO:+0100
TZNAME:CET
DTSTART:20161030T010000
END:STANDARD
BEGIN:DAYLIGHT
TZOFFSETFROM:+0100
TZOFFSETTO:+0200
TZNAME:CEST
DTSTART:20170326T010000
END:DAYLIGHT
BEGIN:STANDARD
TZOFFSETFROM:+0200
TZOFFSETTO:+0100
TZNAME:CET
DTSTART:20171029T010000
END:STANDARD
BEGIN:DAYLIGHT
TZOFFSETFROM:+0100
TZOFFSETTO:+0200
TZNAME:CEST
DTSTART:20180325T010000
END:DAYLIGHT
BEGIN:STANDARD
TZOFFSETFROM:+0200
TZOFFSETTO:+0100
TZNAME:CET
DTSTART:20181028T010000
END:STANDARD
BEGIN:DAYLIGHT
TZOFFSETFROM:+0100
TZOFFSETTO:+0200
TZNAME:CEST
DTSTART:20190331T010000
END:DAYLIGHT
BEGIN:STANDARD
TZOFFSETFROM:+0200
TZOFFSETTO:+0100
TZNAME:CET
DTSTART:20191027T010000
END:STANDARD
END:VTIMEZONE
BEGIN:VEVENT
DTSTART;TZID=Europe/Vienna:20180111T163000
DTEND;TZID=Europe/Vienna:20180111T181500
DTSTAMP:20260420T092536
CREATED:20171117T083555Z
LAST-MODIFIED:20171117T083555Z
UID:1517-1515688200-1515694500@www.rosinka.at
SUMMARY:Звездочеты
DESCRIPTION:
URL:https://www.rosinka.at/event/%d0%b7%d0%b2%d0%b5%d0%b7%d0%b4%d0%be%d1%87%d0%b5%d1%82%d1%8b-12/
END:VEVENT
BEGIN:VEVENT
DTSTART;TZID=Europe/Vienna:20180109T163000
DTEND;TZID=Europe/Vienna:20180109T181500
DTSTAMP:20260420T092536
CREATED:20171117T083446Z
LAST-MODIFIED:20171117T083446Z
UID:1515-1515515400-1515521700@www.rosinka.at
SUMMARY:Золотой Ключик
DESCRIPTION:
URL:https://www.rosinka.at/event/%d0%b7%d0%be%d0%bb%d0%be%d1%82%d0%be%d0%b9-%d0%ba%d0%bb%d1%8e%d1%87%d0%b8%d0%ba-13/
END:VEVENT
BEGIN:VEVENT
DTSTART;VALUE=DATE:20171223
DTEND;VALUE=DATE:20180106
DTSTAMP:20260420T092536
CREATED:20171030T142220Z
LAST-MODIFIED:20171117T084650Z
UID:1457-1513987200-1515196799@www.rosinka.at
SUMMARY:Рождественские Каникулы
DESCRIPTION:
URL:https://www.rosinka.at/event/%d1%80%d0%be%d0%b6%d0%b4%d0%b5%d1%81%d1%82%d0%b2%d0%b5%d0%bd%d1%81%d0%ba%d0%b8%d0%b5-%d0%ba%d0%b0%d0%bd%d0%b8%d0%ba%d1%83%d0%bb%d1%8b/
END:VEVENT
BEGIN:VEVENT
DTSTART;TZID=Europe/Vienna:20171222T170000
DTEND;TZID=Europe/Vienna:20171222T181500
DTSTAMP:20260420T092536
CREATED:20171030T142124Z
LAST-MODIFIED:20171030T142124Z
UID:1455-1513962000-1513966500@www.rosinka.at
SUMMARY:Радуга
DESCRIPTION:
URL:https://www.rosinka.at/event/%d1%80%d0%b0%d0%b4%d1%83%d0%b3%d0%b0-9/
END:VEVENT
BEGIN:VEVENT
DTSTART;TZID=Europe/Vienna:20171221T163000
DTEND;TZID=Europe/Vienna:20171221T181500
DTSTAMP:20260420T092536
CREATED:20171030T142043Z
LAST-MODIFIED:20171030T142043Z
UID:1453-1513873800-1513880100@www.rosinka.at
SUMMARY:Звездочеты
DESCRIPTION:
URL:https://www.rosinka.at/event/%d0%b7%d0%b2%d0%b5%d0%b7%d0%b4%d0%be%d1%87%d0%b5%d1%82%d1%8b-11/
END:VEVENT
BEGIN:VEVENT
DTSTART;TZID=Europe/Vienna:20171219T163000
DTEND;TZID=Europe/Vienna:20171219T181500
DTSTAMP:20260420T092536
CREATED:20171030T142013Z
LAST-MODIFIED:20171030T142013Z
UID:1451-1513701000-1513707300@www.rosinka.at
SUMMARY:Золотой Ключик
DESCRIPTION:
URL:https://www.rosinka.at/event/%d0%b7%d0%be%d0%bb%d0%be%d1%82%d0%be%d0%b9-%d0%ba%d0%bb%d1%8e%d1%87%d0%b8%d0%ba-12/
END:VEVENT
BEGIN:VEVENT
DTSTART;TZID=Europe/Vienna:20171215T170000
DTEND;TZID=Europe/Vienna:20171215T181500
DTSTAMP:20260420T092536
CREATED:20171030T141906Z
LAST-MODIFIED:20171030T141906Z
UID:1449-1513357200-1513361700@www.rosinka.at
SUMMARY:Радуга
DESCRIPTION:
URL:https://www.rosinka.at/event/%d1%80%d0%b0%d0%b4%d1%83%d0%b3%d0%b0-8/
END:VEVENT
BEGIN:VEVENT
DTSTART;TZID=Europe/Vienna:20171214T163000
DTEND;TZID=Europe/Vienna:20171214T181500
DTSTAMP:20260420T092536
CREATED:20171030T141839Z
LAST-MODIFIED:20171030T141839Z
UID:1447-1513269000-1513275300@www.rosinka.at
SUMMARY:Звездочеты
DESCRIPTION:
URL:https://www.rosinka.at/event/%d0%b7%d0%b2%d0%b5%d0%b7%d0%b4%d0%be%d1%87%d0%b5%d1%82%d1%8b-10/
END:VEVENT
BEGIN:VEVENT
DTSTART;TZID=Europe/Vienna:20171212T163000
DTEND;TZID=Europe/Vienna:20171212T181500
DTSTAMP:20260420T092536
CREATED:20171030T141804Z
LAST-MODIFIED:20171030T141804Z
UID:1445-1513096200-1513102500@www.rosinka.at
SUMMARY:Золотой Ключик
DESCRIPTION:
URL:https://www.rosinka.at/event/%d0%b7%d0%be%d0%bb%d0%be%d1%82%d0%be%d0%b9-%d0%ba%d0%bb%d1%8e%d1%87%d0%b8%d0%ba-11/
END:VEVENT
BEGIN:VEVENT
DTSTART;VALUE=DATE:20171208
DTEND;VALUE=DATE:20171209
DTSTAMP:20260420T092536
CREATED:20171030T141735Z
LAST-MODIFIED:20171030T141735Z
UID:1443-1512691200-1512777599@www.rosinka.at
SUMMARY:НЕУЧЕБНЫЙ ДЕНЬ
DESCRIPTION:
URL:https://www.rosinka.at/event/%d0%bd%d0%b5%d1%83%d1%87%d0%b5%d0%b1%d0%bd%d1%8b%d0%b9-%d0%b4%d0%b5%d0%bd%d1%8c-3/
END:VEVENT
BEGIN:VEVENT
DTSTART;TZID=Europe/Vienna:20171207T163000
DTEND;TZID=Europe/Vienna:20171207T181500
DTSTAMP:20260420T092536
CREATED:20171030T141655Z
LAST-MODIFIED:20171030T141655Z
UID:1441-1512664200-1512670500@www.rosinka.at
SUMMARY:Звездочеты
DESCRIPTION:
URL:https://www.rosinka.at/event/%d0%b7%d0%b2%d0%b5%d0%b7%d0%b4%d0%be%d1%87%d0%b5%d1%82%d1%8b-9/
END:VEVENT
BEGIN:VEVENT
DTSTART;TZID=Europe/Vienna:20171205T163000
DTEND;TZID=Europe/Vienna:20171205T181500
DTSTAMP:20260420T092536
CREATED:20171030T141628Z
LAST-MODIFIED:20171030T141628Z
UID:1439-1512491400-1512497700@www.rosinka.at
SUMMARY:Золотой Ключик
DESCRIPTION:
URL:https://www.rosinka.at/event/%d0%b7%d0%be%d0%bb%d0%be%d1%82%d0%be%d0%b9-%d0%ba%d0%bb%d1%8e%d1%87%d0%b8%d0%ba-10/
END:VEVENT
BEGIN:VEVENT
DTSTART;TZID=Europe/Vienna:20171201T170000
DTEND;TZID=Europe/Vienna:20171201T181500
DTSTAMP:20260420T092536
CREATED:20171013T195357Z
LAST-MODIFIED:20171016T090036Z
UID:1393-1512147600-1512152100@www.rosinka.at
SUMMARY:Радуга
DESCRIPTION:
URL:https://www.rosinka.at/event/%d1%80%d0%b0%d0%b4%d1%83%d0%b3%d0%b0-7/
END:VEVENT
BEGIN:VEVENT
DTSTART;TZID=Europe/Vienna:20171130T163000
DTEND;TZID=Europe/Vienna:20171130T181500
DTSTAMP:20260420T092536
CREATED:20171013T195257Z
LAST-MODIFIED:20171016T090128Z
UID:1391-1512059400-1512065700@www.rosinka.at
SUMMARY:Звездочеты
DESCRIPTION:
URL:https://www.rosinka.at/event/%d0%b7%d0%b2%d0%b5%d0%b7%d0%b4%d0%be%d1%87%d0%b5%d1%82%d1%8b-7/
END:VEVENT
BEGIN:VEVENT
DTSTART;TZID=Europe/Vienna:20171128T163000
DTEND;TZID=Europe/Vienna:20171128T181500
DTSTAMP:20260420T092536
CREATED:20171013T195224Z
LAST-MODIFIED:20171013T195224Z
UID:1389-1511886600-1511892900@www.rosinka.at
SUMMARY:Золотой ключик
DESCRIPTION:
URL:https://www.rosinka.at/event/%d0%b7%d0%be%d0%bb%d0%be%d1%82%d0%be%d0%b9-%d0%ba%d0%bb%d1%8e%d1%87%d0%b8%d0%ba-9/
END:VEVENT
BEGIN:VEVENT
DTSTART;TZID=Europe/Vienna:20171124T170000
DTEND;TZID=Europe/Vienna:20171124T181500
DTSTAMP:20260420T092536
CREATED:20171013T195151Z
LAST-MODIFIED:20171016T090201Z
UID:1387-1511542800-1511547300@www.rosinka.at
SUMMARY:Радуга
DESCRIPTION:
URL:https://www.rosinka.at/event/%d1%80%d0%b0%d0%b4%d1%83%d0%b3%d0%b0-6/
END:VEVENT
BEGIN:VEVENT
DTSTART;TZID=Europe/Vienna:20171123T163000
DTEND;TZID=Europe/Vienna:20171123T181500
DTSTAMP:20260420T092536
CREATED:20171013T195117Z
LAST-MODIFIED:20171016T090222Z
UID:1385-1511454600-1511460900@www.rosinka.at
SUMMARY:Звездочеты
DESCRIPTION:
URL:https://www.rosinka.at/event/%d0%b7%d0%b2%d0%b5%d0%b7%d0%b4%d0%be%d1%87%d0%b5%d1%82%d1%8b-6/
END:VEVENT
BEGIN:VEVENT
DTSTART;TZID=Europe/Vienna:20171121T163000
DTEND;TZID=Europe/Vienna:20171121T181500
DTSTAMP:20260420T092536
CREATED:20171013T195037Z
LAST-MODIFIED:20171013T195037Z
UID:1383-1511281800-1511288100@www.rosinka.at
SUMMARY:Золотой Ключик
DESCRIPTION:
URL:https://www.rosinka.at/event/%d0%b7%d0%be%d0%bb%d0%be%d1%82%d0%be%d0%b9-%d0%ba%d0%bb%d1%8e%d1%87%d0%b8%d0%ba-8/
END:VEVENT
BEGIN:VEVENT
DTSTART;TZID=Europe/Vienna:20171117T170000
DTEND;TZID=Europe/Vienna:20171117T181500
DTSTAMP:20260420T092536
CREATED:20171013T194944Z
LAST-MODIFIED:20171016T090331Z
UID:1381-1510938000-1510942500@www.rosinka.at
SUMMARY:Радуга
DESCRIPTION:
URL:https://www.rosinka.at/event/%d1%80%d0%b0%d0%b4%d1%83%d0%b3%d0%b0-5/
END:VEVENT
BEGIN:VEVENT
DTSTART;TZID=Europe/Vienna:20171116T163000
DTEND;TZID=Europe/Vienna:20171116T181500
DTSTAMP:20260420T092536
CREATED:20171013T194908Z
LAST-MODIFIED:20171016T090353Z
UID:1379-1510849800-1510856100@www.rosinka.at
SUMMARY:Звездочеты
DESCRIPTION:
URL:https://www.rosinka.at/event/%d0%b7%d0%b2%d0%b5%d0%b7%d0%b4%d0%be%d1%87%d0%b5%d1%82%d1%8b-5/
END:VEVENT
BEGIN:VEVENT
DTSTART;TZID=Europe/Vienna:20171114T163000
DTEND;TZID=Europe/Vienna:20171114T181500
DTSTAMP:20260420T092536
CREATED:20171013T194827Z
LAST-MODIFIED:20171013T194827Z
UID:1377-1510677000-1510683300@www.rosinka.at
SUMMARY:Золотой Ключик
DESCRIPTION:
URL:https://www.rosinka.at/event/%d0%b7%d0%be%d0%bb%d0%be%d1%82%d0%be%d0%b9-%d0%ba%d0%bb%d1%8e%d1%87%d0%b8%d0%ba-7/
END:VEVENT
BEGIN:VEVENT
DTSTART;TZID=Europe/Vienna:20171110T170000
DTEND;TZID=Europe/Vienna:20171110T181500
DTSTAMP:20260420T092536
CREATED:20171013T194725Z
LAST-MODIFIED:20171016T090417Z
UID:1375-1510333200-1510337700@www.rosinka.at
SUMMARY:Радуга
DESCRIPTION:
URL:https://www.rosinka.at/event/%d1%80%d0%b0%d0%b4%d1%83%d0%b3%d0%b0-4/
END:VEVENT
BEGIN:VEVENT
DTSTART;TZID=Europe/Vienna:20171109T163000
DTEND;TZID=Europe/Vienna:20171109T181500
DTSTAMP:20260420T092536
CREATED:20171013T194645Z
LAST-MODIFIED:20171016T090453Z
UID:1373-1510245000-1510251300@www.rosinka.at
SUMMARY:Звездочеты
DESCRIPTION:
URL:https://www.rosinka.at/event/%d0%b7%d0%b2%d0%b5%d0%b7%d0%b4%d0%be%d1%87%d0%b5%d1%82%d1%8b-4/
END:VEVENT
BEGIN:VEVENT
DTSTART;TZID=Europe/Vienna:20171107T163000
DTEND;TZID=Europe/Vienna:20171107T181500
DTSTAMP:20260420T092536
CREATED:20171013T194549Z
LAST-MODIFIED:20171013T194549Z
UID:1371-1510072200-1510078500@www.rosinka.at
SUMMARY:Золотой Ключик
DESCRIPTION:
URL:https://www.rosinka.at/event/%d0%b7%d0%be%d0%bb%d0%be%d1%82%d0%be%d0%b9-%d0%ba%d0%bb%d1%8e%d1%87%d0%b8%d0%ba-6/
END:VEVENT
BEGIN:VEVENT
DTSTART;VALUE=DATE:20171103
DTEND;VALUE=DATE:20171104
DTSTAMP:20260420T092536
CREATED:20171030T141449Z
LAST-MODIFIED:20171030T141449Z
UID:1437-1509667200-1509753599@www.rosinka.at
SUMMARY:НЕУЧЕБНЫЙ ДЕНЬ
DESCRIPTION:
URL:https://www.rosinka.at/event/%d0%bd%d0%b5%d1%83%d1%87%d0%b5%d0%b1%d0%bd%d1%8b%d0%b9-%d0%b4%d0%b5%d0%bd%d1%8c-2/
END:VEVENT
BEGIN:VEVENT
DTSTART;TZID=Europe/Vienna:20171102T163000
DTEND;TZID=Europe/Vienna:20171102T181500
DTSTAMP:20260420T092536
CREATED:20171030T141425Z
LAST-MODIFIED:20171030T141425Z
UID:1435-1509640200-1509646500@www.rosinka.at
SUMMARY:Звездочеты
DESCRIPTION:
URL:https://www.rosinka.at/event/%d0%b7%d0%b2%d0%b5%d0%b7%d0%b4%d0%be%d1%87%d0%b5%d1%82%d1%8b-8/
END:VEVENT
BEGIN:VEVENT
DTSTART;VALUE=DATE:20171101
DTEND;VALUE=DATE:20171102
DTSTAMP:20260420T092536
CREATED:20171013T194437Z
LAST-MODIFIED:20171030T141348Z
UID:1369-1509494400-1509580799@www.rosinka.at
SUMMARY:НЕУЧЕБНЫЙ ДЕНЬ
DESCRIPTION:
URL:https://www.rosinka.at/event/%d0%bd%d0%b5%d1%83%d1%87%d0%b5%d0%b1%d0%bd%d1%8b%d0%b9-%d0%b4%d0%b5%d0%bd%d1%8c/
END:VEVENT
BEGIN:VEVENT
DTSTART;TZID=Europe/Vienna:20171031T163000
DTEND;TZID=Europe/Vienna:20171031T181500
DTSTAMP:20260420T092536
CREATED:20171013T194129Z
LAST-MODIFIED:20171013T194129Z
UID:1364-1509467400-1509473700@www.rosinka.at
SUMMARY:Золотой Ключик
DESCRIPTION:
URL:https://www.rosinka.at/event/%d0%b7%d0%be%d0%bb%d0%be%d1%82%d0%be%d0%b9-%d0%ba%d0%bb%d1%8e%d1%87%d0%b8%d0%ba-5/
END:VEVENT
BEGIN:VEVENT
DTSTART;TZID=Europe/Vienna:20171027T170000
DTEND;TZID=Europe/Vienna:20171027T181500
DTSTAMP:20260420T092536
CREATED:20171013T192910Z
LAST-MODIFIED:20171023T113244Z
UID:1341-1509123600-1509128100@www.rosinka.at
SUMMARY:Радуга
DESCRIPTION:
URL:https://www.rosinka.at/event/%d0%bd%d0%b5%d1%80%d0%b0%d0%b1%d0%be%d1%87%d0%b8%d0%b9-%d0%b4%d0%b5%d0%bd%d1%8c-2/
END:VEVENT
BEGIN:VEVENT
DTSTART;VALUE=DATE:20171026
DTEND;VALUE=DATE:20171027
DTSTAMP:20260420T092536
CREATED:20171013T192810Z
LAST-MODIFIED:20171013T194359Z
UID:1339-1508976000-1509062399@www.rosinka.at
SUMMARY:НЕУЧЕБНЫЙ ДЕНЬ
DESCRIPTION:
URL:https://www.rosinka.at/event/%d0%bd%d0%b5%d1%80%d0%b0%d0%b1%d0%be%d1%87%d0%b8%d0%b9-%d0%b4%d0%b5%d0%bd%d1%8c/
END:VEVENT
END:VCALENDAR