BEGIN:VCALENDAR
VERSION:2.0
PRODID:-//Rosinka - ECPv6.15.20//NONSGML v1.0//EN
CALSCALE:GREGORIAN
METHOD:PUBLISH
X-ORIGINAL-URL:https://www.rosinka.at
X-WR-CALDESC:Мероприятия для Rosinka
REFRESH-INTERVAL;VALUE=DURATION:PT1H
X-Robots-Tag:noindex
X-PUBLISHED-TTL:PT1H
BEGIN:VTIMEZONE
TZID:Europe/Vienna
BEGIN:DAYLIGHT
TZOFFSETFROM:+0100
TZOFFSETTO:+0200
TZNAME:CEST
DTSTART:20170326T010000
END:DAYLIGHT
BEGIN:STANDARD
TZOFFSETFROM:+0200
TZOFFSETTO:+0100
TZNAME:CET
DTSTART:20171029T010000
END:STANDARD
BEGIN:DAYLIGHT
TZOFFSETFROM:+0100
TZOFFSETTO:+0200
TZNAME:CEST
DTSTART:20180325T010000
END:DAYLIGHT
BEGIN:STANDARD
TZOFFSETFROM:+0200
TZOFFSETTO:+0100
TZNAME:CET
DTSTART:20181028T010000
END:STANDARD
BEGIN:DAYLIGHT
TZOFFSETFROM:+0100
TZOFFSETTO:+0200
TZNAME:CEST
DTSTART:20190331T010000
END:DAYLIGHT
BEGIN:STANDARD
TZOFFSETFROM:+0200
TZOFFSETTO:+0100
TZNAME:CET
DTSTART:20191027T010000
END:STANDARD
END:VTIMEZONE
BEGIN:VEVENT
DTSTART;TZID=Europe/Vienna:20180412T163000
DTEND;TZID=Europe/Vienna:20180412T181500
DTSTAMP:20260420T005654
CREATED:20180206T094348Z
LAST-MODIFIED:20180206T094348Z
UID:1618-1523550600-1523556900@www.rosinka.at
SUMMARY:Звездочеты
DESCRIPTION:
URL:https://www.rosinka.at/event/%d0%b7%d0%b2%d0%b5%d0%b7%d0%b4%d0%be%d1%87%d0%b5%d1%82%d1%8b-22/
END:VEVENT
BEGIN:VEVENT
DTSTART;TZID=Europe/Vienna:20180411T163000
DTEND;TZID=Europe/Vienna:20180411T174500
DTSTAMP:20260420T005654
CREATED:20180206T094324Z
LAST-MODIFIED:20180206T094324Z
UID:1616-1523464200-1523468700@www.rosinka.at
SUMMARY:Якорек
DESCRIPTION:
URL:https://www.rosinka.at/event/%d1%8f%d0%ba%d0%be%d1%80%d0%b5%d0%ba-7/
END:VEVENT
BEGIN:VEVENT
DTSTART;TZID=Europe/Vienna:20180410T163000
DTEND;TZID=Europe/Vienna:20180410T181500
DTSTAMP:20260420T005654
CREATED:20180206T094259Z
LAST-MODIFIED:20180206T094259Z
UID:1614-1523377800-1523384100@www.rosinka.at
SUMMARY:Золотой Ключик
DESCRIPTION:
URL:https://www.rosinka.at/event/%d0%b7%d0%be%d0%bb%d0%be%d1%82%d0%be%d0%b9-%d0%ba%d0%bb%d1%8e%d1%87%d0%b8%d0%ba-23/
END:VEVENT
BEGIN:VEVENT
DTSTART;TZID=Europe/Vienna:20180406T171500
DTEND;TZID=Europe/Vienna:20180406T183000
DTSTAMP:20260420T005654
CREATED:20180206T094229Z
LAST-MODIFIED:20180416T071330Z
UID:1612-1523034900-1523039400@www.rosinka.at
SUMMARY:Радуга
DESCRIPTION:
URL:https://www.rosinka.at/event/%d1%80%d0%b0%d0%b4%d1%83%d0%b3%d0%b0-20/
END:VEVENT
BEGIN:VEVENT
DTSTART;TZID=Europe/Vienna:20180406T161500
DTEND;TZID=Europe/Vienna:20180406T171500
DTSTAMP:20260420T005654
CREATED:20180416T065425Z
LAST-MODIFIED:20180416T065425Z
UID:1752-1523031300-1523034900@www.rosinka.at
SUMMARY:Колокольчик
DESCRIPTION:
URL:https://www.rosinka.at/event/%d0%ba%d0%be%d0%bb%d0%be%d0%ba%d0%be%d0%bb%d1%8c%d1%87%d0%b8%d0%ba/
END:VEVENT
BEGIN:VEVENT
DTSTART;TZID=Europe/Vienna:20180405T163000
DTEND;TZID=Europe/Vienna:20180405T181500
DTSTAMP:20260420T005654
CREATED:20180206T094202Z
LAST-MODIFIED:20180206T094202Z
UID:1610-1522945800-1522952100@www.rosinka.at
SUMMARY:Звездочеты
DESCRIPTION:
URL:https://www.rosinka.at/event/%d0%b7%d0%b2%d0%b5%d0%b7%d0%b4%d0%be%d1%87%d0%b5%d1%82%d1%8b-21/
END:VEVENT
BEGIN:VEVENT
DTSTART;TZID=Europe/Vienna:20180404T163000
DTEND;TZID=Europe/Vienna:20180404T174500
DTSTAMP:20260420T005654
CREATED:20180206T094132Z
LAST-MODIFIED:20180206T094132Z
UID:1608-1522859400-1522863900@www.rosinka.at
SUMMARY:Якорек
DESCRIPTION:
URL:https://www.rosinka.at/event/%d1%8f%d0%ba%d0%be%d1%80%d0%b5%d0%ba-6/
END:VEVENT
BEGIN:VEVENT
DTSTART;VALUE=DATE:20180324
DTEND;VALUE=DATE:20180404
DTSTAMP:20260420T005654
CREATED:20180206T094017Z
LAST-MODIFIED:20180206T094107Z
UID:1606-1521849600-1522799999@www.rosinka.at
SUMMARY:Пасхальные Каникулы
DESCRIPTION:
URL:https://www.rosinka.at/event/%d0%bf%d0%b0%d1%81%d1%85%d0%b0%d0%bb%d1%8c%d0%bd%d1%8b%d0%b5-%d0%ba%d0%b0%d0%bd%d0%b8%d0%ba%d1%83%d0%bb%d1%8b/
END:VEVENT
BEGIN:VEVENT
DTSTART;TZID=Europe/Vienna:20180323T170000
DTEND;TZID=Europe/Vienna:20180323T181500
DTSTAMP:20260420T005654
CREATED:20180206T093817Z
LAST-MODIFIED:20180206T093817Z
UID:1604-1521824400-1521828900@www.rosinka.at
SUMMARY:Радуга
DESCRIPTION:
URL:https://www.rosinka.at/event/%d1%80%d0%b0%d0%b4%d1%83%d0%b3%d0%b0-19/
END:VEVENT
BEGIN:VEVENT
DTSTART;TZID=Europe/Vienna:20180322T163000
DTEND;TZID=Europe/Vienna:20180322T181500
DTSTAMP:20260420T005654
CREATED:20180206T093745Z
LAST-MODIFIED:20180206T093745Z
UID:1602-1521736200-1521742500@www.rosinka.at
SUMMARY:Звездочеты
DESCRIPTION:
URL:https://www.rosinka.at/event/%d0%b7%d0%b2%d0%b5%d0%b7%d0%b4%d0%be%d1%87%d0%b5%d1%82%d1%8b-20/
END:VEVENT
BEGIN:VEVENT
DTSTART;TZID=Europe/Vienna:20180321T163000
DTEND;TZID=Europe/Vienna:20180321T174500
DTSTAMP:20260420T005654
CREATED:20180206T093700Z
LAST-MODIFIED:20180206T093700Z
UID:1600-1521649800-1521654300@www.rosinka.at
SUMMARY:Якорек
DESCRIPTION:
URL:https://www.rosinka.at/event/%d1%8f%d0%ba%d0%be%d1%80%d0%b5%d0%ba-5/
END:VEVENT
BEGIN:VEVENT
DTSTART;TZID=Europe/Vienna:20180320T163000
DTEND;TZID=Europe/Vienna:20180320T181500
DTSTAMP:20260420T005654
CREATED:20180206T093634Z
LAST-MODIFIED:20180206T093634Z
UID:1598-1521563400-1521569700@www.rosinka.at
SUMMARY:Золотой Ключик
DESCRIPTION:
URL:https://www.rosinka.at/event/%d0%b7%d0%be%d0%bb%d0%be%d1%82%d0%be%d0%b9-%d0%ba%d0%bb%d1%8e%d1%87%d0%b8%d0%ba-22/
END:VEVENT
BEGIN:VEVENT
DTSTART;TZID=Europe/Vienna:20180316T170000
DTEND;TZID=Europe/Vienna:20180316T181500
DTSTAMP:20260420T005654
CREATED:20180206T093558Z
LAST-MODIFIED:20180206T093558Z
UID:1596-1521219600-1521224100@www.rosinka.at
SUMMARY:Радуга
DESCRIPTION:
URL:https://www.rosinka.at/event/%d1%80%d0%b0%d0%b4%d1%83%d0%b3%d0%b0-18/
END:VEVENT
BEGIN:VEVENT
DTSTART;TZID=Europe/Vienna:20180315T163000
DTEND;TZID=Europe/Vienna:20180315T181500
DTSTAMP:20260420T005654
CREATED:20180206T093535Z
LAST-MODIFIED:20180206T093535Z
UID:1594-1521131400-1521137700@www.rosinka.at
SUMMARY:Звездочеты
DESCRIPTION:
URL:https://www.rosinka.at/event/%d0%b7%d0%b2%d0%b5%d0%b7%d0%b4%d0%be%d1%87%d0%b5%d1%82%d1%8b-19/
END:VEVENT
BEGIN:VEVENT
DTSTART;TZID=Europe/Vienna:20180314T163000
DTEND;TZID=Europe/Vienna:20180314T174500
DTSTAMP:20260420T005654
CREATED:20180206T093507Z
LAST-MODIFIED:20180206T093507Z
UID:1592-1521045000-1521049500@www.rosinka.at
SUMMARY:Якорек
DESCRIPTION:
URL:https://www.rosinka.at/event/%d1%8f%d0%ba%d0%be%d1%80%d0%b5%d0%ba-4/
END:VEVENT
BEGIN:VEVENT
DTSTART;TZID=Europe/Vienna:20180313T163000
DTEND;TZID=Europe/Vienna:20180313T181500
DTSTAMP:20260420T005654
CREATED:20180206T093409Z
LAST-MODIFIED:20180206T093409Z
UID:1590-1520958600-1520964900@www.rosinka.at
SUMMARY:Золотой Ключик
DESCRIPTION:
URL:https://www.rosinka.at/event/%d0%b7%d0%be%d0%bb%d0%be%d1%82%d0%be%d0%b9-%d0%ba%d0%bb%d1%8e%d1%87%d0%b8%d0%ba-21/
END:VEVENT
BEGIN:VEVENT
DTSTART;TZID=Europe/Vienna:20180309T170000
DTEND;TZID=Europe/Vienna:20180309T181500
DTSTAMP:20260420T005654
CREATED:20180206T093338Z
LAST-MODIFIED:20180206T093338Z
UID:1588-1520614800-1520619300@www.rosinka.at
SUMMARY:Радуга
DESCRIPTION:
URL:https://www.rosinka.at/event/%d1%80%d0%b0%d0%b4%d1%83%d0%b3%d0%b0-17/
END:VEVENT
BEGIN:VEVENT
DTSTART;TZID=Europe/Vienna:20180308T163000
DTEND;TZID=Europe/Vienna:20180308T181500
DTSTAMP:20260420T005654
CREATED:20180206T093313Z
LAST-MODIFIED:20180206T093313Z
UID:1586-1520526600-1520532900@www.rosinka.at
SUMMARY:Звездочеты
DESCRIPTION:
URL:https://www.rosinka.at/event/%d0%b7%d0%b2%d0%b5%d0%b7%d0%b4%d0%be%d1%87%d0%b5%d1%82%d1%8b-18/
END:VEVENT
BEGIN:VEVENT
DTSTART;TZID=Europe/Vienna:20180307T163000
DTEND;TZID=Europe/Vienna:20180307T174500
DTSTAMP:20260420T005654
CREATED:20180206T093240Z
LAST-MODIFIED:20180206T093240Z
UID:1584-1520440200-1520444700@www.rosinka.at
SUMMARY:Якорек
DESCRIPTION:
URL:https://www.rosinka.at/event/%d1%8f%d0%ba%d0%be%d1%80%d0%b5%d0%ba-3/
END:VEVENT
BEGIN:VEVENT
DTSTART;TZID=Europe/Vienna:20180306T163000
DTEND;TZID=Europe/Vienna:20180306T181500
DTSTAMP:20260420T005654
CREATED:20180206T093211Z
LAST-MODIFIED:20180206T093211Z
UID:1582-1520353800-1520360100@www.rosinka.at
SUMMARY:Золотой Ключик
DESCRIPTION:
URL:https://www.rosinka.at/event/%d0%b7%d0%be%d0%bb%d0%be%d1%82%d0%be%d0%b9-%d0%ba%d0%bb%d1%8e%d1%87%d0%b8%d0%ba-20/
END:VEVENT
BEGIN:VEVENT
DTSTART;TZID=Europe/Vienna:20180302T170000
DTEND;TZID=Europe/Vienna:20180302T181500
DTSTAMP:20260420T005654
CREATED:20180206T092741Z
LAST-MODIFIED:20180206T092741Z
UID:1576-1520010000-1520014500@www.rosinka.at
SUMMARY:Радуга
DESCRIPTION:
URL:https://www.rosinka.at/event/%d1%80%d0%b0%d0%b4%d1%83%d0%b3%d0%b0-16/
END:VEVENT
BEGIN:VEVENT
DTSTART;TZID=Europe/Vienna:20180301T163000
DTEND;TZID=Europe/Vienna:20180301T181500
DTSTAMP:20260420T005654
CREATED:20180206T092637Z
LAST-MODIFIED:20180206T092708Z
UID:1573-1519921800-1519928100@www.rosinka.at
SUMMARY:Звездочеты
DESCRIPTION:
URL:https://www.rosinka.at/event/%d1%8f%d0%ba%d0%be%d1%80%d0%b5%d0%ba/
END:VEVENT
BEGIN:VEVENT
DTSTART;TZID=Europe/Vienna:20180228T163000
DTEND;TZID=Europe/Vienna:20180228T174500
DTSTAMP:20260420T005654
CREATED:20180206T093107Z
LAST-MODIFIED:20180206T093107Z
UID:1580-1519835400-1519839900@www.rosinka.at
SUMMARY:Якорек
DESCRIPTION:
URL:https://www.rosinka.at/event/%d1%8f%d0%ba%d0%be%d1%80%d0%b5%d0%ba-2/
END:VEVENT
BEGIN:VEVENT
DTSTART;TZID=Europe/Vienna:20180227T163000
DTEND;TZID=Europe/Vienna:20180227T181500
DTSTAMP:20260420T005654
CREATED:20180206T092441Z
LAST-MODIFIED:20180206T092852Z
UID:1571-1519749000-1519755300@www.rosinka.at
SUMMARY:Золотой Ключик
DESCRIPTION:
URL:https://www.rosinka.at/event/%d0%b7%d0%be%d0%bb%d0%be%d1%82%d0%be%d0%b9-%d0%ba%d0%bb%d1%8e%d1%87%d0%b8%d0%ba-19/
END:VEVENT
BEGIN:VEVENT
DTSTART;VALUE=DATE:20180217
DTEND;VALUE=DATE:20180226
DTSTAMP:20260420T005654
CREATED:20171117T084542Z
LAST-MODIFIED:20171117T084619Z
UID:1551-1518825600-1519603199@www.rosinka.at
SUMMARY:Зимние Каникулы
DESCRIPTION:
URL:https://www.rosinka.at/event/%d0%b7%d0%b8%d0%bc%d0%bd%d0%b8%d0%b5-%d0%ba%d0%b0%d0%bd%d0%b8%d0%ba%d1%83%d0%bb%d1%8b/
END:VEVENT
BEGIN:VEVENT
DTSTART;TZID=Europe/Vienna:20180216T170000
DTEND;TZID=Europe/Vienna:20180216T181500
DTSTAMP:20260420T005654
CREATED:20171117T084355Z
LAST-MODIFIED:20171117T084355Z
UID:1549-1518800400-1518804900@www.rosinka.at
SUMMARY:Радуга
DESCRIPTION:
URL:https://www.rosinka.at/event/%d1%80%d0%b0%d0%b4%d1%83%d0%b3%d0%b0-15/
END:VEVENT
BEGIN:VEVENT
DTSTART;TZID=Europe/Vienna:20180215T163000
DTEND;TZID=Europe/Vienna:20180215T181500
DTSTAMP:20260420T005654
CREATED:20171117T084325Z
LAST-MODIFIED:20171117T084325Z
UID:1547-1518712200-1518718500@www.rosinka.at
SUMMARY:Звездочеты
DESCRIPTION:
URL:https://www.rosinka.at/event/%d0%b7%d0%b2%d0%b5%d0%b7%d0%b4%d0%be%d1%87%d0%b5%d1%82%d1%8b-17/
END:VEVENT
BEGIN:VEVENT
DTSTART;TZID=Europe/Vienna:20180213T163000
DTEND;TZID=Europe/Vienna:20180213T181500
DTSTAMP:20260420T005654
CREATED:20171117T084301Z
LAST-MODIFIED:20171117T084301Z
UID:1545-1518539400-1518545700@www.rosinka.at
SUMMARY:Золотой Ключик
DESCRIPTION:
URL:https://www.rosinka.at/event/%d0%b7%d0%be%d0%bb%d0%be%d1%82%d0%be%d0%b9-%d0%ba%d0%bb%d1%8e%d1%87%d0%b8%d0%ba-18/
END:VEVENT
BEGIN:VEVENT
DTSTART;TZID=Europe/Vienna:20180209T170000
DTEND;TZID=Europe/Vienna:20180209T181500
DTSTAMP:20260420T005654
CREATED:20171117T084226Z
LAST-MODIFIED:20171117T084226Z
UID:1543-1518195600-1518200100@www.rosinka.at
SUMMARY:Радуга
DESCRIPTION:
URL:https://www.rosinka.at/event/%d1%80%d0%b0%d0%b4%d1%83%d0%b3%d0%b0-14/
END:VEVENT
BEGIN:VEVENT
DTSTART;TZID=Europe/Vienna:20180208T163000
DTEND;TZID=Europe/Vienna:20180208T181500
DTSTAMP:20260420T005654
CREATED:20171117T084202Z
LAST-MODIFIED:20171117T084202Z
UID:1541-1518107400-1518113700@www.rosinka.at
SUMMARY:Звездочеты
DESCRIPTION:
URL:https://www.rosinka.at/event/%d0%b7%d0%b2%d0%b5%d0%b7%d0%b4%d0%be%d1%87%d0%b5%d1%82%d1%8b-16/
END:VEVENT
END:VCALENDAR