BEGIN:VCALENDAR
VERSION:2.0
PRODID:-//Rosinka - ECPv6.15.20//NONSGML v1.0//EN
CALSCALE:GREGORIAN
METHOD:PUBLISH
X-WR-CALNAME:Rosinka
X-ORIGINAL-URL:https://www.rosinka.at
X-WR-CALDESC:Мероприятия для Rosinka
REFRESH-INTERVAL;VALUE=DURATION:PT1H
X-Robots-Tag:noindex
X-PUBLISHED-TTL:PT1H
BEGIN:VTIMEZONE
TZID:Europe/Vienna
BEGIN:DAYLIGHT
TZOFFSETFROM:+0100
TZOFFSETTO:+0200
TZNAME:CEST
DTSTART:20180325T010000
END:DAYLIGHT
BEGIN:STANDARD
TZOFFSETFROM:+0200
TZOFFSETTO:+0100
TZNAME:CET
DTSTART:20181028T010000
END:STANDARD
BEGIN:DAYLIGHT
TZOFFSETFROM:+0100
TZOFFSETTO:+0200
TZNAME:CEST
DTSTART:20190331T010000
END:DAYLIGHT
BEGIN:STANDARD
TZOFFSETFROM:+0200
TZOFFSETTO:+0100
TZNAME:CET
DTSTART:20191027T010000
END:STANDARD
BEGIN:DAYLIGHT
TZOFFSETFROM:+0100
TZOFFSETTO:+0200
TZNAME:CEST
DTSTART:20200329T010000
END:DAYLIGHT
BEGIN:STANDARD
TZOFFSETFROM:+0200
TZOFFSETTO:+0100
TZNAME:CET
DTSTART:20201025T010000
END:STANDARD
END:VTIMEZONE
BEGIN:VEVENT
DTSTART;TZID=Europe/Vienna:20190201T154500
DTEND;TZID=Europe/Vienna:20190201T164500
DTSTAMP:20260420T012402
CREATED:20180907T094617Z
LAST-MODIFIED:20181001T130615Z
UID:1989-1549035900-1549039500@www.rosinka.at
SUMMARY:ФАНТАЗЕРЫ
DESCRIPTION:
URL:https://www.rosinka.at/event/%d0%ba%d0%be%d0%bb%d0%be%d0%ba%d0%be%d0%bb%d1%8c%d1%87%d0%b8%d0%ba-26/
END:VEVENT
BEGIN:VEVENT
DTSTART;TZID=Europe/Vienna:20190201T164500
DTEND;TZID=Europe/Vienna:20190201T174500
DTSTAMP:20260420T012402
CREATED:20180907T154014Z
LAST-MODIFIED:20181001T130541Z
UID:2027-1549039500-1549043100@www.rosinka.at
SUMMARY:РАДУГА
DESCRIPTION:
URL:https://www.rosinka.at/event/%d1%80%d0%b0%d0%b4%d1%83%d0%b3%d0%b0-47/
END:VEVENT
BEGIN:VEVENT
DTSTART;TZID=Europe/Vienna:20190204T100000
DTEND;TZID=Europe/Vienna:20190204T110000
DTSTAMP:20260420T012402
CREATED:20181106T094035Z
LAST-MODIFIED:20181106T094035Z
UID:2229-1549274400-1549278000@www.rosinka.at
SUMMARY:Группа 3 - 4 года
DESCRIPTION:
URL:https://www.rosinka.at/event/%d0%b3%d1%80%d1%83%d0%bf%d0%bf%d0%b0-3-4-%d0%b3%d0%be%d0%b4%d0%b0-13/
END:VEVENT
BEGIN:VEVENT
DTSTART;TZID=Europe/Vienna:20190205T154500
DTEND;TZID=Europe/Vienna:20190205T164500
DTSTAMP:20260420T012402
CREATED:20181016T193057Z
LAST-MODIFIED:20190117T071548Z
UID:2184-1549381500-1549385100@www.rosinka.at
SUMMARY:Группа 1\,5 - 3 года
DESCRIPTION:
URL:https://www.rosinka.at/event/%d0%b3%d1%80%d1%83%d0%bf%d0%bf%d0%b0-15-3-%d0%b3%d0%be%d0%b4%d0%b0-14/
END:VEVENT
BEGIN:VEVENT
DTSTART;TZID=Europe/Vienna:20190205T163000
DTEND;TZID=Europe/Vienna:20190205T181500
DTSTAMP:20260420T012402
CREATED:20180907T084253Z
LAST-MODIFIED:20180907T084253Z
UID:1915-1549384200-1549390500@www.rosinka.at
SUMMARY:ЗОЛОТОЙ КЛЮЧИК
DESCRIPTION:
URL:https://www.rosinka.at/event/%d0%b7%d0%be%d0%bb%d0%be%d1%82%d0%be%d0%b9-%d0%ba%d0%bb%d1%8e%d1%87%d0%b8%d0%ba-51/
END:VEVENT
BEGIN:VEVENT
DTSTART;TZID=Europe/Vienna:20190206T160000
DTEND;TZID=Europe/Vienna:20190206T171500
DTSTAMP:20260420T012402
CREATED:20180926T141259Z
LAST-MODIFIED:20180926T141259Z
UID:2075-1549468800-1549473300@www.rosinka.at
SUMMARY:ЯКОРЕК
DESCRIPTION:
URL:https://www.rosinka.at/event/%d1%8f%d0%ba%d0%be%d1%80%d0%b5%d0%ba-36/
END:VEVENT
BEGIN:VEVENT
DTSTART;TZID=Europe/Vienna:20190207T144500
DTEND;TZID=Europe/Vienna:20190207T154500
DTSTAMP:20260420T012402
CREATED:20181220T140811Z
LAST-MODIFIED:20181220T140811Z
UID:2275-1549550700-1549554300@www.rosinka.at
SUMMARY:Группа 0 - 1\,5
DESCRIPTION:
URL:https://www.rosinka.at/event/%d0%b3%d1%80%d1%83%d0%bf%d0%bf%d0%b0-0-15-8/
END:VEVENT
BEGIN:VEVENT
DTSTART;TZID=Europe/Vienna:20190207T163000
DTEND;TZID=Europe/Vienna:20190207T181500
DTSTAMP:20260420T012402
CREATED:20180907T091600Z
LAST-MODIFIED:20180907T091600Z
UID:1955-1549557000-1549563300@www.rosinka.at
SUMMARY:ЗВЕЗДОЧЕТЫ
DESCRIPTION:
URL:https://www.rosinka.at/event/%d0%b7%d0%b2%d0%b5%d0%b7%d0%b4%d0%be%d1%87%d0%b5%d1%82%d1%8b-49/
END:VEVENT
BEGIN:VEVENT
DTSTART;TZID=Europe/Vienna:20190208T154500
DTEND;TZID=Europe/Vienna:20190208T164500
DTSTAMP:20260420T012402
CREATED:20180907T094646Z
LAST-MODIFIED:20181001T130241Z
UID:1991-1549640700-1549644300@www.rosinka.at
SUMMARY:ФАНТАЗЕРЫ
DESCRIPTION:
URL:https://www.rosinka.at/event/%d0%ba%d0%be%d0%bb%d0%be%d0%ba%d0%be%d0%bb%d1%8c%d1%87%d0%b8%d0%ba-27/
END:VEVENT
BEGIN:VEVENT
DTSTART;TZID=Europe/Vienna:20190208T164500
DTEND;TZID=Europe/Vienna:20190208T174500
DTSTAMP:20260420T012402
CREATED:20180907T154139Z
LAST-MODIFIED:20181001T130148Z
UID:2029-1549644300-1549647900@www.rosinka.at
SUMMARY:РАДУГА
DESCRIPTION:
URL:https://www.rosinka.at/event/%d1%80%d0%b0%d0%b4%d1%83%d0%b3%d0%b0-48/
END:VEVENT
BEGIN:VEVENT
DTSTART;TZID=Europe/Vienna:20190211T100000
DTEND;TZID=Europe/Vienna:20190211T110000
DTSTAMP:20260420T012402
CREATED:20181106T094107Z
LAST-MODIFIED:20181106T094107Z
UID:2231-1549879200-1549882800@www.rosinka.at
SUMMARY:Группа 3 - 4 года
DESCRIPTION:
URL:https://www.rosinka.at/event/%d0%b3%d1%80%d1%83%d0%bf%d0%bf%d0%b0-3-4-%d0%b3%d0%be%d0%b4%d0%b0-14/
END:VEVENT
BEGIN:VEVENT
DTSTART;TZID=Europe/Vienna:20190212T154500
DTEND;TZID=Europe/Vienna:20190212T164500
DTSTAMP:20260420T012402
CREATED:20181016T193130Z
LAST-MODIFIED:20190117T071509Z
UID:2186-1549986300-1549989900@www.rosinka.at
SUMMARY:Группа 1\,5 - 3 года
DESCRIPTION:
URL:https://www.rosinka.at/event/%d0%b3%d1%80%d1%83%d0%bf%d0%bf%d0%b0-15-3-%d0%b3%d0%be%d0%b4%d0%b0-15/
END:VEVENT
BEGIN:VEVENT
DTSTART;TZID=Europe/Vienna:20190212T163000
DTEND;TZID=Europe/Vienna:20190212T181500
DTSTAMP:20260420T012402
CREATED:20180907T084329Z
LAST-MODIFIED:20180907T084329Z
UID:1917-1549989000-1549995300@www.rosinka.at
SUMMARY:ЗОЛОТОЙ КЛЮЧИК
DESCRIPTION:
URL:https://www.rosinka.at/event/%d0%b7%d0%be%d0%bb%d0%be%d1%82%d0%be%d0%b9-%d0%ba%d0%bb%d1%8e%d1%87%d0%b8%d0%ba-52/
END:VEVENT
BEGIN:VEVENT
DTSTART;TZID=Europe/Vienna:20190213T160000
DTEND;TZID=Europe/Vienna:20190213T171500
DTSTAMP:20260420T012402
CREATED:20180926T141436Z
LAST-MODIFIED:20180926T141436Z
UID:2079-1550073600-1550078100@www.rosinka.at
SUMMARY:ЯКОРЕК
DESCRIPTION:
URL:https://www.rosinka.at/event/%d1%8f%d0%ba%d0%be%d1%80%d0%b5%d0%ba-38/
END:VEVENT
BEGIN:VEVENT
DTSTART;TZID=Europe/Vienna:20190214T144500
DTEND;TZID=Europe/Vienna:20190214T154500
DTSTAMP:20260420T012402
CREATED:20181220T140850Z
LAST-MODIFIED:20181220T140850Z
UID:2277-1550155500-1550159100@www.rosinka.at
SUMMARY:Группа 0 - 1\,5
DESCRIPTION:
URL:https://www.rosinka.at/event/%d0%b3%d1%80%d1%83%d0%bf%d0%bf%d0%b0-0-15-9/
END:VEVENT
BEGIN:VEVENT
DTSTART;TZID=Europe/Vienna:20190214T163000
DTEND;TZID=Europe/Vienna:20190214T181500
DTSTAMP:20260420T012402
CREATED:20180907T091627Z
LAST-MODIFIED:20180907T091627Z
UID:1957-1550161800-1550168100@www.rosinka.at
SUMMARY:ЗВЕЗДОЧЕТЫ
DESCRIPTION:
URL:https://www.rosinka.at/event/%d0%b7%d0%b2%d0%b5%d0%b7%d0%b4%d0%be%d1%87%d0%b5%d1%82%d1%8b-50/
END:VEVENT
BEGIN:VEVENT
DTSTART;TZID=Europe/Vienna:20190215T154500
DTEND;TZID=Europe/Vienna:20190215T164500
DTSTAMP:20260420T012402
CREATED:20180907T094716Z
LAST-MODIFIED:20181001T125951Z
UID:1993-1550245500-1550249100@www.rosinka.at
SUMMARY:ФАНТАЗЕРЫ
DESCRIPTION:
URL:https://www.rosinka.at/event/%d0%ba%d0%be%d0%bb%d0%be%d0%ba%d0%be%d0%bb%d1%8c%d1%87%d0%b8%d0%ba-28/
END:VEVENT
BEGIN:VEVENT
DTSTART;TZID=Europe/Vienna:20190215T164500
DTEND;TZID=Europe/Vienna:20190215T174500
DTSTAMP:20260420T012402
CREATED:20180907T154215Z
LAST-MODIFIED:20181001T130207Z
UID:2031-1550249100-1550252700@www.rosinka.at
SUMMARY:РАДУГА
DESCRIPTION:
URL:https://www.rosinka.at/event/%d1%80%d0%b0%d0%b4%d1%83%d0%b3%d0%b0-49/
END:VEVENT
BEGIN:VEVENT
DTSTART;VALUE=DATE:20190216
DTEND;VALUE=DATE:20190225
DTSTAMP:20260420T012402
CREATED:20180907T075859Z
LAST-MODIFIED:20180907T075859Z
UID:1853-1550275200-1551052799@www.rosinka.at
SUMMARY:ЗИМНИЕ КАНИКУЛЫ
DESCRIPTION:
URL:https://www.rosinka.at/event/%d0%b7%d0%b8%d0%bc%d0%bd%d0%b8%d0%b5-%d0%ba%d0%b0%d0%bd%d0%b8%d0%ba%d1%83%d0%bb%d1%8b-2/
END:VEVENT
BEGIN:VEVENT
DTSTART;TZID=Europe/Vienna:20190220T170000
DTEND;TZID=Europe/Vienna:20190220T180000
DTSTAMP:20260420T012402
CREATED:20190220T214051Z
LAST-MODIFIED:20190220T214051Z
UID:2545-1550682000-1550685600@www.rosinka.at
SUMMARY:ТЕАТРАЛЬНЫЙ КРУЖОК (3-4)
DESCRIPTION:
URL:https://www.rosinka.at/event/%d1%82%d0%b5%d0%b0%d1%82%d1%80%d0%b0%d0%bb%d1%8c%d0%bd%d1%8b%d0%b9-%d0%ba%d1%80%d1%83%d0%b6%d0%be%d0%ba-3-4-4/
LOCATION:Alte Poststraße 134\, 8020 Graz\, Alte Poststraße 134\, Graz\, 8020\, Austria
END:VEVENT
BEGIN:VEVENT
DTSTART;TZID=Europe/Vienna:20190221T163000
DTEND;TZID=Europe/Vienna:20190221T181500
DTSTAMP:20260420T012402
CREATED:20190220T214121Z
LAST-MODIFIED:20190220T214121Z
UID:2547-1550766600-1550772900@www.rosinka.at
SUMMARY:ЗВЕЗДОЧЕТЫ (7-8)
DESCRIPTION:
URL:https://www.rosinka.at/event/%d0%b7%d0%b2%d0%b5%d0%b7%d0%b4%d0%be%d1%87%d0%b5%d1%82%d1%8b-7-8-4/
END:VEVENT
BEGIN:VEVENT
DTSTART;TZID=Europe/Vienna:20190222T154500
DTEND;TZID=Europe/Vienna:20190222T173000
DTSTAMP:20260420T012402
CREATED:20190220T214152Z
LAST-MODIFIED:20190220T214152Z
UID:2549-1550850300-1550856600@www.rosinka.at
SUMMARY:ФАНТАЗЕРЫ (6-7)
DESCRIPTION:
URL:https://www.rosinka.at/event/%d1%84%d0%b0%d0%bd%d1%82%d0%b0%d0%b7%d0%b5%d1%80%d1%8b-6-7-4/
END:VEVENT
BEGIN:VEVENT
DTSTART;TZID=Europe/Vienna:20190223T113000
DTEND;TZID=Europe/Vienna:20190223T123000
DTSTAMP:20260420T012402
CREATED:20190220T214223Z
LAST-MODIFIED:20190220T214223Z
UID:2551-1550921400-1550925000@www.rosinka.at
SUMMARY:РОБОТОТЕХНИКА (7-10)
DESCRIPTION:
URL:https://www.rosinka.at/event/%d1%80%d0%be%d0%b1%d0%be%d1%82%d0%be%d1%82%d0%b5%d1%85%d0%bd%d0%b8%d0%ba%d0%b0-7-10-3/
END:VEVENT
BEGIN:VEVENT
DTSTART;TZID=Europe/Vienna:20190223T133000
DTEND;TZID=Europe/Vienna:20190223T150000
DTSTAMP:20260420T012402
CREATED:20190220T214250Z
LAST-MODIFIED:20190220T214250Z
UID:2553-1550928600-1550934000@www.rosinka.at
SUMMARY:РОБОТОТЕХНИКА (11+)
DESCRIPTION:
URL:https://www.rosinka.at/event/%d1%80%d0%be%d0%b1%d0%be%d1%82%d0%be%d1%82%d0%b5%d1%85%d0%bd%d0%b8%d0%ba%d0%b0-11-3/
END:VEVENT
BEGIN:VEVENT
DTSTART;TZID=Europe/Vienna:20190225T153000
DTEND;TZID=Europe/Vienna:20190225T163000
DTSTAMP:20260420T012402
CREATED:20190221T101011Z
LAST-MODIFIED:20190221T101011Z
UID:2586-1551108600-1551112200@www.rosinka.at
SUMMARY:Пробное занятие: Музыкальное развитие (4-6)
DESCRIPTION:
URL:https://www.rosinka.at/event/%d0%bf%d1%80%d0%be%d0%b1%d0%bd%d0%be%d0%b5-%d0%b7%d0%b0%d0%bd%d1%8f%d1%82%d0%b8%d0%b5-%d0%bc%d1%83%d0%b7%d1%8b%d0%ba%d0%b0%d0%bb%d1%8c%d0%bd%d0%be%d0%b5-%d1%80%d0%b0%d0%b7%d0%b2%d0%b8%d1%82%d0%b8/
END:VEVENT
BEGIN:VEVENT
DTSTART;TZID=Europe/Vienna:20190226T154500
DTEND;TZID=Europe/Vienna:20190226T164500
DTSTAMP:20260420T012402
CREATED:20190220T214323Z
LAST-MODIFIED:20190311T095629Z
UID:2555-1551195900-1551199500@www.rosinka.at
SUMMARY:Группа 1\,5 - 3 года
DESCRIPTION:
URL:https://www.rosinka.at/event/15-3-%d0%b3%d0%be%d0%b4%d0%b0-3/
END:VEVENT
BEGIN:VEVENT
DTSTART;TZID=Europe/Vienna:20190226T163000
DTEND;TZID=Europe/Vienna:20190226T181500
DTSTAMP:20260420T012402
CREATED:20190220T214357Z
LAST-MODIFIED:20190220T214357Z
UID:2557-1551198600-1551204900@www.rosinka.at
SUMMARY:ЗОЛОТОЙ КЛЮЧИК (8-10)
DESCRIPTION:
URL:https://www.rosinka.at/event/%d0%b7%d0%be%d0%bb%d0%be%d1%82%d0%be%d0%b9-%d0%ba%d0%bb%d1%8e%d1%87%d0%b8%d0%ba-8-10-4/
END:VEVENT
BEGIN:VEVENT
DTSTART;TZID=Europe/Vienna:20190227T150000
DTEND;TZID=Europe/Vienna:20190227T160000
DTSTAMP:20260420T012402
CREATED:20190220T214424Z
LAST-MODIFIED:20190220T214424Z
UID:2559-1551279600-1551283200@www.rosinka.at
SUMMARY:СТУДИЯ ДИЗАЙНА
DESCRIPTION:
URL:https://www.rosinka.at/event/%d1%81%d1%82%d1%83%d0%b4%d0%b8%d1%8f-%d0%b4%d0%b8%d0%b7%d0%b0%d0%b9%d0%bd%d0%b0-5/
END:VEVENT
BEGIN:VEVENT
DTSTART;TZID=Europe/Vienna:20190227T160000
DTEND;TZID=Europe/Vienna:20190227T170000
DTSTAMP:20260420T012402
CREATED:20190220T214446Z
LAST-MODIFIED:20190220T214446Z
UID:2561-1551283200-1551286800@www.rosinka.at
SUMMARY:ЯКОРЕК (4-5)
DESCRIPTION:
URL:https://www.rosinka.at/event/%d1%8f%d0%ba%d0%be%d1%80%d0%b5%d0%ba-4-5-4/
END:VEVENT
BEGIN:VEVENT
DTSTART;TZID=Europe/Vienna:20190227T170000
DTEND;TZID=Europe/Vienna:20190227T180000
DTSTAMP:20260420T012402
CREATED:20190220T212512Z
LAST-MODIFIED:20190220T212512Z
UID:2505-1551286800-1551290400@www.rosinka.at
SUMMARY:ТЕАТРАЛЬНЫЙ КРУЖОК (3-4)
DESCRIPTION:
URL:https://www.rosinka.at/event/%d1%82%d0%b5%d0%b0%d1%82%d1%80%d0%b0%d0%bb%d1%8c%d0%bd%d1%8b%d0%b9-%d0%ba%d1%80%d1%83%d0%b6%d0%be%d0%ba-3-4/
LOCATION:Alte Poststraße 134\, 8020 Graz\, Alte Poststraße 134\, Graz\, 8020\, Austria
END:VEVENT
END:VCALENDAR