BEGIN:VCALENDAR
VERSION:2.0
PRODID:-//Rosinka - ECPv6.15.20//NONSGML v1.0//EN
CALSCALE:GREGORIAN
METHOD:PUBLISH
X-WR-CALNAME:Rosinka
X-ORIGINAL-URL:https://www.rosinka.at
X-WR-CALDESC:Мероприятия для Rosinka
REFRESH-INTERVAL;VALUE=DURATION:PT1H
X-Robots-Tag:noindex
X-PUBLISHED-TTL:PT1H
BEGIN:VTIMEZONE
TZID:Europe/Vienna
BEGIN:DAYLIGHT
TZOFFSETFROM:+0100
TZOFFSETTO:+0200
TZNAME:CEST
DTSTART:20180325T010000
END:DAYLIGHT
BEGIN:STANDARD
TZOFFSETFROM:+0200
TZOFFSETTO:+0100
TZNAME:CET
DTSTART:20181028T010000
END:STANDARD
BEGIN:DAYLIGHT
TZOFFSETFROM:+0100
TZOFFSETTO:+0200
TZNAME:CEST
DTSTART:20190331T010000
END:DAYLIGHT
BEGIN:STANDARD
TZOFFSETFROM:+0200
TZOFFSETTO:+0100
TZNAME:CET
DTSTART:20191027T010000
END:STANDARD
BEGIN:DAYLIGHT
TZOFFSETFROM:+0100
TZOFFSETTO:+0200
TZNAME:CEST
DTSTART:20200329T010000
END:DAYLIGHT
BEGIN:STANDARD
TZOFFSETFROM:+0200
TZOFFSETTO:+0100
TZNAME:CET
DTSTART:20201025T010000
END:STANDARD
END:VTIMEZONE
BEGIN:VEVENT
DTSTART;TZID=Europe/Vienna:20190228T150000
DTEND;TZID=Europe/Vienna:20190228T163000
DTSTAMP:20260420T063347
CREATED:20190225T205418Z
LAST-MODIFIED:20190225T205541Z
UID:2604-1551366000-1551371400@www.rosinka.at
SUMMARY:Пробное занятие по живописи (7-11 лет)
DESCRIPTION:
URL:https://www.rosinka.at/event/%d0%bf%d1%80%d0%be%d0%b1%d0%bd%d0%be%d0%b5-%d0%b7%d0%b0%d0%bd%d1%8f%d1%82%d0%b8%d0%b5-%d0%bf%d0%be-%d0%b6%d0%b8%d0%b2%d0%be%d0%bf%d0%b8%d1%81%d0%b8-7-11-%d0%bb%d0%b5%d1%82/
END:VEVENT
BEGIN:VEVENT
DTSTART;TZID=Europe/Vienna:20190228T163000
DTEND;TZID=Europe/Vienna:20190228T181500
DTSTAMP:20260420T063347
CREATED:20190219T155719Z
LAST-MODIFIED:20190219T155719Z
UID:2484-1551371400-1551377700@www.rosinka.at
SUMMARY:ЗВЕЗДОЧЕТЫ (7-8)
DESCRIPTION:
URL:https://www.rosinka.at/event/%d0%b7%d0%b2%d0%b5%d0%b7%d0%b4%d0%be%d1%87%d0%b5%d1%82%d1%8b-7-8/
END:VEVENT
BEGIN:VEVENT
DTSTART;TZID=Europe/Vienna:20190228T170000
DTEND;TZID=Europe/Vienna:20190228T180000
DTSTAMP:20260420T063347
CREATED:20190225T205502Z
LAST-MODIFIED:20190225T205502Z
UID:2606-1551373200-1551376800@www.rosinka.at
SUMMARY:Занятие по живописи (4-6 лет)
DESCRIPTION:
URL:https://www.rosinka.at/event/%d0%b7%d0%b0%d0%bd%d1%8f%d1%82%d0%b8%d0%b5-%d0%bf%d0%be-%d0%b6%d0%b8%d0%b2%d0%be%d0%bf%d0%b8%d1%81%d0%b8-4-6-%d0%bb%d0%b5%d1%82/
END:VEVENT
BEGIN:VEVENT
DTSTART;TZID=Europe/Vienna:20190301T154500
DTEND;TZID=Europe/Vienna:20190301T173000
DTSTAMP:20260420T063347
CREATED:20190219T155930Z
LAST-MODIFIED:20190219T155930Z
UID:2488-1551455100-1551461400@www.rosinka.at
SUMMARY:ФАНТАЗЕРЫ (6-7)
DESCRIPTION:
URL:https://www.rosinka.at/event/%d1%84%d0%b0%d0%bd%d1%82%d0%b0%d0%b7%d0%b5%d1%80%d1%8b-6-7/
END:VEVENT
BEGIN:VEVENT
DTSTART;TZID=Europe/Vienna:20190304T153000
DTEND;TZID=Europe/Vienna:20190304T163000
DTSTAMP:20260420T063347
CREATED:20190303T214719Z
LAST-MODIFIED:20190303T214719Z
UID:2673-1551713400-1551717000@www.rosinka.at
SUMMARY:Музыкальное Развитие (4-6)
DESCRIPTION:
URL:https://www.rosinka.at/event/%d0%bc%d1%83%d0%b7%d1%8b%d0%ba%d0%b0%d0%bb%d1%8c%d0%bd%d0%be%d0%b5-%d1%80%d0%b0%d0%b7%d0%b2%d0%b8%d1%82%d0%b8%d0%b5-4-6/
END:VEVENT
BEGIN:VEVENT
DTSTART;TZID=Europe/Vienna:20190305T160000
DTEND;TZID=Europe/Vienna:20190305T170000
DTSTAMP:20260420T063347
CREATED:20190220T212705Z
LAST-MODIFIED:20190311T095608Z
UID:2510-1551801600-1551805200@www.rosinka.at
SUMMARY:Группа 1\,5 - 3 года
DESCRIPTION:
URL:https://www.rosinka.at/event/15-3-%d0%b3%d0%be%d0%b4%d0%b0/
END:VEVENT
BEGIN:VEVENT
DTSTART;TZID=Europe/Vienna:20190305T163000
DTEND;TZID=Europe/Vienna:20190305T181500
DTSTAMP:20260420T063347
CREATED:20190220T212616Z
LAST-MODIFIED:20190220T212616Z
UID:2508-1551803400-1551809700@www.rosinka.at
SUMMARY:ЗОЛОТОЙ КЛЮЧИК (8-10)
DESCRIPTION:
URL:https://www.rosinka.at/event/%d0%b7%d0%be%d0%bb%d0%be%d1%82%d0%be%d0%b9-%d0%ba%d0%bb%d1%8e%d1%87%d0%b8%d0%ba-8-10-2/
END:VEVENT
BEGIN:VEVENT
DTSTART;TZID=Europe/Vienna:20190306T150000
DTEND;TZID=Europe/Vienna:20190306T160000
DTSTAMP:20260420T063347
CREATED:20190220T212920Z
LAST-MODIFIED:20190220T212920Z
UID:2515-1551884400-1551888000@www.rosinka.at
SUMMARY:СТУДИЯ ДИЗАЙНА
DESCRIPTION:
URL:https://www.rosinka.at/event/%d1%81%d1%82%d1%83%d0%b4%d0%b8%d1%8f-%d0%b4%d0%b8%d0%b7%d0%b0%d0%b9%d0%bd%d0%b0-2/
END:VEVENT
BEGIN:VEVENT
DTSTART;TZID=Europe/Vienna:20190306T163000
DTEND;TZID=Europe/Vienna:20190306T173000
DTSTAMP:20260420T063347
CREATED:20190220T212848Z
LAST-MODIFIED:20190227T213556Z
UID:2513-1551889800-1551893400@www.rosinka.at
SUMMARY:ТЕАТРАЛЬНЫЙ КРУЖОК (3-4)
DESCRIPTION:
URL:https://www.rosinka.at/event/%d1%82%d0%b5%d0%b0%d1%82%d1%80%d0%b0%d0%bb%d1%8c%d0%bd%d1%8b%d0%b9-%d0%ba%d1%80%d1%83%d0%b6%d0%be%d0%ba-3-4-2/
LOCATION:Alte Poststraße 134\, 8020 Graz\, Alte Poststraße 134\, Graz\, 8020\, Austria
END:VEVENT
BEGIN:VEVENT
DTSTART;TZID=Europe/Vienna:20190307T150000
DTEND;TZID=Europe/Vienna:20190307T163000
DTSTAMP:20260420T063347
CREATED:20190309T094613Z
LAST-MODIFIED:20190309T094613Z
UID:2728-1551970800-1551976200@www.rosinka.at
SUMMARY:ЖИВОПИСЬ (7-11)
DESCRIPTION:
URL:https://www.rosinka.at/event/%d0%b6%d0%b8%d0%b2%d0%be%d0%bf%d0%b8%d1%81%d1%8c-7-11/
END:VEVENT
BEGIN:VEVENT
DTSTART;TZID=Europe/Vienna:20190307T163000
DTEND;TZID=Europe/Vienna:20190307T181500
DTSTAMP:20260420T063347
CREATED:20190220T213218Z
LAST-MODIFIED:20190220T213218Z
UID:2520-1551976200-1551982500@www.rosinka.at
SUMMARY:ЗВЕЗДОЧЕТЫ (7-8)
DESCRIPTION:
URL:https://www.rosinka.at/event/%d0%b7%d0%b2%d0%b5%d0%b7%d0%b4%d0%be%d1%87%d0%b5%d1%82%d1%8b-7-8-2/
END:VEVENT
BEGIN:VEVENT
DTSTART;TZID=Europe/Vienna:20190307T164000
DTEND;TZID=Europe/Vienna:20190307T174000
DTSTAMP:20260420T063347
CREATED:20190309T094645Z
LAST-MODIFIED:20190309T094645Z
UID:2730-1551976800-1551980400@www.rosinka.at
SUMMARY:ЖИВОПИСЬ (4-6)
DESCRIPTION:
URL:https://www.rosinka.at/event/%d0%b6%d0%b8%d0%b2%d0%be%d0%bf%d0%b8%d1%81%d1%8c-4-6/
END:VEVENT
BEGIN:VEVENT
DTSTART;TZID=Europe/Vienna:20190308T154500
DTEND;TZID=Europe/Vienna:20190308T173000
DTSTAMP:20260420T063347
CREATED:20190220T213301Z
LAST-MODIFIED:20190220T213301Z
UID:2522-1552059900-1552066200@www.rosinka.at
SUMMARY:ФАНТАЗЕРЫ (6-7)
DESCRIPTION:
URL:https://www.rosinka.at/event/%d1%84%d0%b0%d0%bd%d1%82%d0%b0%d0%b7%d0%b5%d1%80%d1%8b-6-7-2/
END:VEVENT
BEGIN:VEVENT
DTSTART;TZID=Europe/Vienna:20190309T093000
DTEND;TZID=Europe/Vienna:20190309T103000
DTSTAMP:20260420T063347
CREATED:20190309T094106Z
LAST-MODIFIED:20190309T094106Z
UID:2722-1552123800-1552127400@www.rosinka.at
SUMMARY:РУКОДЕЛИЕ: вышивание (блок I)
DESCRIPTION:
URL:https://www.rosinka.at/event/%d1%80%d1%83%d0%ba%d0%be%d0%b4%d0%b5%d0%bb%d0%b8%d0%b5-%d0%b2%d1%8b%d1%88%d0%b8%d0%b2%d0%b0%d0%bd%d0%b8%d0%b5-%d0%b1%d0%bb%d0%be%d0%ba-i/
END:VEVENT
BEGIN:VEVENT
DTSTART;TZID=Europe/Vienna:20190309T113000
DTEND;TZID=Europe/Vienna:20190309T123000
DTSTAMP:20260420T063347
CREATED:20190219T160517Z
LAST-MODIFIED:20190219T160517Z
UID:2492-1552131000-1552134600@www.rosinka.at
SUMMARY:РОБОТОТЕХНИКА (7-10)
DESCRIPTION:
URL:https://www.rosinka.at/event/%d1%80%d0%be%d0%b1%d0%be%d1%82%d0%be%d1%82%d0%b5%d1%85%d0%bd%d0%b8%d0%ba%d0%b0-7-10/
END:VEVENT
BEGIN:VEVENT
DTSTART;TZID=Europe/Vienna:20190309T133000
DTEND;TZID=Europe/Vienna:20190309T150000
DTSTAMP:20260420T063347
CREATED:20190219T160605Z
LAST-MODIFIED:20190219T160605Z
UID:2494-1552138200-1552143600@www.rosinka.at
SUMMARY:РОБОТОТЕХНИКА (11+)
DESCRIPTION:
URL:https://www.rosinka.at/event/%d1%80%d0%be%d0%b1%d0%be%d1%82%d0%be%d1%82%d0%b5%d1%85%d0%bd%d0%b8%d0%ba%d0%b0-11/
END:VEVENT
BEGIN:VEVENT
DTSTART;TZID=Europe/Vienna:20190310T093000
DTEND;TZID=Europe/Vienna:20190310T103000
DTSTAMP:20260420T063347
CREATED:20190309T094125Z
LAST-MODIFIED:20190309T094125Z
UID:2724-1552210200-1552213800@www.rosinka.at
SUMMARY:РУКОДЕЛИЕ: вышивание (блок I)
DESCRIPTION:
URL:https://www.rosinka.at/event/%d1%80%d1%83%d0%ba%d0%be%d0%b4%d0%b5%d0%bb%d0%b8%d0%b5-%d0%b2%d1%8b%d1%88%d0%b8%d0%b2%d0%b0%d0%bd%d0%b8%d0%b5-%d0%b1%d0%bb%d0%be%d0%ba-i-2/
END:VEVENT
BEGIN:VEVENT
DTSTART;TZID=Europe/Vienna:20190312T144500
DTEND;TZID=Europe/Vienna:20190312T154500
DTSTAMP:20260420T063347
CREATED:20190303T214808Z
LAST-MODIFIED:20190311T144612Z
UID:2675-1552401900-1552405500@www.rosinka.at
SUMMARY:Музыкальное Развитие (4-6)
DESCRIPTION:
URL:https://www.rosinka.at/event/%d0%bc%d1%83%d0%b7%d1%8b%d0%ba%d0%b0%d0%bb%d1%8c%d0%bd%d0%be%d0%b5-%d1%80%d0%b0%d0%b7%d0%b2%d0%b8%d1%82%d0%b8%d0%b5-4-6-2/
END:VEVENT
BEGIN:VEVENT
DTSTART;TZID=Europe/Vienna:20190312T160000
DTEND;TZID=Europe/Vienna:20190312T170000
DTSTAMP:20260420T063347
CREATED:20190220T213413Z
LAST-MODIFIED:20190311T095449Z
UID:2524-1552406400-1552410000@www.rosinka.at
SUMMARY:Группа 1\,5 - 3 года
DESCRIPTION:
URL:https://www.rosinka.at/event/15-3-%d0%b3%d0%be%d0%b4%d0%b0-2/
END:VEVENT
BEGIN:VEVENT
DTSTART;TZID=Europe/Vienna:20190312T163000
DTEND;TZID=Europe/Vienna:20190312T181500
DTSTAMP:20260420T063347
CREATED:20190220T213449Z
LAST-MODIFIED:20190220T213449Z
UID:2526-1552408200-1552414500@www.rosinka.at
SUMMARY:ЗОЛОТОЙ КЛЮЧИК (8-10)
DESCRIPTION:
URL:https://www.rosinka.at/event/%d0%b7%d0%be%d0%bb%d0%be%d1%82%d0%be%d0%b9-%d0%ba%d0%bb%d1%8e%d1%87%d0%b8%d0%ba-8-10-3/
END:VEVENT
BEGIN:VEVENT
DTSTART;TZID=Europe/Vienna:20190313T150000
DTEND;TZID=Europe/Vienna:20190313T160000
DTSTAMP:20260420T063347
CREATED:20190220T213522Z
LAST-MODIFIED:20190220T213522Z
UID:2528-1552489200-1552492800@www.rosinka.at
SUMMARY:СТУДИЯ ДИЗАЙНА
DESCRIPTION:
URL:https://www.rosinka.at/event/%d1%81%d1%82%d1%83%d0%b4%d0%b8%d1%8f-%d0%b4%d0%b8%d0%b7%d0%b0%d0%b9%d0%bd%d0%b0-3/
END:VEVENT
BEGIN:VEVENT
DTSTART;TZID=Europe/Vienna:20190313T160000
DTEND;TZID=Europe/Vienna:20190313T170000
DTSTAMP:20260420T063347
CREATED:20190220T213545Z
LAST-MODIFIED:20190220T213545Z
UID:2530-1552492800-1552496400@www.rosinka.at
SUMMARY:ЯКОРЕК (4-5)
DESCRIPTION:
URL:https://www.rosinka.at/event/%d1%8f%d0%ba%d0%be%d1%80%d0%b5%d0%ba-4-5-3/
END:VEVENT
BEGIN:VEVENT
DTSTART;TZID=Europe/Vienna:20190313T163000
DTEND;TZID=Europe/Vienna:20190313T173000
DTSTAMP:20260420T063347
CREATED:20190220T213615Z
LAST-MODIFIED:20190227T214825Z
UID:2532-1552494600-1552498200@www.rosinka.at
SUMMARY:ТЕАТРАЛЬНЫЙ КРУЖОК (3-4)
DESCRIPTION:
URL:https://www.rosinka.at/event/%d1%82%d0%b5%d0%b0%d1%82%d1%80%d0%b0%d0%bb%d1%8c%d0%bd%d1%8b%d0%b9-%d0%ba%d1%80%d1%83%d0%b6%d0%be%d0%ba-3-4-3/
LOCATION:Alte Poststraße 134\, 8020 Graz\, Alte Poststraße 134\, Graz\, 8020\, Austria
END:VEVENT
BEGIN:VEVENT
DTSTART;TZID=Europe/Vienna:20190314T150000
DTEND;TZID=Europe/Vienna:20190314T163000
DTSTAMP:20260420T063347
CREATED:20190309T094719Z
LAST-MODIFIED:20190309T094719Z
UID:2732-1552575600-1552581000@www.rosinka.at
SUMMARY:ЖИВОПИСЬ (7-11)
DESCRIPTION:
URL:https://www.rosinka.at/event/%d0%b6%d0%b8%d0%b2%d0%be%d0%bf%d0%b8%d1%81%d1%8c-7-11-2/
END:VEVENT
BEGIN:VEVENT
DTSTART;TZID=Europe/Vienna:20190314T163000
DTEND;TZID=Europe/Vienna:20190314T181500
DTSTAMP:20260420T063347
CREATED:20190220T213645Z
LAST-MODIFIED:20190220T213645Z
UID:2534-1552581000-1552587300@www.rosinka.at
SUMMARY:ЗВЕЗДОЧЕТЫ (7-8)
DESCRIPTION:
URL:https://www.rosinka.at/event/%d0%b7%d0%b2%d0%b5%d0%b7%d0%b4%d0%be%d1%87%d0%b5%d1%82%d1%8b-7-8-3/
END:VEVENT
BEGIN:VEVENT
DTSTART;TZID=Europe/Vienna:20190314T164000
DTEND;TZID=Europe/Vienna:20190314T174000
DTSTAMP:20260420T063347
CREATED:20190309T094741Z
LAST-MODIFIED:20190309T094741Z
UID:2734-1552581600-1552585200@www.rosinka.at
SUMMARY:ЖИВОПИС (4-6)
DESCRIPTION:
URL:https://www.rosinka.at/event/%d0%b6%d0%b8%d0%b2%d0%be%d0%bf%d0%b8%d1%81%d1%8c-4-6-2/
END:VEVENT
BEGIN:VEVENT
DTSTART;TZID=Europe/Vienna:20190315T154500
DTEND;TZID=Europe/Vienna:20190315T173000
DTSTAMP:20260420T063347
CREATED:20190220T213719Z
LAST-MODIFIED:20190220T213719Z
UID:2536-1552664700-1552671000@www.rosinka.at
SUMMARY:ФАНТАЗЕРЫ (6-7)
DESCRIPTION:
URL:https://www.rosinka.at/event/%d1%84%d0%b0%d0%bd%d1%82%d0%b0%d0%b7%d0%b5%d1%80%d1%8b-6-7-3/
END:VEVENT
BEGIN:VEVENT
DTSTART;TZID=Europe/Vienna:20190316T113000
DTEND;TZID=Europe/Vienna:20190316T123000
DTSTAMP:20260420T063347
CREATED:20190220T213832Z
LAST-MODIFIED:20190220T213832Z
UID:2538-1552735800-1552739400@www.rosinka.at
SUMMARY:РОБОТОТЕХНИКА (7-10)
DESCRIPTION:
URL:https://www.rosinka.at/event/%d1%80%d0%be%d0%b1%d0%be%d1%82%d0%be%d1%82%d0%b5%d1%85%d0%bd%d0%b8%d0%ba%d0%b0-7-10-2/
END:VEVENT
BEGIN:VEVENT
DTSTART;TZID=Europe/Vienna:20190316T133000
DTEND;TZID=Europe/Vienna:20190316T150000
DTSTAMP:20260420T063347
CREATED:20190220T213902Z
LAST-MODIFIED:20190220T213902Z
UID:2540-1552743000-1552748400@www.rosinka.at
SUMMARY:РОБОТОТЕХНИКА (11+)
DESCRIPTION:
URL:https://www.rosinka.at/event/%d1%80%d0%be%d0%b1%d0%be%d1%82%d0%be%d1%82%d0%b5%d1%85%d0%bd%d0%b8%d0%ba%d0%b0-11-2/
END:VEVENT
BEGIN:VEVENT
DTSTART;TZID=Europe/Vienna:20190317T140000
DTEND;TZID=Europe/Vienna:20190317T150000
DTSTAMP:20260420T063347
CREATED:20190309T094226Z
LAST-MODIFIED:20190309T094226Z
UID:2726-1552831200-1552834800@www.rosinka.at
SUMMARY:СТУДИЯ ДИЗАЙНА
DESCRIPTION:
URL:https://www.rosinka.at/event/%d1%81%d1%82%d1%83%d0%b4%d0%b8%d1%8f-%d0%b4%d0%b8%d0%b7%d0%b0%d0%b9%d0%bd%d0%b0-9/
END:VEVENT
END:VCALENDAR