BEGIN:VCALENDAR
VERSION:2.0
PRODID:-//Rosinka - ECPv6.15.20//NONSGML v1.0//EN
CALSCALE:GREGORIAN
METHOD:PUBLISH
X-ORIGINAL-URL:https://www.rosinka.at
X-WR-CALDESC:Мероприятия для Rosinka
REFRESH-INTERVAL;VALUE=DURATION:PT1H
X-Robots-Tag:noindex
X-PUBLISHED-TTL:PT1H
BEGIN:VTIMEZONE
TZID:Europe/Vienna
BEGIN:DAYLIGHT
TZOFFSETFROM:+0100
TZOFFSETTO:+0200
TZNAME:CEST
DTSTART:20170326T010000
END:DAYLIGHT
BEGIN:STANDARD
TZOFFSETFROM:+0200
TZOFFSETTO:+0100
TZNAME:CET
DTSTART:20171029T010000
END:STANDARD
BEGIN:DAYLIGHT
TZOFFSETFROM:+0100
TZOFFSETTO:+0200
TZNAME:CEST
DTSTART:20180325T010000
END:DAYLIGHT
BEGIN:STANDARD
TZOFFSETFROM:+0200
TZOFFSETTO:+0100
TZNAME:CET
DTSTART:20181028T010000
END:STANDARD
BEGIN:DAYLIGHT
TZOFFSETFROM:+0100
TZOFFSETTO:+0200
TZNAME:CEST
DTSTART:20190331T010000
END:DAYLIGHT
BEGIN:STANDARD
TZOFFSETFROM:+0200
TZOFFSETTO:+0100
TZNAME:CET
DTSTART:20191027T010000
END:STANDARD
END:VTIMEZONE
BEGIN:VEVENT
DTSTART;TZID=Europe/Vienna:20180928T171500
DTEND;TZID=Europe/Vienna:20180928T183000
DTSTAMP:20260420T075520
CREATED:20180907T153155Z
LAST-MODIFIED:20180907T153155Z
UID:1997-1538154900-1538159400@www.rosinka.at
SUMMARY:РАДУГА
DESCRIPTION:
URL:https://www.rosinka.at/event/%d1%80%d0%b0%d0%b4%d1%83%d0%b3%d0%b0-32/
END:VEVENT
BEGIN:VEVENT
DTSTART;TZID=Europe/Vienna:20181002T163000
DTEND;TZID=Europe/Vienna:20181002T181500
DTSTAMP:20260420T075520
CREATED:20180907T083307Z
LAST-MODIFIED:20180907T083307Z
UID:1882-1538497800-1538504100@www.rosinka.at
SUMMARY:ЗОЛОТОЙ КЛЮЧИК
DESCRIPTION:
URL:https://www.rosinka.at/event/%d0%b7%d0%be%d0%bb%d0%be%d1%82%d0%be%d0%b9-%d0%ba%d0%bb%d1%8e%d1%87%d0%b8%d0%ba-35/
END:VEVENT
BEGIN:VEVENT
DTSTART;TZID=Europe/Vienna:20181003T160000
DTEND;TZID=Europe/Vienna:20181003T171500
DTSTAMP:20260420T075520
CREATED:20180926T140126Z
LAST-MODIFIED:20180926T140126Z
UID:2044-1538582400-1538586900@www.rosinka.at
SUMMARY:ЯКОРЕК
DESCRIPTION:
URL:https://www.rosinka.at/event/%d1%8f%d0%ba%d0%be%d1%80%d0%b5%d0%ba-21/
END:VEVENT
BEGIN:VEVENT
DTSTART;TZID=Europe/Vienna:20181004T163000
DTEND;TZID=Europe/Vienna:20181004T181500
DTSTAMP:20260420T075520
CREATED:20180907T090752Z
LAST-MODIFIED:20180907T090752Z
UID:1925-1538670600-1538676900@www.rosinka.at
SUMMARY:ЗВЕЗДОЧЕТЫ
DESCRIPTION:
URL:https://www.rosinka.at/event/%d0%b7%d0%b2%d0%b5%d0%b7%d0%b4%d0%be%d1%87%d0%b5%d1%82%d1%8b-34/
END:VEVENT
BEGIN:VEVENT
DTSTART;TZID=Europe/Vienna:20181005T154500
DTEND;TZID=Europe/Vienna:20181005T164500
DTSTAMP:20260420T075520
CREATED:20180907T093145Z
LAST-MODIFIED:20181001T132547Z
UID:1963-1538754300-1538757900@www.rosinka.at
SUMMARY:ФАНТАЗЕРЫ
DESCRIPTION:
URL:https://www.rosinka.at/event/%d0%ba%d0%be%d0%bb%d0%be%d0%ba%d0%be%d0%bb%d1%8c%d1%87%d0%b8%d0%ba-13/
END:VEVENT
BEGIN:VEVENT
DTSTART;TZID=Europe/Vienna:20181005T164500
DTEND;TZID=Europe/Vienna:20181005T174500
DTSTAMP:20260420T075520
CREATED:20180907T153225Z
LAST-MODIFIED:20181001T132458Z
UID:1999-1538757900-1538761500@www.rosinka.at
SUMMARY:РАДУГА
DESCRIPTION:
URL:https://www.rosinka.at/event/%d1%80%d0%b0%d0%b4%d1%83%d0%b3%d0%b0-33/
END:VEVENT
BEGIN:VEVENT
DTSTART;TZID=Europe/Vienna:20181009T160000
DTEND;TZID=Europe/Vienna:20181009T170000
DTSTAMP:20260420T075520
CREATED:20181005T054452Z
LAST-MODIFIED:20181016T192432Z
UID:2100-1539100800-1539104400@www.rosinka.at
SUMMARY:Первое пробное занятие группа 1\,5 - 3 года
DESCRIPTION:
URL:https://www.rosinka.at/event/%d0%bf%d0%b5%d1%80%d0%b2%d0%be%d0%b5-%d0%bf%d1%80%d0%be%d0%b1%d0%bd%d0%be%d0%b5-%d0%b7%d0%b0%d0%bd%d1%8f%d1%82%d0%b8%d0%b5-%d0%b3%d1%80%d1%83%d0%bf%d0%bf%d0%b0-15-3/
LOCATION:Jakoministrasse 15\, Jakoministrasse 15\, Graz\, 8010\, Austria
END:VEVENT
BEGIN:VEVENT
DTSTART;TZID=Europe/Vienna:20181009T163000
DTEND;TZID=Europe/Vienna:20181009T181500
DTSTAMP:20260420T075520
CREATED:20180907T083332Z
LAST-MODIFIED:20180907T083332Z
UID:1884-1539102600-1539108900@www.rosinka.at
SUMMARY:ЗОЛОТОЙ КЛЮЧИК
DESCRIPTION:
URL:https://www.rosinka.at/event/%d0%b7%d0%be%d0%bb%d0%be%d1%82%d0%be%d0%b9-%d0%ba%d0%bb%d1%8e%d1%87%d0%b8%d0%ba-36/
END:VEVENT
BEGIN:VEVENT
DTSTART;TZID=Europe/Vienna:20181010T160000
DTEND;TZID=Europe/Vienna:20181010T171500
DTSTAMP:20260420T075520
CREATED:20180926T140149Z
LAST-MODIFIED:20180926T140149Z
UID:2046-1539187200-1539191700@www.rosinka.at
SUMMARY:ЯКОРЕК
DESCRIPTION:
URL:https://www.rosinka.at/event/%d1%8f%d0%ba%d0%be%d1%80%d0%b5%d0%ba-22/
END:VEVENT
BEGIN:VEVENT
DTSTART;TZID=Europe/Vienna:20181011T144500
DTEND;TZID=Europe/Vienna:20181011T154500
DTSTAMP:20260420T075520
CREATED:20181005T054637Z
LAST-MODIFIED:20181016T192503Z
UID:2104-1539269100-1539272700@www.rosinka.at
SUMMARY:Первое пробное занятие группы 0 - 1\,5
DESCRIPTION:
URL:https://www.rosinka.at/event/%d0%bf%d0%b5%d1%80%d0%b2%d0%be%d0%b5-%d0%bf%d1%80%d0%be%d0%b1%d0%bd%d0%be%d0%b5-%d0%b7%d0%b0%d0%bd%d1%8f%d1%82%d0%b8%d0%b5-%d0%b3%d1%80%d1%83%d0%bf%d0%bf%d1%8b-0-15/
END:VEVENT
BEGIN:VEVENT
DTSTART;TZID=Europe/Vienna:20181011T163000
DTEND;TZID=Europe/Vienna:20181011T181500
DTSTAMP:20260420T075520
CREATED:20180907T090858Z
LAST-MODIFIED:20180907T090858Z
UID:1927-1539275400-1539281700@www.rosinka.at
SUMMARY:ЗВЕЗДОЧЕТЫ
DESCRIPTION:
URL:https://www.rosinka.at/event/%d0%b7%d0%b2%d0%b5%d0%b7%d0%b4%d0%be%d1%87%d0%b5%d1%82%d1%8b-35/
END:VEVENT
BEGIN:VEVENT
DTSTART;TZID=Europe/Vienna:20181012T154500
DTEND;TZID=Europe/Vienna:20181012T164500
DTSTAMP:20260420T075520
CREATED:20180907T093214Z
LAST-MODIFIED:20181001T132410Z
UID:1965-1539359100-1539362700@www.rosinka.at
SUMMARY:ФАНТАЗЕРЫ
DESCRIPTION:
URL:https://www.rosinka.at/event/%d0%ba%d0%be%d0%bb%d0%be%d0%ba%d0%be%d0%bb%d1%8c%d1%87%d0%b8%d0%ba-14/
END:VEVENT
BEGIN:VEVENT
DTSTART;TZID=Europe/Vienna:20181012T164500
DTEND;TZID=Europe/Vienna:20181012T174500
DTSTAMP:20260420T075520
CREATED:20180907T153247Z
LAST-MODIFIED:20181001T132331Z
UID:2001-1539362700-1539366300@www.rosinka.at
SUMMARY:РАДУГА
DESCRIPTION:
URL:https://www.rosinka.at/event/%d1%80%d0%b0%d0%b4%d1%83%d0%b3%d0%b0-34/
END:VEVENT
BEGIN:VEVENT
DTSTART;TZID=Europe/Vienna:20181016T160000
DTEND;TZID=Europe/Vienna:20181016T170000
DTSTAMP:20260420T075520
CREATED:20181016T191549Z
LAST-MODIFIED:20181016T192257Z
UID:2141-1539705600-1539709200@www.rosinka.at
SUMMARY:Группа 1\,5 - 3 года
DESCRIPTION:
URL:https://www.rosinka.at/event/%d0%b3%d1%80%d1%83%d0%bf%d0%bf%d0%b0-15-3-%d0%b3%d0%be%d0%b4%d0%b0/
LOCATION:Jakoministrasse 15\, Jakoministrasse 15\, Graz\, 8010\, Austria
END:VEVENT
BEGIN:VEVENT
DTSTART;TZID=Europe/Vienna:20181016T163000
DTEND;TZID=Europe/Vienna:20181016T181500
DTSTAMP:20260420T075520
CREATED:20180907T083400Z
LAST-MODIFIED:20180907T083400Z
UID:1886-1539707400-1539713700@www.rosinka.at
SUMMARY:ЗОЛОТОЙ КЛЮЧИК
DESCRIPTION:
URL:https://www.rosinka.at/event/%d0%b7%d0%be%d0%bb%d0%be%d1%82%d0%be%d0%b9-%d0%ba%d0%bb%d1%8e%d1%87%d0%b8%d0%ba-37/
END:VEVENT
BEGIN:VEVENT
DTSTART;TZID=Europe/Vienna:20181017T160000
DTEND;TZID=Europe/Vienna:20181017T171500
DTSTAMP:20260420T075520
CREATED:20180926T140217Z
LAST-MODIFIED:20180926T140217Z
UID:2048-1539792000-1539796500@www.rosinka.at
SUMMARY:ЯКОРЕК
DESCRIPTION:
URL:https://www.rosinka.at/event/%d1%8f%d0%ba%d0%be%d1%80%d0%b5%d0%ba-23/
END:VEVENT
BEGIN:VEVENT
DTSTART;TZID=Europe/Vienna:20181018T143000
DTEND;TZID=Europe/Vienna:20181018T153000
DTSTAMP:20260420T075520
CREATED:20181016T191622Z
LAST-MODIFIED:20181016T192338Z
UID:2143-1539873000-1539876600@www.rosinka.at
SUMMARY:Группа 0 - 1\,5 года
DESCRIPTION:
URL:https://www.rosinka.at/event/%d0%b3%d1%80%d1%83%d0%bf%d0%bf%d0%b0-0-15-%d0%b3%d0%be%d0%b4%d0%b0/
END:VEVENT
BEGIN:VEVENT
DTSTART;TZID=Europe/Vienna:20181018T163000
DTEND;TZID=Europe/Vienna:20181018T181500
DTSTAMP:20260420T075520
CREATED:20180907T090922Z
LAST-MODIFIED:20180907T090922Z
UID:1929-1539880200-1539886500@www.rosinka.at
SUMMARY:ЗВЕЗДОЧЕТЫ
DESCRIPTION:
URL:https://www.rosinka.at/event/%d0%b7%d0%b2%d0%b5%d0%b7%d0%b4%d0%be%d1%87%d0%b5%d1%82%d1%8b-36/
END:VEVENT
BEGIN:VEVENT
DTSTART;TZID=Europe/Vienna:20181019T154500
DTEND;TZID=Europe/Vienna:20181019T164500
DTSTAMP:20260420T075520
CREATED:20180907T093236Z
LAST-MODIFIED:20181001T132257Z
UID:1967-1539963900-1539967500@www.rosinka.at
SUMMARY:ФАНТАЗЕРЫ
DESCRIPTION:
URL:https://www.rosinka.at/event/%d0%ba%d0%be%d0%bb%d0%be%d0%ba%d0%be%d0%bb%d1%8c%d1%87%d0%b8%d0%ba-15/
END:VEVENT
BEGIN:VEVENT
DTSTART;TZID=Europe/Vienna:20181019T164500
DTEND;TZID=Europe/Vienna:20181019T174500
DTSTAMP:20260420T075520
CREATED:20180907T153309Z
LAST-MODIFIED:20181001T132227Z
UID:2003-1539967500-1539971100@www.rosinka.at
SUMMARY:РАДУГА
DESCRIPTION:
URL:https://www.rosinka.at/event/%d1%80%d0%b0%d0%b4%d1%83%d0%b3%d0%b0-35/
END:VEVENT
BEGIN:VEVENT
DTSTART;TZID=Europe/Vienna:20181022T100000
DTEND;TZID=Europe/Vienna:20181022T110000
DTSTAMP:20260420T075520
CREATED:20181016T191430Z
LAST-MODIFIED:20181016T191430Z
UID:2139-1540202400-1540206000@www.rosinka.at
SUMMARY:Первое пробное занятие группа 3-4 года
DESCRIPTION:
URL:https://www.rosinka.at/event/%d0%bf%d0%b5%d1%80%d0%b2%d0%be%d0%b5-%d0%bf%d1%80%d0%be%d0%b1%d0%bd%d0%be%d0%b5-%d0%b7%d0%b0%d0%bd%d1%8f%d1%82%d0%b8%d0%b5-%d0%b3%d1%80%d1%83%d0%bf%d0%bf%d0%b0-3-4-%d0%b3%d0%be%d0%b4%d0%b0/
END:VEVENT
BEGIN:VEVENT
DTSTART;TZID=Europe/Vienna:20181023T160000
DTEND;TZID=Europe/Vienna:20181023T170000
DTSTAMP:20260420T075520
CREATED:20181016T191707Z
LAST-MODIFIED:20181016T191707Z
UID:2145-1540310400-1540314000@www.rosinka.at
SUMMARY:Группа 1\,5 - 3 года
DESCRIPTION:
URL:https://www.rosinka.at/event/%d0%b3%d1%80%d1%83%d0%bf%d0%bf%d0%b0-15-3-%d0%b3%d0%be%d0%b4%d0%b0-2/
LOCATION:Jakoministrasse 15\, Jakoministrasse 15\, Graz\, 8010\, Austria
END:VEVENT
BEGIN:VEVENT
DTSTART;TZID=Europe/Vienna:20181023T163000
DTEND;TZID=Europe/Vienna:20181023T181500
DTSTAMP:20260420T075520
CREATED:20180907T083431Z
LAST-MODIFIED:20180907T083431Z
UID:1888-1540312200-1540318500@www.rosinka.at
SUMMARY:ЗОЛОТОЙ КЛЮЧИК
DESCRIPTION:
URL:https://www.rosinka.at/event/%d0%b7%d0%be%d0%bb%d0%be%d1%82%d0%be%d0%b9-%d0%ba%d0%bb%d1%8e%d1%87%d0%b8%d0%ba-38/
END:VEVENT
BEGIN:VEVENT
DTSTART;TZID=Europe/Vienna:20181024T160000
DTEND;TZID=Europe/Vienna:20181024T171500
DTSTAMP:20260420T075520
CREATED:20180926T140239Z
LAST-MODIFIED:20180926T140239Z
UID:2050-1540396800-1540401300@www.rosinka.at
SUMMARY:ЯКОРЕК
DESCRIPTION:
URL:https://www.rosinka.at/event/%d1%8f%d0%ba%d0%be%d1%80%d0%b5%d0%ba-24/
END:VEVENT
BEGIN:VEVENT
DTSTART;TZID=Europe/Vienna:20181025T144500
DTEND;TZID=Europe/Vienna:20181025T154500
DTSTAMP:20260420T075520
CREATED:20181016T191738Z
LAST-MODIFIED:20181023T144654Z
UID:2147-1540478700-1540482300@www.rosinka.at
SUMMARY:Группа 0 - 1\,5 года
DESCRIPTION:
URL:https://www.rosinka.at/event/%d0%b3%d1%80%d1%83%d0%bf%d0%bf%d0%b0-0-15-%d0%b3%d0%be%d0%b4%d0%b0-2/
END:VEVENT
BEGIN:VEVENT
DTSTART;TZID=Europe/Vienna:20181025T163000
DTEND;TZID=Europe/Vienna:20181025T181500
DTSTAMP:20260420T075520
CREATED:20180907T090952Z
LAST-MODIFIED:20180907T090952Z
UID:1931-1540485000-1540491300@www.rosinka.at
SUMMARY:ЗВЕЗДОЧЕТЫ
DESCRIPTION:
URL:https://www.rosinka.at/event/%d0%b7%d0%b2%d0%b5%d0%b7%d0%b4%d0%be%d1%87%d0%b5%d1%82%d1%8b-37/
END:VEVENT
BEGIN:VEVENT
DTSTART;VALUE=DATE:20181026
DTEND;VALUE=DATE:20181027
DTSTAMP:20260420T075520
CREATED:20180907T075434Z
LAST-MODIFIED:20180907T081213Z
UID:1847-1540512000-1540598399@www.rosinka.at
SUMMARY:НЕУЧЕБНЫЙ ДЕНЬ
DESCRIPTION:
URL:https://www.rosinka.at/event/%d0%b3%d0%be%d1%81%d1%83%d0%b4%d0%b0%d1%80%d1%81%d1%82%d0%b2%d0%b5%d0%bd%d0%bd%d1%8b%d0%b9-%d0%bf%d1%80%d0%b0%d0%b7%d0%b4%d0%bd%d0%b8%d0%ba/
END:VEVENT
BEGIN:VEVENT
DTSTART;VALUE=DATE:20181029
DTEND;VALUE=DATE:20181101
DTSTAMP:20260420T075520
CREATED:20180911T191836Z
LAST-MODIFIED:20180911T191836Z
UID:2035-1540771200-1541030399@www.rosinka.at
SUMMARY:НЕУЧЕБНЫЙ ДЕНЬ
DESCRIPTION:
URL:https://www.rosinka.at/event/%d0%bd%d0%b5%d1%83%d1%87%d0%b5%d0%b1%d0%bd%d1%8b%d0%b9-%d0%b4%d0%b5%d0%bd%d1%8c-8/
END:VEVENT
BEGIN:VEVENT
DTSTART;VALUE=DATE:20181101
DTEND;VALUE=DATE:20181103
DTSTAMP:20260420T075520
CREATED:20180907T075546Z
LAST-MODIFIED:20180907T081156Z
UID:1849-1541030400-1541203199@www.rosinka.at
SUMMARY:НЕУЧЕБНЫЙ ДЕНЬ
DESCRIPTION:
URL:https://www.rosinka.at/event/%d0%b3%d0%be%d1%81%d1%83%d0%b4%d0%b0%d1%80%d1%81%d1%82%d0%b2%d0%b5%d0%bd%d0%bd%d1%8b%d0%b9-%d0%bf%d1%80%d0%b0%d0%b7%d0%b4%d0%bd%d0%b8%d0%ba-2/
END:VEVENT
BEGIN:VEVENT
DTSTART;TZID=Europe/Vienna:20181105T100000
DTEND;TZID=Europe/Vienna:20181105T110000
DTSTAMP:20260420T075520
CREATED:20181106T093049Z
LAST-MODIFIED:20181106T093049Z
UID:2202-1541412000-1541415600@www.rosinka.at
SUMMARY:Группа 3 - 4 года
DESCRIPTION:
URL:https://www.rosinka.at/event/%d0%b3%d1%80%d1%83%d0%bf%d0%bf%d0%b0-3-4-%d0%b3%d0%be%d0%b4%d0%b0/
END:VEVENT
END:VCALENDAR