BEGIN:VCALENDAR
VERSION:2.0
PRODID:-//Rosinka - ECPv6.15.20//NONSGML v1.0//EN
CALSCALE:GREGORIAN
METHOD:PUBLISH
X-ORIGINAL-URL:https://www.rosinka.at
X-WR-CALDESC:Мероприятия для Rosinka
REFRESH-INTERVAL;VALUE=DURATION:PT1H
X-Robots-Tag:noindex
X-PUBLISHED-TTL:PT1H
BEGIN:VTIMEZONE
TZID:Europe/Vienna
BEGIN:DAYLIGHT
TZOFFSETFROM:+0100
TZOFFSETTO:+0200
TZNAME:CEST
DTSTART:20170326T010000
END:DAYLIGHT
BEGIN:STANDARD
TZOFFSETFROM:+0200
TZOFFSETTO:+0100
TZNAME:CET
DTSTART:20171029T010000
END:STANDARD
BEGIN:DAYLIGHT
TZOFFSETFROM:+0100
TZOFFSETTO:+0200
TZNAME:CEST
DTSTART:20180325T010000
END:DAYLIGHT
BEGIN:STANDARD
TZOFFSETFROM:+0200
TZOFFSETTO:+0100
TZNAME:CET
DTSTART:20181028T010000
END:STANDARD
BEGIN:DAYLIGHT
TZOFFSETFROM:+0100
TZOFFSETTO:+0200
TZNAME:CEST
DTSTART:20190331T010000
END:DAYLIGHT
BEGIN:STANDARD
TZOFFSETFROM:+0200
TZOFFSETTO:+0100
TZNAME:CET
DTSTART:20191027T010000
END:STANDARD
END:VTIMEZONE
BEGIN:VEVENT
DTSTART;VALUE=DATE:20180531
DTEND;VALUE=DATE:20180602
DTSTAMP:20260420T051701
CREATED:20180206T095915Z
LAST-MODIFIED:20180206T095915Z
UID:1672-1527724800-1527897599@www.rosinka.at
SUMMARY:НЕУЧЕБНЫЙ ДЕНЬ
DESCRIPTION:
URL:https://www.rosinka.at/event/%d0%bd%d0%b5%d1%83%d1%87%d0%b5%d0%b1%d0%bd%d1%8b%d0%b9-%d0%b4%d0%b5%d0%bd%d1%8c-7/
END:VEVENT
BEGIN:VEVENT
DTSTART;TZID=Europe/Vienna:20180530T163000
DTEND;TZID=Europe/Vienna:20180530T174500
DTSTAMP:20260420T051701
CREATED:20180206T095850Z
LAST-MODIFIED:20180206T095850Z
UID:1670-1527697800-1527702300@www.rosinka.at
SUMMARY:Якорек
DESCRIPTION:
URL:https://www.rosinka.at/event/%d1%8f%d0%ba%d0%be%d1%80%d0%b5%d0%ba-14/
END:VEVENT
BEGIN:VEVENT
DTSTART;TZID=Europe/Vienna:20180529T163000
DTEND;TZID=Europe/Vienna:20180529T181500
DTSTAMP:20260420T051701
CREATED:20180206T095823Z
LAST-MODIFIED:20180206T095823Z
UID:1668-1527611400-1527617700@www.rosinka.at
SUMMARY:Золотой Ключик
DESCRIPTION:
URL:https://www.rosinka.at/event/%d0%b7%d0%be%d0%bb%d0%be%d1%82%d0%be%d0%b9-%d0%ba%d0%bb%d1%8e%d1%87%d0%b8%d0%ba-28/
END:VEVENT
BEGIN:VEVENT
DTSTART;TZID=Europe/Vienna:20180525T171500
DTEND;TZID=Europe/Vienna:20180525T183000
DTSTAMP:20260420T051701
CREATED:20180206T095753Z
LAST-MODIFIED:20180416T071739Z
UID:1666-1527268500-1527273000@www.rosinka.at
SUMMARY:Радуга
DESCRIPTION:
URL:https://www.rosinka.at/event/%d1%80%d0%b0%d0%b4%d1%83%d0%b3%d0%b0-26/
END:VEVENT
BEGIN:VEVENT
DTSTART;TZID=Europe/Vienna:20180525T161500
DTEND;TZID=Europe/Vienna:20180525T171500
DTSTAMP:20260420T051701
CREATED:20180416T070920Z
LAST-MODIFIED:20180416T070920Z
UID:1767-1527264900-1527268500@www.rosinka.at
SUMMARY:Колокольчик
DESCRIPTION:
URL:https://www.rosinka.at/event/%d0%ba%d0%be%d0%bb%d0%be%d0%ba%d0%be%d0%bb%d1%8c%d1%87%d0%b8%d0%ba-7/
END:VEVENT
BEGIN:VEVENT
DTSTART;TZID=Europe/Vienna:20180524T163000
DTEND;TZID=Europe/Vienna:20180524T181500
DTSTAMP:20260420T051701
CREATED:20180206T095731Z
LAST-MODIFIED:20180206T095731Z
UID:1664-1527179400-1527185700@www.rosinka.at
SUMMARY:Звездочеты
DESCRIPTION:
URL:https://www.rosinka.at/event/%d0%b7%d0%b2%d0%b5%d0%b7%d0%b4%d0%be%d1%87%d0%b5%d1%82%d1%8b-27/
END:VEVENT
BEGIN:VEVENT
DTSTART;TZID=Europe/Vienna:20180523T163000
DTEND;TZID=Europe/Vienna:20180523T174500
DTSTAMP:20260420T051701
CREATED:20180206T095709Z
LAST-MODIFIED:20180206T095709Z
UID:1662-1527093000-1527097500@www.rosinka.at
SUMMARY:Якорек
DESCRIPTION:
URL:https://www.rosinka.at/event/%d1%8f%d0%ba%d0%be%d1%80%d0%b5%d0%ba-13/
END:VEVENT
BEGIN:VEVENT
DTSTART;VALUE=DATE:20180522
DTEND;VALUE=DATE:20180523
DTSTAMP:20260420T051701
CREATED:20180206T095645Z
LAST-MODIFIED:20180206T095645Z
UID:1660-1526947200-1527033599@www.rosinka.at
SUMMARY:НЕУЧЕБНЫЙ ДЕНЬ
DESCRIPTION:
URL:https://www.rosinka.at/event/%d0%bd%d0%b5%d1%83%d1%87%d0%b5%d0%b1%d0%bd%d1%8b%d0%b9-%d0%b4%d0%b5%d0%bd%d1%8c-6/
END:VEVENT
BEGIN:VEVENT
DTSTART;TZID=Europe/Vienna:20180518T171500
DTEND;TZID=Europe/Vienna:20180518T183000
DTSTAMP:20260420T051701
CREATED:20180206T095516Z
LAST-MODIFIED:20180416T071706Z
UID:1658-1526663700-1526668200@www.rosinka.at
SUMMARY:Радуга
DESCRIPTION:
URL:https://www.rosinka.at/event/%d1%80%d0%b0%d0%b4%d1%83%d0%b3%d0%b0-25/
END:VEVENT
BEGIN:VEVENT
DTSTART;TZID=Europe/Vienna:20180518T161500
DTEND;TZID=Europe/Vienna:20180518T171500
DTSTAMP:20260420T051701
CREATED:20180416T070754Z
LAST-MODIFIED:20180416T070754Z
UID:1765-1526660100-1526663700@www.rosinka.at
SUMMARY:Колокольчик
DESCRIPTION:
URL:https://www.rosinka.at/event/%d0%ba%d0%be%d0%bb%d0%be%d0%ba%d0%be%d0%bb%d1%8c%d1%87%d0%b8%d0%ba-6/
END:VEVENT
BEGIN:VEVENT
DTSTART;TZID=Europe/Vienna:20180517T163000
DTEND;TZID=Europe/Vienna:20180517T181500
DTSTAMP:20260420T051701
CREATED:20180206T095443Z
LAST-MODIFIED:20180206T095443Z
UID:1656-1526574600-1526580900@www.rosinka.at
SUMMARY:Звездочеты
DESCRIPTION:
URL:https://www.rosinka.at/event/%d0%b7%d0%b2%d0%b5%d0%b7%d0%b4%d0%be%d1%87%d0%b5%d1%82%d1%8b-26/
END:VEVENT
BEGIN:VEVENT
DTSTART;TZID=Europe/Vienna:20180516T163000
DTEND;TZID=Europe/Vienna:20180516T174500
DTSTAMP:20260420T051701
CREATED:20180206T095417Z
LAST-MODIFIED:20180206T095417Z
UID:1654-1526488200-1526492700@www.rosinka.at
SUMMARY:Якорек
DESCRIPTION:
URL:https://www.rosinka.at/event/%d1%8f%d0%ba%d0%be%d1%80%d0%b5%d0%ba-12/
END:VEVENT
BEGIN:VEVENT
DTSTART;TZID=Europe/Vienna:20180515T163000
DTEND;TZID=Europe/Vienna:20180515T181500
DTSTAMP:20260420T051701
CREATED:20180206T095343Z
LAST-MODIFIED:20180206T095343Z
UID:1652-1526401800-1526408100@www.rosinka.at
SUMMARY:Золотой Ключик
DESCRIPTION:
URL:https://www.rosinka.at/event/%d0%b7%d0%be%d0%bb%d0%be%d1%82%d0%be%d0%b9-%d0%ba%d0%bb%d1%8e%d1%87%d0%b8%d0%ba-27/
END:VEVENT
BEGIN:VEVENT
DTSTART;VALUE=DATE:20180510
DTEND;VALUE=DATE:20180512
DTSTAMP:20260420T051701
CREATED:20180206T095254Z
LAST-MODIFIED:20180206T095254Z
UID:1650-1525910400-1526083199@www.rosinka.at
SUMMARY:НЕУЧЕБНЫЙ ДЕНЬ
DESCRIPTION:
URL:https://www.rosinka.at/event/%d0%bd%d0%b5%d1%83%d1%87%d0%b5%d0%b1%d0%bd%d1%8b%d0%b9-%d0%b4%d0%b5%d0%bd%d1%8c-5/
END:VEVENT
BEGIN:VEVENT
DTSTART;TZID=Europe/Vienna:20180509T163000
DTEND;TZID=Europe/Vienna:20180509T174500
DTSTAMP:20260420T051701
CREATED:20180206T095230Z
LAST-MODIFIED:20180206T100905Z
UID:1648-1525883400-1525887900@www.rosinka.at
SUMMARY:Якорек
DESCRIPTION:
URL:https://www.rosinka.at/event/%d1%8f%d0%ba%d0%be%d1%80%d0%b5%d0%ba-11/
END:VEVENT
BEGIN:VEVENT
DTSTART;TZID=Europe/Vienna:20180508T163000
DTEND;TZID=Europe/Vienna:20180508T181500
DTSTAMP:20260420T051701
CREATED:20180206T095205Z
LAST-MODIFIED:20180206T095205Z
UID:1646-1525797000-1525803300@www.rosinka.at
SUMMARY:Золотой Ключик
DESCRIPTION:
URL:https://www.rosinka.at/event/%d0%b7%d0%be%d0%bb%d0%be%d1%82%d0%be%d0%b9-%d0%ba%d0%bb%d1%8e%d1%87%d0%b8%d0%ba-26/
END:VEVENT
BEGIN:VEVENT
DTSTART;TZID=Europe/Vienna:20180504T171500
DTEND;TZID=Europe/Vienna:20180504T183000
DTSTAMP:20260420T051701
CREATED:20180206T095116Z
LAST-MODIFIED:20180416T071618Z
UID:1644-1525454100-1525458600@www.rosinka.at
SUMMARY:Радуга
DESCRIPTION:
URL:https://www.rosinka.at/event/%d1%80%d0%b0%d0%b4%d1%83%d0%b3%d0%b0-24/
END:VEVENT
BEGIN:VEVENT
DTSTART;TZID=Europe/Vienna:20180504T161500
DTEND;TZID=Europe/Vienna:20180504T171500
DTSTAMP:20260420T051701
CREATED:20180416T070053Z
LAST-MODIFIED:20180416T070053Z
UID:1760-1525450500-1525454100@www.rosinka.at
SUMMARY:Колокольчик
DESCRIPTION:
URL:https://www.rosinka.at/event/%d0%ba%d0%be%d0%bb%d0%be%d0%ba%d0%be%d0%bb%d1%8c%d1%87%d0%b8%d0%ba-5/
END:VEVENT
BEGIN:VEVENT
DTSTART;TZID=Europe/Vienna:20180503T163000
DTEND;TZID=Europe/Vienna:20180503T181500
DTSTAMP:20260420T051701
CREATED:20180206T095047Z
LAST-MODIFIED:20180206T095047Z
UID:1642-1525365000-1525371300@www.rosinka.at
SUMMARY:Звездочеты
DESCRIPTION:
URL:https://www.rosinka.at/event/%d0%b7%d0%b2%d0%b5%d0%b7%d0%b4%d0%be%d1%87%d0%b5%d1%82%d1%8b-25/
END:VEVENT
BEGIN:VEVENT
DTSTART;TZID=Europe/Vienna:20180502T163000
DTEND;TZID=Europe/Vienna:20180502T174500
DTSTAMP:20260420T051701
CREATED:20180206T095023Z
LAST-MODIFIED:20180206T095023Z
UID:1640-1525278600-1525283100@www.rosinka.at
SUMMARY:Якорек
DESCRIPTION:
URL:https://www.rosinka.at/event/%d1%8f%d0%ba%d0%be%d1%80%d0%b5%d0%ba-10/
END:VEVENT
BEGIN:VEVENT
DTSTART;VALUE=DATE:20180501
DTEND;VALUE=DATE:20180502
DTSTAMP:20260420T051701
CREATED:20180206T094947Z
LAST-MODIFIED:20180206T094947Z
UID:1638-1525132800-1525219199@www.rosinka.at
SUMMARY:НЕУЧЕБНЫЙ ДЕНЬ
DESCRIPTION:
URL:https://www.rosinka.at/event/%d0%bd%d0%b5%d1%83%d1%87%d0%b5%d0%b1%d0%bd%d1%8b%d0%b9-%d0%b4%d0%b5%d0%bd%d1%8c-4/
END:VEVENT
BEGIN:VEVENT
DTSTART;TZID=Europe/Vienna:20180427T171500
DTEND;TZID=Europe/Vienna:20180427T183000
DTSTAMP:20260420T051701
CREATED:20180206T094748Z
LAST-MODIFIED:20180416T071546Z
UID:1636-1524849300-1524853800@www.rosinka.at
SUMMARY:Радуга
DESCRIPTION:
URL:https://www.rosinka.at/event/%d1%80%d0%b0%d0%b4%d1%83%d0%b3%d0%b0-23/
END:VEVENT
BEGIN:VEVENT
DTSTART;TZID=Europe/Vienna:20180427T161500
DTEND;TZID=Europe/Vienna:20180427T171500
DTSTAMP:20260420T051701
CREATED:20180416T065946Z
LAST-MODIFIED:20180416T065946Z
UID:1758-1524845700-1524849300@www.rosinka.at
SUMMARY:Колокольчик
DESCRIPTION:
URL:https://www.rosinka.at/event/%d0%ba%d0%be%d0%bb%d0%be%d0%ba%d0%be%d0%bb%d1%8c%d1%87%d0%b8%d0%ba-4/
END:VEVENT
BEGIN:VEVENT
DTSTART;TZID=Europe/Vienna:20180426T163000
DTEND;TZID=Europe/Vienna:20180426T181500
DTSTAMP:20260420T051701
CREATED:20180206T094722Z
LAST-MODIFIED:20180206T094722Z
UID:1634-1524760200-1524766500@www.rosinka.at
SUMMARY:Звездочеты
DESCRIPTION:
URL:https://www.rosinka.at/event/%d0%b7%d0%b2%d0%b5%d0%b7%d0%b4%d0%be%d1%87%d0%b5%d1%82%d1%8b-24/
END:VEVENT
BEGIN:VEVENT
DTSTART;TZID=Europe/Vienna:20180425T163000
DTEND;TZID=Europe/Vienna:20180425T174500
DTSTAMP:20260420T051701
CREATED:20180206T094653Z
LAST-MODIFIED:20180206T094653Z
UID:1632-1524673800-1524678300@www.rosinka.at
SUMMARY:Якорек
DESCRIPTION:
URL:https://www.rosinka.at/event/%d1%8f%d0%ba%d0%be%d1%80%d0%b5%d0%ba-9/
END:VEVENT
BEGIN:VEVENT
DTSTART;TZID=Europe/Vienna:20180424T163000
DTEND;TZID=Europe/Vienna:20180424T181500
DTSTAMP:20260420T051701
CREATED:20180206T094632Z
LAST-MODIFIED:20180206T094632Z
UID:1630-1524587400-1524593700@www.rosinka.at
SUMMARY:Золотой Ключик
DESCRIPTION:
URL:https://www.rosinka.at/event/%d0%b7%d0%be%d0%bb%d0%be%d1%82%d0%be%d0%b9-%d0%ba%d0%bb%d1%8e%d1%87%d0%b8%d0%ba-25/
END:VEVENT
BEGIN:VEVENT
DTSTART;TZID=Europe/Vienna:20180420T171500
DTEND;TZID=Europe/Vienna:20180420T183000
DTSTAMP:20260420T051701
CREATED:20180206T094608Z
LAST-MODIFIED:20180416T071509Z
UID:1628-1524244500-1524249000@www.rosinka.at
SUMMARY:Радуга
DESCRIPTION:
URL:https://www.rosinka.at/event/%d1%80%d0%b0%d0%b4%d1%83%d0%b3%d0%b0-22/
END:VEVENT
BEGIN:VEVENT
DTSTART;TZID=Europe/Vienna:20180420T161500
DTEND;TZID=Europe/Vienna:20180420T171500
DTSTAMP:20260420T051701
CREATED:20180416T065904Z
LAST-MODIFIED:20180416T065904Z
UID:1756-1524240900-1524244500@www.rosinka.at
SUMMARY:Колокольчик
DESCRIPTION:
URL:https://www.rosinka.at/event/%d0%ba%d0%be%d0%bb%d0%be%d0%ba%d0%be%d0%bb%d1%8c%d1%87%d0%b8%d0%ba-3/
END:VEVENT
BEGIN:VEVENT
DTSTART;TZID=Europe/Vienna:20180419T163000
DTEND;TZID=Europe/Vienna:20180419T181500
DTSTAMP:20260420T051701
CREATED:20180206T094547Z
LAST-MODIFIED:20180206T094547Z
UID:1626-1524155400-1524161700@www.rosinka.at
SUMMARY:Звездочеты
DESCRIPTION:
URL:https://www.rosinka.at/event/%d0%b7%d0%b2%d0%b5%d0%b7%d0%b4%d0%be%d1%87%d0%b5%d1%82%d1%8b-23/
END:VEVENT
BEGIN:VEVENT
DTSTART;TZID=Europe/Vienna:20180418T163000
DTEND;TZID=Europe/Vienna:20180418T174500
DTSTAMP:20260420T051701
CREATED:20180206T094517Z
LAST-MODIFIED:20180206T094517Z
UID:1624-1524069000-1524073500@www.rosinka.at
SUMMARY:Якорек
DESCRIPTION:
URL:https://www.rosinka.at/event/%d1%8f%d0%ba%d0%be%d1%80%d0%b5%d0%ba-8/
END:VEVENT
END:VCALENDAR